Back to Build/check report for BioC 3.23:   simplified   long
ABCDEFGHIJKLMNOPQ[R]STUVWXYZ

This page was generated on 2025-11-13 11:32 -0500 (Thu, 13 Nov 2025).

HostnameOSArch (*)R versionInstalled pkgs
kjohnson3macOS 13.7.7 Venturaarm64R Under development (unstable) (2025-11-04 r88984) -- "Unsuffered Consequences" 4013
Click on any hostname to see more info about the system (e.g. compilers)      (*) as reported by 'uname -p', except on Windows and Mac OS X

All results for package Rgraphviz


To the developers/maintainers of the Rgraphviz package:
- Allow up to 24 hours (and sometimes 48 hours) for your latest push to git@git.bioconductor.org:packages/Rgraphviz.git to reflect on this report. See Troubleshooting Build Report for more information.
- Use the following Renviron settings to reproduce errors and warnings.
- If 'R CMD check' started to fail recently on the Linux builder(s) over a missing dependency, add the missing dependency to 'Suggests:' in your DESCRIPTION file. See Renviron.bioc for more information.

raw results

Package 1757/2325HostnameOS / ArchINSTALLBUILDCHECKBUILD BIN
Rgraphviz 2.55.0  (landing page)
Kasper Daniel Hansen
Snapshot Date: 2025-11-12 13:40 -0500 (Wed, 12 Nov 2025)
git_url: https://git.bioconductor.org/packages/Rgraphviz
git_branch: devel
git_last_commit: 508dbe9
git_last_commit_date: 2025-10-29 09:42:22 -0500 (Wed, 29 Oct 2025)
kjohnson3macOS 13.7.7 Ventura / arm64  OK    OK    WARNINGS    OK  YES



Results for Bioconductor software packages that depend directly on package Rgraphviz

QUICK STATSOS / ArchINSTALLBUILDCHECKBUILD BIN
kjohnson3macOS 13.7.7 Ventura / arm64
0723
0921
01317
0021
Package 1/30HostnameOS / ArchINSTALLBUILDCHECKBUILD BIN
apComplex 2.77.0  (landing page)
Denise Scholtens
git_last_commit: c10f18a
git_last_commit_date: 2025-10-29 09:55:56 -0500
kjohnson3macOS 13.7.7 Ventura / arm64  OK    OK    OK    OK  YES
Package 2/30HostnameOS / ArchINSTALLBUILDCHECKBUILD BIN
biocGraph 1.73.0  (landing page)
Florian Hahne
git_last_commit: 68d8be3
git_last_commit_date: 2025-10-29 09:59:36 -0500
kjohnson3macOS 13.7.7 Ventura / arm64  OK    OK    OK    OK  YES
Package 3/30HostnameOS / ArchINSTALLBUILDCHECKBUILD BIN
BioMVCClass 1.79.0  (landing page)
Elizabeth Whalen
git_last_commit: 901e3c4
git_last_commit_date: 2025-10-29 09:58:24 -0500
kjohnson3macOS 13.7.7 Ventura / arm64  OK    OK    OK    OK  YES
Package 4/30HostnameOS / ArchINSTALLBUILDCHECKBUILD BIN
bnem 1.19.0  (landing page)
Martin Pirkl
git_last_commit: c656bcb
git_last_commit_date: 2025-10-29 11:04:57 -0500
kjohnson3macOS 13.7.7 Ventura / arm64  ERROR    ERROR  skippedskipped
Package 5/30HostnameOS / ArchINSTALLBUILDCHECKBUILD BIN
CellNOptR 1.57.0  (landing page)
Attila Gabor
git_last_commit: 1b9d01e
git_last_commit_date: 2025-10-29 10:09:33 -0500
kjohnson3macOS 13.7.7 Ventura / arm64  OK    OK    OK    OK  YES
Package 6/30HostnameOS / ArchINSTALLBUILDCHECKBUILD BIN
chimeraviz 1.37.0  (landing page)
Stian Lågstad
git_last_commit: 3490116
git_last_commit_date: 2025-10-29 10:35:50 -0500
kjohnson3macOS 13.7.7 Ventura / arm64  OK    OK    OK    OK  NO, package depends on 'GenomicRanges' which is only available as a source package that needs compilation
Package 7/30HostnameOS / ArchINSTALLBUILDCHECKBUILD BIN
CytoML 2.23.0  (landing page)
Mike Jiang
git_last_commit: 8f95dab
git_last_commit_date: 2025-10-29 10:33:02 -0500
kjohnson3macOS 13.7.7 Ventura / arm64  ERROR    ERROR  skippedskipped
Package 8/30HostnameOS / ArchINSTALLBUILDCHECKBUILD BIN
EnrichDO 1.5.0  (landing page)
Hongyu Fu
git_last_commit: cb44ad0
git_last_commit_date: 2025-10-29 11:31:56 -0500
kjohnson3macOS 13.7.7 Ventura / arm64  OK    OK    OK    OK  YES
Package 9/30HostnameOS / ArchINSTALLBUILDCHECKBUILD BIN
EnrichmentBrowser 2.41.0  (landing page)
Ludwig Geistlinger
git_last_commit: eb4505a
git_last_commit_date: 2025-10-29 10:21:30 -0500
kjohnson3macOS 13.7.7 Ventura / arm64  ERROR    ERROR  skippedskipped
Package 10/30HostnameOS / ArchINSTALLBUILDCHECKBUILD BIN
flowMerge 2.59.0  (landing page)
Greg Finak
git_last_commit: 07705b4
git_last_commit_date: 2025-10-29 10:03:02 -0500
kjohnson3macOS 13.7.7 Ventura / arm64  ERROR    ERROR  skippedskipped
Package 11/30HostnameOS / ArchINSTALLBUILDCHECKBUILD BIN
flowWorkspace 4.23.0  (landing page)
Greg Finak , Mike Jiang
git_last_commit: 824996d
git_last_commit_date: 2025-10-29 10:07:43 -0500
kjohnson3macOS 13.7.7 Ventura / arm64  ERROR    ERROR  skippedskipped
Package 12/30HostnameOS / ArchINSTALLBUILDCHECKBUILD BIN
GeneNetworkBuilder 1.53.0  (landing page)
Jianhong Ou
git_last_commit: 98b73cc
git_last_commit_date: 2025-10-29 10:11:49 -0500
kjohnson3macOS 13.7.7 Ventura / arm64  OK    OK    OK    OK  YES
Package 13/30HostnameOS / ArchINSTALLBUILDCHECKBUILD BIN
GOstats 2.77.0  (landing page)
Bioconductor Package Maintainer
git_last_commit: d09aa16
git_last_commit_date: 2025-10-29 09:55:01 -0500
kjohnson3macOS 13.7.7 Ventura / arm64  OK    OK    OK    OK  YES
Package 14/30HostnameOS / ArchINSTALLBUILDCHECKBUILD BIN
hyperdraw 1.63.0  (landing page)
Paul Murrell
git_last_commit: 5f06f53
git_last_commit_date: 2025-10-29 10:04:13 -0500
kjohnson3macOS 13.7.7 Ventura / arm64  OK    OK    OK    OK  YES
Package 15/30HostnameOS / ArchINSTALLBUILDCHECKBUILD BIN
KEGGgraph 1.71.0  (landing page)
Jitao David Zhang
git_last_commit: 09a8170
git_last_commit_date: 2025-10-29 10:02:08 -0500
kjohnson3macOS 13.7.7 Ventura / arm64  OK    OK    OK    OK  YES
Package 16/30HostnameOS / ArchINSTALLBUILDCHECKBUILD BIN
MineICA 1.51.0  (landing page)
Anne Biton
git_last_commit: b926f54
git_last_commit_date: 2025-10-29 10:13:40 -0500
kjohnson3macOS 13.7.7 Ventura / arm64  ERROR    ERROR  skippedskipped
Package 17/30HostnameOS / ArchINSTALLBUILDCHECKBUILD BIN
mirIntegrator 1.41.0  (landing page)
Diana Diaz
git_last_commit: 85fa48a
git_last_commit_date: 2025-10-29 10:26:26 -0500
kjohnson3macOS 13.7.7 Ventura / arm64  OK    OK    OK    OK  YES
Package 18/30HostnameOS / ArchINSTALLBUILDCHECKBUILD BIN
MIRit 1.7.1  (landing page)
Jacopo Ronchi
git_last_commit: a0208d2
git_last_commit_date: 2025-11-05 08:05:07 -0500
kjohnson3macOS 13.7.7 Ventura / arm64  ERROR    ERROR  skippedskipped
Package 19/30HostnameOS / ArchINSTALLBUILDCHECKBUILD BIN
mnem 1.27.0  (landing page)
Martin Pirkl
git_last_commit: 0fd323e
git_last_commit_date: 2025-10-29 10:52:33 -0500
kjohnson3macOS 13.7.7 Ventura / arm64  OK    OK    OK    OK  YES
Package 20/30HostnameOS / ArchINSTALLBUILDCHECKBUILD BIN
netresponse 1.71.0  (landing page)
Leo Lahti
git_last_commit: 8295054
git_last_commit_date: 2025-10-29 10:05:48 -0500
kjohnson3macOS 13.7.7 Ventura / arm64  OK    OK    OK    OK  YES
Package 21/30HostnameOS / ArchINSTALLBUILDCHECKBUILD BIN
ontoProc 2.5.0  (landing page)
Vincent Carey
git_last_commit: a09f239
git_last_commit_date: 2025-10-29 19:20:08 -0500
kjohnson3macOS 13.7.7 Ventura / arm64  OK    ERROR  skippedskipped
Package 22/30HostnameOS / ArchINSTALLBUILDCHECKBUILD BIN
paircompviz 1.49.0  (landing page)
Michal Burda
git_last_commit: 597b329
git_last_commit_date: 2025-10-29 10:15:14 -0500
kjohnson3macOS 13.7.7 Ventura / arm64  OK    OK    OK    OK  YES
Package 23/30HostnameOS / ArchINSTALLBUILDCHECKBUILD BIN
pathRender 1.79.0  (landing page)
Vince Carey
git_last_commit: d982243
git_last_commit_date: 2025-10-29 09:57:23 -0500
kjohnson3macOS 13.7.7 Ventura / arm64  OK    OK    OK    OK  YES
Package 24/30HostnameOS / ArchINSTALLBUILDCHECKBUILD BIN
pathview 1.51.0  (landing page)
Weijun Luo
git_last_commit: b31fe1e
git_last_commit_date: 2025-10-29 10:14:01 -0500
kjohnson3macOS 13.7.7 Ventura / arm64  OK    OK    WARNINGS    OK  YES
Package 25/30HostnameOS / ArchINSTALLBUILDCHECKBUILD BIN
Pigengene 1.37.0  (landing page)
Habil Zare
git_last_commit: b4e2edc
git_last_commit_date: 2025-10-29 10:32:29 -0500
kjohnson3macOS 13.7.7 Ventura / arm64  OK    OK    ERROR    OK  
Package 26/30HostnameOS / ArchINSTALLBUILDCHECKBUILD BIN
qpgraph 2.45.0  (landing page)
Robert Castelo
git_last_commit: eff82ca
git_last_commit_date: 2025-10-29 10:02:10 -0500
kjohnson3macOS 13.7.7 Ventura / arm64  OK    OK    OK    OK  NO, package depends on 'GenomicRanges' which is only available as a source package that needs compilation
Package 27/30HostnameOS / ArchINSTALLBUILDCHECKBUILD BIN
ROntoTools 2.39.0  (landing page)
Sorin Draghici
git_last_commit: 5a6e829
git_last_commit_date: 2025-10-29 10:14:20 -0500
kjohnson3macOS 13.7.7 Ventura / arm64  OK    OK    WARNINGS    OK  YES
Package 28/30HostnameOS / ArchINSTALLBUILDCHECKBUILD BIN
SGCP 1.11.0  (landing page)
Niloofar AghaieAbiane
git_last_commit: d3ffc3a
git_last_commit_date: 2025-10-29 11:20:24 -0500
kjohnson3macOS 13.7.7 Ventura / arm64  OK    ERROR  skippedskipped
Package 29/30HostnameOS / ArchINSTALLBUILDCHECKBUILD BIN
SplicingGraphs 1.51.1  (landing page)
H. Pagès
git_last_commit: 8abbef9
git_last_commit_date: 2025-11-02 12:50:45 -0500
kjohnson3macOS 13.7.7 Ventura / arm64  OK    OK    WARNINGS    OK  NO, package depends on 'GenomicAlignments' which is only available as a source package that needs compilation
Package 30/30HostnameOS / ArchINSTALLBUILDCHECKBUILD BIN
TRONCO 2.43.0  (landing page)
Luca De Sano
git_last_commit: 7420d7e
git_last_commit_date: 2025-10-29 10:23:30 -0500
kjohnson3macOS 13.7.7 Ventura / arm64  OK    OK    OK    OK  YES