| Back to Multiple platform build/check report for BioC 3.22: simplified long |
|
This page was generated on 2025-10-22 12:04 -0400 (Wed, 22 Oct 2025).
| Hostname | OS | Arch (*) | R version | Installed pkgs |
|---|---|---|---|---|
| nebbiolo2 | Linux (Ubuntu 24.04.3 LTS) | x86_64 | 4.5.1 Patched (2025-08-23 r88802) -- "Great Square Root" | 4890 |
| lconway | macOS 12.7.6 Monterey | x86_64 | 4.5.1 Patched (2025-09-10 r88807) -- "Great Square Root" | 4680 |
| kjohnson3 | macOS 13.7.7 Ventura | arm64 | 4.5.1 Patched (2025-09-10 r88807) -- "Great Square Root" | 4625 |
| taishan | Linux (openEuler 24.03 LTS) | aarch64 | 4.5.0 (2025-04-11) -- "How About a Twenty-Six" | 4642 |
| Click on any hostname to see more info about the system (e.g. compilers) (*) as reported by 'uname -p', except on Windows and Mac OS X | ||||
| Package 1505/2355 | Hostname | OS / Arch | INSTALL | BUILD | CHECK | BUILD BIN | ||||||||
| OncoSimulR 4.11.1 (landing page) Ramon Diaz-Uriarte
| nebbiolo2 | Linux (Ubuntu 24.04.3 LTS) / x86_64 | OK | OK | OK | |||||||||
| lconway | macOS 12.7.6 Monterey / x86_64 | OK | OK | OK | OK | |||||||||
| kjohnson3 | macOS 13.7.7 Ventura / arm64 | ... NOT SUPPORTED ... | ||||||||||||
| taishan | Linux (openEuler 24.03 LTS) / aarch64 | OK | OK | NA | ||||||||||
|
To the developers/maintainers of the OncoSimulR package: - Allow up to 24 hours (and sometimes 48 hours) for your latest push to git@git.bioconductor.org:packages/OncoSimulR.git to reflect on this report. See Troubleshooting Build Report for more information. - Use the following Renviron settings to reproduce errors and warnings. - If 'R CMD check' started to fail recently on the Linux builder(s) over a missing dependency, add the missing dependency to 'Suggests:' in your DESCRIPTION file. See Renviron.bioc for more information. |
| Package: OncoSimulR |
| Version: 4.11.1 |
| Command: /home/biocbuild/bbs-3.22-bioc/R/bin/R CMD check --install=check:OncoSimulR.install-out.txt --library=/home/biocbuild/bbs-3.22-bioc/R/site-library --timings OncoSimulR_4.11.1.tar.gz |
| StartedAt: 2025-10-22 02:52:46 -0400 (Wed, 22 Oct 2025) |
| EndedAt: 2025-10-22 02:59:00 -0400 (Wed, 22 Oct 2025) |
| EllapsedTime: 374.4 seconds |
| RetCode: 0 |
| Status: OK |
| CheckDir: OncoSimulR.Rcheck |
| Warnings: 0 |
##############################################################################
##############################################################################
###
### Running command:
###
### /home/biocbuild/bbs-3.22-bioc/R/bin/R CMD check --install=check:OncoSimulR.install-out.txt --library=/home/biocbuild/bbs-3.22-bioc/R/site-library --timings OncoSimulR_4.11.1.tar.gz
###
##############################################################################
##############################################################################
* using log directory ‘/home/biocbuild/bbs-3.22-bioc/meat/OncoSimulR.Rcheck’
* using R version 4.5.1 Patched (2025-08-23 r88802)
* using platform: x86_64-pc-linux-gnu
* R was compiled by
gcc (Ubuntu 13.3.0-6ubuntu2~24.04) 13.3.0
GNU Fortran (Ubuntu 13.3.0-6ubuntu2~24.04) 13.3.0
* running under: Ubuntu 24.04.3 LTS
* using session charset: UTF-8
* checking for file ‘OncoSimulR/DESCRIPTION’ ... OK
* checking extension type ... Package
* this is package ‘OncoSimulR’ version ‘4.11.1’
* checking package namespace information ... OK
* checking package dependencies ... OK
* checking if this is a source package ... OK
* checking if there is a namespace ... OK
* checking for hidden files and directories ... NOTE
Found the following hidden files and directories:
.BBSoptions
These were most likely included in error. See section ‘Package
structure’ in the ‘Writing R Extensions’ manual.
* checking for portable file names ... OK
* checking for sufficient/correct file permissions ... OK
* checking whether package ‘OncoSimulR’ can be installed ... OK
* used C compiler: ‘gcc (Ubuntu 13.3.0-6ubuntu2~24.04) 13.3.0’
* used C++ compiler: ‘g++ (Ubuntu 13.3.0-6ubuntu2~24.04) 13.3.0’
* checking installed package size ... INFO
installed size is 45.5Mb
sub-directories of 1Mb or more:
libs 43.7Mb
* checking package directory ... OK
* checking ‘build’ directory ... OK
* checking DESCRIPTION meta-information ... OK
* checking top-level files ... OK
* checking for left-over files ... OK
* checking index information ... OK
* checking package subdirectories ... OK
* checking code files for non-ASCII characters ... OK
* checking R files for syntax errors ... OK
* checking whether the package can be loaded ... OK
* checking whether the package can be loaded with stated dependencies ... OK
* checking whether the package can be unloaded cleanly ... OK
* checking whether the namespace can be loaded with stated dependencies ... OK
* checking whether the namespace can be unloaded cleanly ... OK
* checking loading without being on the library search path ... OK
* checking whether startup messages can be suppressed ... OK
* checking dependencies in R code ... OK
* checking S3 generic/method consistency ... OK
* checking replacement functions ... OK
* checking foreign function calls ... OK
* checking R code for possible problems ... OK
* checking Rd files ... OK
* checking Rd metadata ... OK
* checking Rd cross-references ... OK
* checking for missing documentation entries ... OK
* checking for code/documentation mismatches ... OK
* checking Rd \usage sections ... OK
* checking Rd contents ... OK
* checking for unstated dependencies in examples ... OK
* checking contents of ‘data’ directory ... OK
* checking data for non-ASCII characters ... OK
* checking data for ASCII and uncompressed saves ... OK
* checking line endings in C/C++/Fortran sources/headers ... OK
* checking line endings in Makefiles ... OK
* checking compilation flags in Makevars ... OK
* checking for GNU extensions in Makefiles ... OK
* checking for portable use of $(BLAS_LIBS) and $(LAPACK_LIBS) ... OK
* checking use of PKG_*FLAGS in Makefiles ... OK
* checking include directives in Makefiles ... OK
* checking compiled code ... NOTE
Note: information on .o files is not available
* checking files in ‘vignettes’ ... OK
* checking examples ... OK
* checking for unstated dependencies in ‘tests’ ... OK
* checking tests ...
Running ‘testthat.R’
OK
* checking for unstated dependencies in vignettes ... OK
* checking package vignettes ... OK
* checking re-building of vignette outputs ... OK
* checking PDF version of manual ... OK
* DONE
Status: 2 NOTEs
See
‘/home/biocbuild/bbs-3.22-bioc/meat/OncoSimulR.Rcheck/00check.log’
for details.
OncoSimulR.Rcheck/00install.out
############################################################################## ############################################################################## ### ### Running command: ### ### /home/biocbuild/bbs-3.22-bioc/R/bin/R CMD INSTALL OncoSimulR ### ############################################################################## ############################################################################## * installing to library ‘/home/biocbuild/bbs-3.22-bioc/R/site-library’ * installing *source* package ‘OncoSimulR’ ... ** this is package ‘OncoSimulR’ version ‘4.11.1’ ** using staged installation ** libs using C compiler: ‘gcc (Ubuntu 13.3.0-6ubuntu2~24.04) 13.3.0’ using C++ compiler: ‘g++ (Ubuntu 13.3.0-6ubuntu2~24.04) 13.3.0’ gcc -std=gnu2x -I"/home/biocbuild/bbs-3.22-bioc/R/include" -DNDEBUG -I'/home/biocbuild/bbs-3.22-bioc/R/site-library/Rcpp/include' -I/usr/local/include -fpic -g -O2 -Wall -Werror=format-security -c FitnessLandscape/gamma.c -o FitnessLandscape/gamma.o gcc -std=gnu2x -I"/home/biocbuild/bbs-3.22-bioc/R/include" -DNDEBUG -I'/home/biocbuild/bbs-3.22-bioc/R/site-library/Rcpp/include' -I/usr/local/include -fpic -g -O2 -Wall -Werror=format-security -c FitnessLandscape/landscape.c -o FitnessLandscape/landscape.o gcc -std=gnu2x -I"/home/biocbuild/bbs-3.22-bioc/R/include" -DNDEBUG -I'/home/biocbuild/bbs-3.22-bioc/R/site-library/Rcpp/include' -I/usr/local/include -fpic -g -O2 -Wall -Werror=format-security -c FitnessLandscape/random.c -o FitnessLandscape/random.o gcc -std=gnu2x -I"/home/biocbuild/bbs-3.22-bioc/R/include" -DNDEBUG -I'/home/biocbuild/bbs-3.22-bioc/R/site-library/Rcpp/include' -I/usr/local/include -fpic -g -O2 -Wall -Werror=format-security -c FitnessLandscape/sort.c -o FitnessLandscape/sort.o gcc -std=gnu2x -I"/home/biocbuild/bbs-3.22-bioc/R/include" -DNDEBUG -I'/home/biocbuild/bbs-3.22-bioc/R/site-library/Rcpp/include' -I/usr/local/include -fpic -g -O2 -Wall -Werror=format-security -c FitnessLandscape/chain.c -o FitnessLandscape/chain.o gcc -std=gnu2x -I"/home/biocbuild/bbs-3.22-bioc/R/include" -DNDEBUG -I'/home/biocbuild/bbs-3.22-bioc/R/site-library/Rcpp/include' -I/usr/local/include -fpic -g -O2 -Wall -Werror=format-security -c FitnessLandscape/input.c -o FitnessLandscape/input.o gcc -std=gnu2x -I"/home/biocbuild/bbs-3.22-bioc/R/include" -DNDEBUG -I'/home/biocbuild/bbs-3.22-bioc/R/site-library/Rcpp/include' -I/usr/local/include -fpic -g -O2 -Wall -Werror=format-security -c FitnessLandscape/genotypes.c -o FitnessLandscape/genotypes.o gcc -std=gnu2x -I"/home/biocbuild/bbs-3.22-bioc/R/include" -DNDEBUG -I'/home/biocbuild/bbs-3.22-bioc/R/site-library/Rcpp/include' -I/usr/local/include -fpic -g -O2 -Wall -Werror=format-security -c FitnessLandscape/ordered_pairs.c -o FitnessLandscape/ordered_pairs.o gcc -std=gnu2x -I"/home/biocbuild/bbs-3.22-bioc/R/include" -DNDEBUG -I'/home/biocbuild/bbs-3.22-bioc/R/site-library/Rcpp/include' -I/usr/local/include -fpic -g -O2 -Wall -Werror=format-security -c FitnessLandscape/calculus.c -o FitnessLandscape/calculus.o gcc -std=gnu2x -I"/home/biocbuild/bbs-3.22-bioc/R/include" -DNDEBUG -I'/home/biocbuild/bbs-3.22-bioc/R/site-library/Rcpp/include' -I/usr/local/include -fpic -g -O2 -Wall -Werror=format-security -c FitnessLandscape/vector.c -o FitnessLandscape/vector.o gcc -std=gnu2x -I"/home/biocbuild/bbs-3.22-bioc/R/include" -DNDEBUG -I'/home/biocbuild/bbs-3.22-bioc/R/site-library/Rcpp/include' -I/usr/local/include -fpic -g -O2 -Wall -Werror=format-security -c FitnessLandscape/generalized_chain.c -o FitnessLandscape/generalized_chain.o gcc -std=gnu2x -I"/home/biocbuild/bbs-3.22-bioc/R/include" -DNDEBUG -I'/home/biocbuild/bbs-3.22-bioc/R/site-library/Rcpp/include' -I/usr/local/include -fpic -g -O2 -Wall -Werror=format-security -c FitnessLandscape/LinearAlgebra.c -o FitnessLandscape/LinearAlgebra.o gcc -std=gnu2x -I"/home/biocbuild/bbs-3.22-bioc/R/include" -DNDEBUG -I'/home/biocbuild/bbs-3.22-bioc/R/site-library/Rcpp/include' -I/usr/local/include -fpic -g -O2 -Wall -Werror=format-security -c FitnessLandscape/summary_statistics.c -o FitnessLandscape/summary_statistics.o gcc -std=gnu2x -I"/home/biocbuild/bbs-3.22-bioc/R/include" -DNDEBUG -I'/home/biocbuild/bbs-3.22-bioc/R/site-library/Rcpp/include' -I/usr/local/include -fpic -g -O2 -Wall -Werror=format-security -c FitnessLandscape/epistasis_type.c -o FitnessLandscape/epistasis_type.o gcc -std=gnu2x -I"/home/biocbuild/bbs-3.22-bioc/R/include" -DNDEBUG -I'/home/biocbuild/bbs-3.22-bioc/R/site-library/Rcpp/include' -I/usr/local/include -fpic -g -O2 -Wall -Werror=format-security -c FitnessLandscape/decomposition.c -o FitnessLandscape/decomposition.o gcc -std=gnu2x -I"/home/biocbuild/bbs-3.22-bioc/R/include" -DNDEBUG -I'/home/biocbuild/bbs-3.22-bioc/R/site-library/Rcpp/include' -I/usr/local/include -fpic -g -O2 -Wall -Werror=format-security -c FitnessLandscape/models.c -o FitnessLandscape/models.o gcc -std=gnu2x -I"/home/biocbuild/bbs-3.22-bioc/R/include" -DNDEBUG -I'/home/biocbuild/bbs-3.22-bioc/R/site-library/Rcpp/include' -I/usr/local/include -fpic -g -O2 -Wall -Werror=format-security -c FitnessLandscape/verbose.c -o FitnessLandscape/verbose.o ar -r liblandscape.a FitnessLandscape/gamma.o FitnessLandscape/landscape.o FitnessLandscape/random.o FitnessLandscape/sort.o FitnessLandscape/chain.o FitnessLandscape/input.o FitnessLandscape/genotypes.o FitnessLandscape/ordered_pairs.o FitnessLandscape/calculus.o FitnessLandscape/vector.o FitnessLandscape/generalized_chain.o FitnessLandscape/LinearAlgebra.o FitnessLandscape/summary_statistics.o FitnessLandscape/epistasis_type.o FitnessLandscape/decomposition.o FitnessLandscape/models.o FitnessLandscape/verbose.o ; ar: creating liblandscape.a ranlib liblandscape.a; gcc -std=gnu2x -O -Wall -o fl_statistics -I/FitnessLandscape/. -L. FitnessLandscape/main_fl_statistics.c -llandscape -lm; gcc -std=gnu2x -O -Wall -o fl_generate -I/FitnessLandscape/. -L. FitnessLandscape/main_fl_generate.c -llandscape -lm; gcc -std=gnu2x -I"/home/biocbuild/bbs-3.22-bioc/R/include" -DNDEBUG -I'/home/biocbuild/bbs-3.22-bioc/R/site-library/Rcpp/include' -I/usr/local/include -fpic -g -O2 -Wall -Werror=format-security -c OncoSimulR_init.c -o OncoSimulR_init.o g++ -std=gnu++17 -I"/home/biocbuild/bbs-3.22-bioc/R/include" -DNDEBUG -I'/home/biocbuild/bbs-3.22-bioc/R/site-library/Rcpp/include' -I/usr/local/include -fpic -g -O2 -Wall -Werror=format-security -c RcppExports.cpp -o RcppExports.o g++ -std=gnu++17 -I"/home/biocbuild/bbs-3.22-bioc/R/include" -DNDEBUG -I'/home/biocbuild/bbs-3.22-bioc/R/site-library/Rcpp/include' -I/usr/local/include -fpic -g -O2 -Wall -Werror=format-security -c unity_osimul.cpp -o unity_osimul.o g++ -std=gnu++17 -shared -L/home/biocbuild/bbs-3.22-bioc/R/lib -L/usr/local/lib -o OncoSimulR.so OncoSimulR_init.o RcppExports.o unity_osimul.o -L/home/biocbuild/bbs-3.22-bioc/R/lib -lR installing via 'install.libs.R' to /home/biocbuild/bbs-3.22-bioc/R/site-library/00LOCK-OncoSimulR/00new/OncoSimulR [1] "" Installing fl_statistics fl_generate to /home/biocbuild/bbs-3.22-bioc/R/site-library/00LOCK-OncoSimulR/00new/OncoSimulR/exec Installing library OncoSimulR.so to /home/biocbuild/bbs-3.22-bioc/R/site-library/00LOCK-OncoSimulR/00new/OncoSimulR/libs ** R ** data ** inst ** byte-compile and prepare package for lazy loading ** help *** installing help indices ** building package indices ** installing vignettes ** testing if installed package can be loaded from temporary location ** checking absolute paths in shared objects and dynamic libraries ** testing if installed package can be loaded from final location ** testing if installed package keeps a record of temporary installation path * DONE (OncoSimulR)
OncoSimulR.Rcheck/tests/testthat.Rout
R version 4.5.1 Patched (2025-08-23 r88802) -- "Great Square Root"
Copyright (C) 2025 The R Foundation for Statistical Computing
Platform: x86_64-pc-linux-gnu
R is free software and comes with ABSOLUTELY NO WARRANTY.
You are welcome to redistribute it under certain conditions.
Type 'license()' or 'licence()' for distribution details.
R is a collaborative project with many contributors.
Type 'contributors()' for more information and
'citation()' on how to cite R or R packages in publications.
Type 'demo()' for some demos, 'help()' for on-line help, or
'help.start()' for an HTML browser interface to help.
Type 'q()' to quit R.
> library(testthat)
> library(OncoSimulR)
This is package OncoSimulR. If you are running it on an aarch64 (arm64) platform with a MacOS note that the package fails some tests in that platform + OS that I have no way of debugging. Please read file README_tests_kjohnson3_aarch64-apple-darwin20.txt in the tests directory. As of 2024-10-09, this platform is unsupported until we can properly debug it.
>
> test_check("OncoSimulR")
Starting FDF-letter-fitness-order Wed Oct 22 02:54:02 2025
exprtk parser error:
Error[00] Position: 00 Type: [ Syntax Error] Msg: ERR202 - Undefined symbol: 'n_2_3' Expression: n_2_3
exprtk parser error:
Error[00] Position: 00 Type: [ Syntax Error] Msg: ERR202 - Undefined symbol: 'f_2_3' Expression: f_2_3
Ending FDF-small-fitness-specs Wed Oct 22 02:54:03 2025
Took 0.42
Starting LOD_POM at Wed Oct 22 02:54:03 2025
Ending LOD_POM at Wed Oct 22 02:54:15 2025
Took 12.36
Starting test.Z-all-fitness at Wed Oct 22 02:54:15 2025
Ending test.Z-all-fitness at Wed Oct 22 02:54:15 2025
Took 0.09
Starting test.Z-driver-counts at Wed Oct 22 02:54:15 2025
Ending test.Z-driver-counts at Wed Oct 22 02:54:15 2025
Took 0.09
Starting test.Z-fixation at Wed Oct 22 02:54:15 2025
Ending test.Z-fixation at Wed Oct 22 02:54:16 2025
Took 0.2
Starting test.Z-magellan at Wed Oct 22 02:54:16 2025
Ended test.Z-magellan at Wed Oct 22 02:54:17 2025
Starting test.Z-mutator at Wed Oct 22 02:54:17 2025
Ending test.Z-mutator at Wed Oct 22 02:54:17 2025
Took 0.29
Starting test.Z-mutatorFDF at Wed Oct 22 02:54:17 2025
Ending test.Z-mutatorFDF at Wed Oct 22 02:54:17 2025
Took 0.1
Starting test.Z-oncoSimulIndiv at Wed Oct 22 02:54:17 2025
Ending test.Z-oncoSimulIndiv at Wed Oct 22 02:54:18 2025
Took 0.34
Starting test.Z-oncoSimulIndivConstant at Wed Oct 22 02:54:18 2025
Ending test.Z-oncoSimulIndivConstant at Wed Oct 22 02:54:20 2025
Took 2.18
Starting test.Z-oncoSimulIndivDeath at Wed Oct 22 02:54:20 2025
Ending test.Z-oncoSimulIndivDeath at Wed Oct 22 02:54:21 2025
Took 0.73
Starting test.Z-oncoSimulIndivFDF at Wed Oct 22 02:54:21 2025
Hitted wall time. Exiting.
Hitting wall time is regarded as an error.
Ending test.Z-oncoSimulIndivFDF at Wed Oct 22 02:54:22 2025
Took 0.8
Starting test.Z-rfitness-landscape at Wed Oct 22 02:54:22 2025
Ending test.Z-rfitness-landscape at Wed Oct 22 02:54:22 2025
Took 0.3
Starting Z-sample-only-last tests Wed Oct 22 02:54:22 2025
Ending Z-sample-only-last tests Wed Oct 22 02:54:22 2025
Took 0
Starting Z-total-present-drivers tests Wed Oct 22 02:54:22 2025
Ending Z-total-present-drivers tests Wed Oct 22 02:54:23 2025
Took 0.7
Dummy empty test Wed Oct 22 02:54:23 2025
Starting accessible_genotypes at Wed Oct 22 02:54:23 2025
Ending accessible_genotypes at Wed Oct 22 02:54:29 2025
Took 6.28
Starting all fitness at Wed Oct 22 02:54:29 2025
Ending all-fitness at Wed Oct 22 02:54:33 2025
Took 4.02
Starting test.allFitnessEffectsFDF at Wed Oct 22 02:54:33 2025
Ending test.allFitnessEffectsFDF at Wed Oct 22 02:54:33 2025
Took 0.15
Starting test.allFitnessEffectsDeath at Wed Oct 22 02:54:33 2025
Ending test.allFitnessEffectsDeath at Wed Oct 22 02:54:33 2025
Took 0.33
Starting test.allFitnessEffectsFDF at Wed Oct 22 02:54:33 2025
Ending test.allFitnessEffectsFDF at Wed Oct 22 02:54:34 2025
Took 0.33
Starting driverCounts at Wed Oct 22 02:54:34 2025
Ending driverCounts at Wed Oct 22 02:54:40 2025
Took 6.72
Starting epist-order-modules at Wed Oct 22 02:54:40 2025
Ending epist-order-modules at Wed Oct 22 02:54:40 2025
Took 0.04
Starting test.evaluatingGenotypesDeath at Wed Oct 22 02:54:40 2025
Ending test.evaluatingGenotypesDeath at Wed Oct 22 02:54:41 2025
Took 0.17
Starting test.evaluatingGenotypesFDF at Wed Oct 22 02:54:41 2025
Ending test.evaluatingGenotypesFDF at Wed Oct 22 02:54:41 2025
Took 0.18
Starting exercise-plotting-code at Wed Oct 22 02:54:41 2025
Ending exercise-plotting-code at Wed Oct 22 02:54:43 2025
Took 2.45
Starting exercise-rfitness at Wed Oct 22 02:54:43 2025
Ending exercise-rfitness at Wed Oct 22 02:54:52 2025
Took 8.56
Starting to_Magella at Wed Oct 22 02:54:52 2025
Ending to_Magella at Wed Oct 22 02:54:52 2025
Took 0.04
Starting fitness preds at Wed Oct 22 02:54:52 2025
Observed vs expected, case III
done tries 1
Ending fitness preds long at Wed Oct 22 02:54:57 2025
Took 4.69
Starting fixation at Wed Oct 22 02:54:57 2025
Ending fixation at Wed Oct 22 02:55:07 2025
Took 10.9
Starting test.flfast-additional.R test at Wed Oct 22 02:55:07 2025
Ending test.flfast-additional.R test at Wed Oct 22 02:55:09 2025
Took 1.15
Starting test.flfast-mutator.R test at Wed Oct 22 02:55:09 2025
Finished test.flfast-mutator.R test at Wed Oct 22 02:55:10 2025
Took 1.08
Starting genotFitness at Wed Oct 22 02:55:10 2025
Ending genotFitness at Wed Oct 22 02:55:10 2025
Took 0.19
Starting genot_fitness_to_epistasis at Wed Oct 22 02:55:10 2025
Ending genot_fitness_to_epistasis at Wed Oct 22 02:55:10 2025
Took 0.04
Starting init-mutant tests Wed Oct 22 02:55:10 2025
exprtk parser error:
Error[00] Position: 18 Type: [ Syntax Error] Msg: ERR202 - Undefined symbol: 'f_2' Expression: 1.1 + 0.7*((f_1 + f_2) > 0.3)
Ending init-mutant tests Wed Oct 22 02:55:15 2025
Took 5.11
Starting interventions tests Wed Oct 22 02:55:15 2025
[1] "Checking intervention: intOverA"
[1] "Checking intervention: intOverA"
[1] "Checking intervention: intOverA"
[1] "Checking intervention: intOverA"
[1] "Checking intervention: intOverMultiplicatesA"
In intervention:intOverMultiplicatesA with WhatHappens: n_1 = n_1 * 2. You cannot intervene to generate more population.[1] "Checking intervention: intOverA"
[1] "Checking intervention: intOverA"
[1] "Checking intervention: intOverTotPop"
[1] 0.61 0.61 0.61
[1] "Checking intervention: intOverTotPop"
[1] "Checking intervention: intOverA"
[1] "Checking intervention: intOverB"
[1] "Checking intervention: intOverC"
[1] "Checking intervention: intOverD"
Init Mutant with birth == 1.0
Init Mutant with birth == 1.0
[1] "Checking intervention: intOverA"
[1] "Checking intervention: intOverB"
[1] "Checking intervention: intOverC"
[1] "Checking intervention: intOverD"
Init Mutant with birth == 1.0
Init Mutant with birth == 1.0
[1] "Checking user variable: user_var_1"
[1] "Checking rule: rule_1"
[1] "Checking rule: rule_2"
[1] "Checking rule: rule_3"
[1] "Checking intervention: intOverTotPop"
[1] "Checking intervention: intOverTotPop2"
[1] "Checking intervention: intOverTotPop3"
[1] "Checking user variable: user_var_1"
[1] "Checking rule: rule_1"
[1] "Checking rule: rule_2"
[1] "Checking rule: rule_3"
[1] "Checking intervention: intOverTotPop"
Ending interventions tests Wed Oct 22 02:55:19 2025
Took 3.78
Starting test.magellan at Wed Oct 22 02:55:19 2025
Ending test.magellan at Wed Oct 22 02:55:19 2025
Took 0.16
Starting test.modules-root-no-root at Wed Oct 22 02:55:19 2025
Ending test.modules-root-no-root at Wed Oct 22 02:55:19 2025
Took 0.08
Starting at mutPropGrowth Wed Oct 22 02:55:19 2025
Ended test.mutPropGrowth: Wed Oct 22 02:55:25 2025
Took 5.49
Starting test.mutator-oncoSimulSample.R test at Wed Oct 22 02:55:25 2025
Finished test.mutator-oncoSimulSample.R test at Wed Oct 22 02:55:31 2025
Took 6.78 seconds
Starting test.mutator.R test at Wed Oct 22 02:55:31 2025[1] 3.464481e-09
[1] 1.360219e-10
Finished test.mutator.R test at Wed Oct 22 02:55:43 2025
Took 11.34
Starting test.mutatorFDF.R test at Wed Oct 22 02:55:43 2025
Starting oncoSimulIndiv-miscell tests Wed Oct 22 02:55:43 2025
Ending oncoSimulIndiv-miscell tests Wed Oct 22 02:55:47 2025
Took 4.02
Starting oncoSimulSample-failures tests Wed Oct 22 02:55:47 2025
Ending oncoSimulSample-failures tests Wed Oct 22 02:55:52 2025
Took 4.18
Starting oncoSimulSample-limits tests Wed Oct 22 02:55:52 2025
Ending oncoSimulSample-limits tests Wed Oct 22 02:55:52 2025
Took 0.11
Starting per-gene-mutation rates at Wed Oct 22 02:55:52 2025
Ending per-gene-mutation rates at Wed Oct 22 02:56:14 2025
Took 22.12
Starting plotFitnessLandscape at Wed Oct 22 02:56:14 2025
Ending plotFitnessLandscape at Wed Oct 22 02:56:17 2025
Took 3.06
Starting poset-transformations tests Wed Oct 22 02:56:17 2025
Ending poset-transformations tests Wed Oct 22 02:56:26 2025
Took 8.99
Starting sample-prob Wed Oct 22 02:56:26 2025
[1] 1.193932e-25
[1] 8.98466e-20
[1] 3.671443e-07
[1] 1.338696e-11
[1] 3.124902e-13
[1] 1.00372e-12
[1] 1.123127e-13
[1] 1.726239e-14
[1] 7.318873e-11
[1] 1.418102e-11
[1] 2.033686e-08
[1] 2.0701e-07
Ending sample-prob tests Wed Oct 22 02:56:31 2025
Took 5.42
Starting samplePop tests Wed Oct 22 02:56:31 2025
Ending samplePop tests Wed Oct 22 02:56:35 2025
Took 3.87
Starting simuls-runs-examples tests Wed Oct 22 02:56:35 2025
Ending simuls-runs-examples tests Wed Oct 22 02:56:38 2025
Took 2.85
Starting user variable tests Wed Oct 22 02:56:38 2025
[1] "Checking user variable: user_var_1"
[1] "Checking rule: rule_1"
Ending user variable tests Wed Oct 22 02:56:38 2025
Took 0.08
Starting warning-mutPropGrowth tests Wed Oct 22 02:56:38 2025
Ending warning-mutPropGrowth tests Wed Oct 22 02:56:38 2025
Took 0.3
Starting wide2long tests Wed Oct 22 02:56:38 2025
Ending wide2long tests Wed Oct 22 02:56:39 2025
Took 0.14
[ FAIL 0 | WARN 19 | SKIP 5 | PASS 8375 ]
══ Skipped tests (5) ═══════════════════════════════════════════════════════════
• empty test (5): 'test.FDF-letter-fitness-order.R:376:1',
'test.ZZ-dummy-skip-warn-test.R:8:1', 'test.ZZ-dummy-skip-warn-test.R:12:1',
'test.fixation.R:4:1', 'test.init-mutant.R:1099:1'
[ FAIL 0 | WARN 19 | SKIP 5 | PASS 8375 ]
>
> proc.time()
user system elapsed
174.422 31.043 160.529
OncoSimulR.Rcheck/OncoSimulR-Ex.timings
| name | user | system | elapsed | |
| OncoSimulWide2Long | 0.127 | 0.000 | 0.130 | |
| POM | 0.580 | 0.049 | 0.463 | |
| allFitnessEffects | 2.003 | 0.048 | 2.055 | |
| benchmarks | 0.005 | 0.002 | 0.007 | |
| createInterventions | 0.273 | 0.000 | 0.273 | |
| createUserVars | 0.427 | 0.000 | 0.427 | |
| evalAllGenotypes | 0.171 | 0.002 | 0.173 | |
| example-missing-drivers | 0.207 | 0.002 | 0.208 | |
| examplePosets | 0.234 | 0.002 | 0.237 | |
| examplesFitnessEffects | 0.072 | 0.000 | 0.073 | |
| freq-dep-simul-examples | 0.009 | 0.000 | 0.009 | |
| mcfLs | 0 | 0 | 0 | |
| oncoSimulIndiv | 0.952 | 0.111 | 1.001 | |
| plot.fitnessEffects | 0.225 | 0.013 | 0.238 | |
| plot.oncosimul | 0.412 | 0.032 | 0.445 | |
| plotClonePhylog | 1.172 | 0.105 | 1.277 | |
| plotFitnessLandscape | 1.408 | 0.065 | 1.473 | |
| plotPoset | 0.092 | 0.002 | 0.094 | |
| poset | 0.095 | 0.001 | 0.096 | |
| rfitness | 0.729 | 0.004 | 0.734 | |
| samplePop | 0.031 | 0.065 | 0.063 | |
| simOGraph | 0.049 | 0.007 | 0.056 | |
| to_Magellan | 0.169 | 0.032 | 0.201 | |
| vignette_pre_computed | 0.005 | 0.001 | 0.006 | |