Back to Multiple platform build/check report for BioC 3.22:   simplified   long
ABCDEFGHIJKLMNOPQ[R]STUVWXYZ

This page was generated on 2025-10-18 12:04 -0400 (Sat, 18 Oct 2025).

HostnameOSArch (*)R versionInstalled pkgs
nebbiolo2Linux (Ubuntu 24.04.3 LTS)x86_644.5.1 Patched (2025-08-23 r88802) -- "Great Square Root" 4887
lconwaymacOS 12.7.6 Montereyx86_644.5.1 Patched (2025-09-10 r88807) -- "Great Square Root" 4677
kjohnson3macOS 13.7.7 Venturaarm644.5.1 Patched (2025-09-10 r88807) -- "Great Square Root" 4622
taishanLinux (openEuler 24.03 LTS)aarch644.5.0 (2025-04-11) -- "How About a Twenty-Six" 4632
Click on any hostname to see more info about the system (e.g. compilers)      (*) as reported by 'uname -p', except on Windows and Mac OS X

Package 1735/2353HostnameOS / ArchINSTALLBUILDCHECKBUILD BIN
ReactomeGSA 1.23.0  (landing page)
Johannes Griss
Snapshot Date: 2025-10-17 13:45 -0400 (Fri, 17 Oct 2025)
git_url: https://git.bioconductor.org/packages/ReactomeGSA
git_branch: devel
git_last_commit: d9a274e
git_last_commit_date: 2025-04-15 11:49:59 -0400 (Tue, 15 Apr 2025)
nebbiolo2Linux (Ubuntu 24.04.3 LTS) / x86_64  OK    OK    OK  UNNEEDED, same version is already published
lconwaymacOS 12.7.6 Monterey / x86_64  OK    OK    OK    OK  UNNEEDED, same version is already published
kjohnson3macOS 13.7.7 Ventura / arm64  OK    OK    OK    OK  UNNEEDED, same version is already published
taishanLinux (openEuler 24.03 LTS) / aarch64  OK    OK    OK  


CHECK results for ReactomeGSA on nebbiolo2

To the developers/maintainers of the ReactomeGSA package:
- Allow up to 24 hours (and sometimes 48 hours) for your latest push to git@git.bioconductor.org:packages/ReactomeGSA.git to reflect on this report. See Troubleshooting Build Report for more information.
- Use the following Renviron settings to reproduce errors and warnings.
- If 'R CMD check' started to fail recently on the Linux builder(s) over a missing dependency, add the missing dependency to 'Suggests:' in your DESCRIPTION file. See Renviron.bioc for more information.

raw results


Summary

Package: ReactomeGSA
Version: 1.23.0
Command: /home/biocbuild/bbs-3.22-bioc/R/bin/R CMD check --install=check:ReactomeGSA.install-out.txt --library=/home/biocbuild/bbs-3.22-bioc/R/site-library --timings ReactomeGSA_1.23.0.tar.gz
StartedAt: 2025-10-18 03:43:32 -0400 (Sat, 18 Oct 2025)
EndedAt: 2025-10-18 04:02:38 -0400 (Sat, 18 Oct 2025)
EllapsedTime: 1146.4 seconds
RetCode: 0
Status:   OK  
CheckDir: ReactomeGSA.Rcheck
Warnings: 0

Command output

##############################################################################
##############################################################################
###
### Running command:
###
###   /home/biocbuild/bbs-3.22-bioc/R/bin/R CMD check --install=check:ReactomeGSA.install-out.txt --library=/home/biocbuild/bbs-3.22-bioc/R/site-library --timings ReactomeGSA_1.23.0.tar.gz
###
##############################################################################
##############################################################################


* using log directory ‘/home/biocbuild/bbs-3.22-bioc/meat/ReactomeGSA.Rcheck’
* using R version 4.5.1 Patched (2025-08-23 r88802)
* using platform: x86_64-pc-linux-gnu
* R was compiled by
    gcc (Ubuntu 13.3.0-6ubuntu2~24.04) 13.3.0
    GNU Fortran (Ubuntu 13.3.0-6ubuntu2~24.04) 13.3.0
* running under: Ubuntu 24.04.3 LTS
* using session charset: UTF-8
* checking for file ‘ReactomeGSA/DESCRIPTION’ ... OK
* checking extension type ... Package
* this is package ‘ReactomeGSA’ version ‘1.23.0’
* package encoding: UTF-8
* checking package namespace information ... OK
* checking package dependencies ... OK
* checking if this is a source package ... OK
* checking if there is a namespace ... OK
* checking for hidden files and directories ... OK
* checking for portable file names ... OK
* checking for sufficient/correct file permissions ... OK
* checking whether package ‘ReactomeGSA’ can be installed ... OK
* checking installed package size ... OK
* checking package directory ... OK
* checking ‘build’ directory ... OK
* checking DESCRIPTION meta-information ... OK
* checking top-level files ... OK
* checking for left-over files ... OK
* checking index information ... OK
* checking package subdirectories ... OK
* checking code files for non-ASCII characters ... OK
* checking R files for syntax errors ... OK
* checking whether the package can be loaded ... OK
* checking whether the package can be loaded with stated dependencies ... OK
* checking whether the package can be unloaded cleanly ... OK
* checking whether the namespace can be loaded with stated dependencies ... OK
* checking whether the namespace can be unloaded cleanly ... OK
* checking loading without being on the library search path ... OK
* checking whether startup messages can be suppressed ... OK
* checking dependencies in R code ... OK
* checking S3 generic/method consistency ... OK
* checking replacement functions ... OK
* checking foreign function calls ... OK
* checking R code for possible problems ... NOTE
plot_correlations,ReactomeAnalysisResult: no visible binding for global
  variable ‘combined_sig’
plot_correlations,ReactomeAnalysisResult: no visible binding for global
  variable ‘alpha’
plot_gsva_pathway,ReactomeAnalysisResult: no visible binding for global
  variable ‘cluster_id’
plot_gsva_pathway,ReactomeAnalysisResult: no visible binding for global
  variable ‘expr’
plot_gsva_pca,ReactomeAnalysisResult: no visible binding for global
  variable ‘gsva_result’
plot_gsva_pca,ReactomeAnalysisResult: no visible binding for global
  variable ‘PC1’
plot_gsva_pca,ReactomeAnalysisResult: no visible binding for global
  variable ‘PC2’
plot_heatmap,ReactomeAnalysisResult: no visible global function
  definition for ‘desc’
plot_heatmap,ReactomeAnalysisResult: no visible binding for global
  variable ‘n_sig’
plot_heatmap,ReactomeAnalysisResult: no visible binding for global
  variable ‘dataset’
plot_heatmap,ReactomeAnalysisResult: no visible binding for global
  variable ‘Name’
plot_volcano,ReactomeAnalysisResult: no visible binding for global
  variable ‘av_foldchange’
plot_volcano,ReactomeAnalysisResult: no visible binding for global
  variable ‘FDR’
Undefined global functions or variables:
  FDR Name PC1 PC2 alpha av_foldchange cluster_id combined_sig dataset
  desc expr gsva_result n_sig
* checking Rd files ... OK
* checking Rd metadata ... OK
* checking Rd cross-references ... OK
* checking for missing documentation entries ... OK
* checking for code/documentation mismatches ... OK
* checking Rd \usage sections ... OK
* checking Rd contents ... OK
* checking for unstated dependencies in examples ... OK
* checking files in ‘vignettes’ ... OK
* checking examples ... OK
Examples with CPU (user + system) or elapsed time > 5s
                                                  user system elapsed
analyse_sc_clusters-SingleCellExperiment-method 37.011  2.148 120.110
plot_gsva_pathway-ReactomeAnalysisResult-method 37.636  1.271 115.876
analyse_sc_clusters                             34.619  1.760 107.143
plot_gsva_heatmap-ReactomeAnalysisResult-method 34.122  1.715  72.288
analyse_sc_clusters-Seurat-method               33.686  1.454  84.093
plot_gsva_heatmap                               32.207  0.923  68.119
plot_gsva_pca                                   31.728  0.697  70.002
plot_gsva_pathway                               31.272  0.710  66.473
plot_gsva_pca-ReactomeAnalysisResult-method     31.331  0.635  65.245
generate_pseudo_bulk_data                       13.360  2.353  15.727
perform_reactome_analysis                        3.254  0.315  16.385
* checking for unstated dependencies in ‘tests’ ... OK
* checking tests ...
  Running ‘testthat.R’
 OK
* checking for unstated dependencies in vignettes ... OK
* checking package vignettes ... OK
* checking re-building of vignette outputs ... OK
* checking PDF version of manual ... OK
* DONE

Status: 1 NOTE
See
  ‘/home/biocbuild/bbs-3.22-bioc/meat/ReactomeGSA.Rcheck/00check.log’
for details.


Installation output

ReactomeGSA.Rcheck/00install.out

##############################################################################
##############################################################################
###
### Running command:
###
###   /home/biocbuild/bbs-3.22-bioc/R/bin/R CMD INSTALL ReactomeGSA
###
##############################################################################
##############################################################################


* installing to library ‘/home/biocbuild/bbs-3.22-bioc/R/site-library’
* installing *source* package ‘ReactomeGSA’ ...
** this is package ‘ReactomeGSA’ version ‘1.23.0’
** using staged installation
** R
** inst
** byte-compile and prepare package for lazy loading
in method for ‘analyse_sc_clusters’ with signature ‘object="Seurat"’: no definition for class “Seurat”
in method for ‘analyse_sc_clusters’ with signature ‘object="SingleCellExperiment"’: no definition for class “SingleCellExperiment”
in method for ‘add_dataset’ with signature ‘request="ReactomeAnalysisRequest",expression_values="EList"’: no definition for class “EList”
in method for ‘add_dataset’ with signature ‘request="ReactomeAnalysisRequest",expression_values="DGEList"’: no definition for class “DGEList”
in method for ‘generate_pseudo_bulk_data’ with signature ‘object="Seurat"’: no definition for class “Seurat”
in method for ‘generate_pseudo_bulk_data’ with signature ‘object="SingleCellExperiment"’: no definition for class “SingleCellExperiment”
** help
*** installing help indices
** building package indices
** installing vignettes
** testing if installed package can be loaded from temporary location
** testing if installed package can be loaded from final location
** testing if installed package keeps a record of temporary installation path
* DONE (ReactomeGSA)

Tests output

ReactomeGSA.Rcheck/tests/testthat.Rout


R version 4.5.1 Patched (2025-08-23 r88802) -- "Great Square Root"
Copyright (C) 2025 The R Foundation for Statistical Computing
Platform: x86_64-pc-linux-gnu

R is free software and comes with ABSOLUTELY NO WARRANTY.
You are welcome to redistribute it under certain conditions.
Type 'license()' or 'licence()' for distribution details.

R is a collaborative project with many contributors.
Type 'contributors()' for more information and
'citation()' on how to cite R or R packages in publications.

Type 'demo()' for some demos, 'help()' for on-line help, or
'help.start()' for an HTML browser interface to help.
Type 'q()' to quit R.

> library(testthat)
> library(ReactomeGSA)
> 
> test_check("ReactomeGSA")
[ FAIL 0 | WARN 0 | SKIP 0 | PASS 17 ]
> 
> proc.time()
   user  system elapsed 
  1.725   0.125   1.839 

Example timings

ReactomeGSA.Rcheck/ReactomeGSA-Ex.timings

nameusersystemelapsed
ReactomeAnalysisRequest4.6680.2174.886
ReactomeAnalysisResult-class0.1760.0030.180
add_dataset-ReactomeAnalysisRequest-DGEList-method0.8100.0140.824
add_dataset-ReactomeAnalysisRequest-EList-method0.4940.0030.496
add_dataset-ReactomeAnalysisRequest-ExpressionSet-method0.5020.0020.505
add_dataset-ReactomeAnalysisRequest-data.frame-method0.4940.0250.521
add_dataset-ReactomeAnalysisRequest-matrix-method0.4930.0030.496
add_dataset0.4950.0030.498
analyse_sc_clusters-Seurat-method33.686 1.45484.093
analyse_sc_clusters-SingleCellExperiment-method 37.011 2.148120.110
analyse_sc_clusters 34.619 1.760107.143
find_public_datasets0.5590.0974.409
generate_metadata0.0030.0100.013
generate_pseudo_bulk_data13.360 2.35315.727
get_public_species0.1590.0070.671
get_reactome_data_types0.3900.0221.597
get_reactome_methods0.5880.0322.234
get_result-ReactomeAnalysisResult-method0.2260.0040.230
get_result0.2200.0020.221
load_public_dataset1.4020.0774.717
names-ReactomeAnalysisResult-method0.1990.0060.205
open_reactome-ReactomeAnalysisResult-method0.2050.0210.227
open_reactome0.2080.0000.208
pathways-ReactomeAnalysisResult-method0.2490.0020.251
pathways0.2190.0040.223
perform_reactome_analysis 3.254 0.31516.385
plot_correlations-ReactomeAnalysisResult-method0.3380.0430.380
plot_correlations0.2700.0170.288
plot_gsva_heatmap-ReactomeAnalysisResult-method34.122 1.71572.288
plot_gsva_heatmap32.207 0.92368.119
plot_gsva_pathway-ReactomeAnalysisResult-method 37.636 1.271115.876
plot_gsva_pathway31.272 0.71066.473
plot_gsva_pca-ReactomeAnalysisResult-method31.331 0.63565.245
plot_gsva_pca31.728 0.69770.002
plot_heatmap-ReactomeAnalysisResult-method0.5270.0180.545
plot_heatmap0.6360.0210.657
plot_volcano-ReactomeAnalysisResult-method0.2190.0020.221
plot_volcano0.2280.0060.234
print-ReactomeAnalysisRequest-method0.0010.0000.001
print-ReactomeAnalysisResult-method0.2010.0030.204
reactome_links-ReactomeAnalysisResult-method0.2210.0010.222
reactome_links0.2050.0020.207
result_types-ReactomeAnalysisResult-method0.2080.0030.211
result_types0.2070.0010.208
set_method-ReactomeAnalysisRequest-method0.0020.0000.002
set_method0.0020.0000.002
set_parameters-ReactomeAnalysisRequest-method0.0010.0000.001
set_parameters0.0010.0000.001
show-ReactomeAnalysisRequest-method0.0010.0000.001
show-ReactomeAnalysisResult-method0.2180.0020.220