Back to Build/check report for BioC 3.23:   simplified   long
ABCDEFGHIJKLMNOPQ[R]STUVWXYZ

This page was generated on 2025-11-08 11:32 -0500 (Sat, 08 Nov 2025).

HostnameOSArch (*)R versionInstalled pkgs
nebbiolo1Linux (Ubuntu 24.04.3 LTS)x86_64R Under development (unstable) (2025-10-20 r88955) -- "Unsuffered Consequences" 4821
Click on any hostname to see more info about the system (e.g. compilers)      (*) as reported by 'uname -p', except on Windows and Mac OS X

Package 1717/2323HostnameOS / ArchINSTALLBUILDCHECKBUILD BIN
ReactomeGSA 1.25.0  (landing page)
Johannes Griss
Snapshot Date: 2025-11-07 13:40 -0500 (Fri, 07 Nov 2025)
git_url: https://git.bioconductor.org/packages/ReactomeGSA
git_branch: devel
git_last_commit: 473b5b6
git_last_commit_date: 2025-10-29 10:54:21 -0500 (Wed, 29 Oct 2025)
nebbiolo1Linux (Ubuntu 24.04.3 LTS) / x86_64  OK    OK    OK  UNNEEDED, same version is already published


CHECK results for ReactomeGSA on nebbiolo1

To the developers/maintainers of the ReactomeGSA package:
- Allow up to 24 hours (and sometimes 48 hours) for your latest push to git@git.bioconductor.org:packages/ReactomeGSA.git to reflect on this report. See Troubleshooting Build Report for more information.
- Use the following Renviron settings to reproduce errors and warnings.
- If 'R CMD check' started to fail recently on the Linux builder(s) over a missing dependency, add the missing dependency to 'Suggests:' in your DESCRIPTION file. See Renviron.bioc for more information.

raw results


Summary

Package: ReactomeGSA
Version: 1.25.0
Command: /home/biocbuild/bbs-3.23-bioc/R/bin/R CMD check --install=check:ReactomeGSA.install-out.txt --library=/home/biocbuild/bbs-3.23-bioc/R/site-library --timings ReactomeGSA_1.25.0.tar.gz
StartedAt: 2025-11-08 03:03:13 -0500 (Sat, 08 Nov 2025)
EndedAt: 2025-11-08 03:21:04 -0500 (Sat, 08 Nov 2025)
EllapsedTime: 1071.0 seconds
RetCode: 0
Status:   OK  
CheckDir: ReactomeGSA.Rcheck
Warnings: 0

Command output

##############################################################################
##############################################################################
###
### Running command:
###
###   /home/biocbuild/bbs-3.23-bioc/R/bin/R CMD check --install=check:ReactomeGSA.install-out.txt --library=/home/biocbuild/bbs-3.23-bioc/R/site-library --timings ReactomeGSA_1.25.0.tar.gz
###
##############################################################################
##############################################################################


* using log directory ‘/home/biocbuild/bbs-3.23-bioc/meat/ReactomeGSA.Rcheck’
* using R Under development (unstable) (2025-10-20 r88955)
* using platform: x86_64-pc-linux-gnu
* R was compiled by
    gcc (Ubuntu 13.3.0-6ubuntu2~24.04) 13.3.0
    GNU Fortran (Ubuntu 13.3.0-6ubuntu2~24.04) 13.3.0
* running under: Ubuntu 24.04.3 LTS
* using session charset: UTF-8
* checking for file ‘ReactomeGSA/DESCRIPTION’ ... OK
* checking extension type ... Package
* this is package ‘ReactomeGSA’ version ‘1.25.0’
* package encoding: UTF-8
* checking package namespace information ... OK
* checking package dependencies ... OK
* checking if this is a source package ... OK
* checking if there is a namespace ... OK
* checking for hidden files and directories ... OK
* checking for portable file names ... OK
* checking for sufficient/correct file permissions ... OK
* checking whether package ‘ReactomeGSA’ can be installed ... OK
* checking installed package size ... OK
* checking package directory ... OK
* checking ‘build’ directory ... OK
* checking DESCRIPTION meta-information ... OK
* checking top-level files ... OK
* checking for left-over files ... OK
* checking index information ... OK
* checking package subdirectories ... OK
* checking code files for non-ASCII characters ... OK
* checking R files for syntax errors ... OK
* checking whether the package can be loaded ... OK
* checking whether the package can be loaded with stated dependencies ... OK
* checking whether the package can be unloaded cleanly ... OK
* checking whether the namespace can be loaded with stated dependencies ... OK
* checking whether the namespace can be unloaded cleanly ... OK
* checking loading without being on the library search path ... OK
* checking whether startup messages can be suppressed ... OK
* checking dependencies in R code ... OK
* checking S3 generic/method consistency ... OK
* checking replacement functions ... OK
* checking foreign function calls ... OK
* checking R code for possible problems ... NOTE
plot_correlations,ReactomeAnalysisResult: no visible binding for global
  variable ‘combined_sig’
plot_correlations,ReactomeAnalysisResult: no visible binding for global
  variable ‘alpha’
plot_gsva_pathway,ReactomeAnalysisResult: no visible binding for global
  variable ‘cluster_id’
plot_gsva_pathway,ReactomeAnalysisResult: no visible binding for global
  variable ‘expr’
plot_gsva_pca,ReactomeAnalysisResult: no visible binding for global
  variable ‘gsva_result’
plot_gsva_pca,ReactomeAnalysisResult: no visible binding for global
  variable ‘PC1’
plot_gsva_pca,ReactomeAnalysisResult: no visible binding for global
  variable ‘PC2’
plot_heatmap,ReactomeAnalysisResult: no visible global function
  definition for ‘desc’
plot_heatmap,ReactomeAnalysisResult: no visible binding for global
  variable ‘n_sig’
plot_heatmap,ReactomeAnalysisResult: no visible binding for global
  variable ‘dataset’
plot_heatmap,ReactomeAnalysisResult: no visible binding for global
  variable ‘Name’
plot_volcano,ReactomeAnalysisResult: no visible binding for global
  variable ‘av_foldchange’
plot_volcano,ReactomeAnalysisResult: no visible binding for global
  variable ‘FDR’
Undefined global functions or variables:
  FDR Name PC1 PC2 alpha av_foldchange cluster_id combined_sig dataset
  desc expr gsva_result n_sig
* checking Rd files ... OK
* checking Rd metadata ... OK
* checking Rd cross-references ... OK
* checking for missing documentation entries ... OK
* checking for code/documentation mismatches ... OK
* checking Rd \usage sections ... OK
* checking Rd contents ... OK
* checking for unstated dependencies in examples ... OK
* checking files in ‘vignettes’ ... OK
* checking examples ... OK
Examples with CPU (user + system) or elapsed time > 5s
                                                  user system elapsed
analyse_sc_clusters                             34.619  0.824  99.922
plot_gsva_heatmap-ReactomeAnalysisResult-method 33.557  0.888  72.557
analyse_sc_clusters-Seurat-method               32.720  1.122  69.422
plot_gsva_pathway                               32.460  1.079  68.871
plot_gsva_pca-ReactomeAnalysisResult-method     31.661  1.759  59.271
analyse_sc_clusters-SingleCellExperiment-method 32.045  0.821  67.910
plot_gsva_pca                                   31.592  1.230  58.602
plot_gsva_heatmap                               31.904  0.514  58.681
plot_gsva_pathway-ReactomeAnalysisResult-method 31.258  0.760  58.282
generate_pseudo_bulk_data                       13.382  0.900  14.308
perform_reactome_analysis                        6.110  0.219  49.465
ReactomeAnalysisRequest                          5.117  0.270   5.390
load_public_dataset                              3.508  0.103  29.280
* checking for unstated dependencies in ‘tests’ ... OK
* checking tests ...
  Running ‘testthat.R’
 OK
* checking for unstated dependencies in vignettes ... OK
* checking package vignettes ... OK
* checking re-building of vignette outputs ... OK
* checking PDF version of manual ... OK
* DONE

Status: 1 NOTE
See
  ‘/home/biocbuild/bbs-3.23-bioc/meat/ReactomeGSA.Rcheck/00check.log’
for details.


Installation output

ReactomeGSA.Rcheck/00install.out

##############################################################################
##############################################################################
###
### Running command:
###
###   /home/biocbuild/bbs-3.23-bioc/R/bin/R CMD INSTALL ReactomeGSA
###
##############################################################################
##############################################################################


* installing to library ‘/home/biocbuild/bbs-3.23-bioc/R/site-library’
* installing *source* package ‘ReactomeGSA’ ...
** this is package ‘ReactomeGSA’ version ‘1.25.0’
** using staged installation
** R
** inst
** byte-compile and prepare package for lazy loading
in method for ‘analyse_sc_clusters’ with signature ‘object="Seurat"’: no definition for class “Seurat”
in method for ‘analyse_sc_clusters’ with signature ‘object="SingleCellExperiment"’: no definition for class “SingleCellExperiment”
in method for ‘add_dataset’ with signature ‘request="ReactomeAnalysisRequest",expression_values="EList"’: no definition for class “EList”
in method for ‘add_dataset’ with signature ‘request="ReactomeAnalysisRequest",expression_values="DGEList"’: no definition for class “DGEList”
in method for ‘generate_pseudo_bulk_data’ with signature ‘object="Seurat"’: no definition for class “Seurat”
in method for ‘generate_pseudo_bulk_data’ with signature ‘object="SingleCellExperiment"’: no definition for class “SingleCellExperiment”
** help
*** installing help indices
** building package indices
** installing vignettes
** testing if installed package can be loaded from temporary location
** testing if installed package can be loaded from final location
** testing if installed package keeps a record of temporary installation path
* DONE (ReactomeGSA)

Tests output

ReactomeGSA.Rcheck/tests/testthat.Rout


R Under development (unstable) (2025-10-20 r88955) -- "Unsuffered Consequences"
Copyright (C) 2025 The R Foundation for Statistical Computing
Platform: x86_64-pc-linux-gnu

R is free software and comes with ABSOLUTELY NO WARRANTY.
You are welcome to redistribute it under certain conditions.
Type 'license()' or 'licence()' for distribution details.

R is a collaborative project with many contributors.
Type 'contributors()' for more information and
'citation()' on how to cite R or R packages in publications.

Type 'demo()' for some demos, 'help()' for on-line help, or
'help.start()' for an HTML browser interface to help.
Type 'q()' to quit R.

> library(testthat)
> library(ReactomeGSA)
> 
> test_check("ReactomeGSA")
[ FAIL 0 | WARN 0 | SKIP 0 | PASS 17 ]
> 
> proc.time()
   user  system elapsed 
  1.820   0.110   1.918 

Example timings

ReactomeGSA.Rcheck/ReactomeGSA-Ex.timings

nameusersystemelapsed
ReactomeAnalysisRequest5.1170.2705.390
ReactomeAnalysisResult-class0.1930.0020.196
add_dataset-ReactomeAnalysisRequest-DGEList-method0.9180.0280.946
add_dataset-ReactomeAnalysisRequest-EList-method0.5440.0180.564
add_dataset-ReactomeAnalysisRequest-ExpressionSet-method0.5280.0070.536
add_dataset-ReactomeAnalysisRequest-data.frame-method0.5320.0240.564
add_dataset-ReactomeAnalysisRequest-matrix-method0.5310.0120.542
add_dataset0.5130.0020.515
analyse_sc_clusters-Seurat-method32.720 1.12269.422
analyse_sc_clusters-SingleCellExperiment-method32.045 0.82167.910
analyse_sc_clusters34.619 0.82499.922
find_public_datasets0.5270.0023.486
generate_metadata0.0000.0020.003
generate_pseudo_bulk_data13.382 0.90014.308
get_public_species0.1380.0040.583
get_reactome_data_types0.3510.0091.430
get_reactome_methods0.4430.0141.798
get_result-ReactomeAnalysisResult-method0.5510.0430.594
get_result0.1960.0060.203
load_public_dataset 3.508 0.10329.280
names-ReactomeAnalysisResult-method0.1920.0060.198
open_reactome-ReactomeAnalysisResult-method0.2020.0040.206
open_reactome0.1950.0060.202
pathways-ReactomeAnalysisResult-method0.2560.0050.261
pathways0.2280.0050.233
perform_reactome_analysis 6.110 0.21949.465
plot_correlations-ReactomeAnalysisResult-method0.3000.0100.309
plot_correlations0.2630.0170.280
plot_gsva_heatmap-ReactomeAnalysisResult-method33.557 0.88872.557
plot_gsva_heatmap31.904 0.51458.681
plot_gsva_pathway-ReactomeAnalysisResult-method31.258 0.76058.282
plot_gsva_pathway32.460 1.07968.871
plot_gsva_pca-ReactomeAnalysisResult-method31.661 1.75959.271
plot_gsva_pca31.592 1.23058.602
plot_heatmap-ReactomeAnalysisResult-method0.5520.0310.583
plot_heatmap0.6400.0450.685
plot_volcano-ReactomeAnalysisResult-method0.2330.0050.238
plot_volcano0.2510.0060.256
print-ReactomeAnalysisRequest-method0.0020.0000.001
print-ReactomeAnalysisResult-method0.2310.0180.249
reactome_links-ReactomeAnalysisResult-method0.2330.0060.239
reactome_links0.2230.0070.231
result_types-ReactomeAnalysisResult-method0.2010.0020.204
result_types0.1920.0130.206
set_method-ReactomeAnalysisRequest-method0.0010.0010.002
set_method0.0010.0000.002
set_parameters-ReactomeAnalysisRequest-method0.0010.0000.002
set_parameters0.0010.0000.002
show-ReactomeAnalysisRequest-method0.0000.0010.002
show-ReactomeAnalysisResult-method0.2100.0020.212