Back to Multiple platform build/check report for BioC 3.22:   simplified   long
ABCDEFGHIJKLMNOPQ[R]STUVWXYZ

This page was generated on 2025-10-28 12:04 -0400 (Tue, 28 Oct 2025).

HostnameOSArch (*)R versionInstalled pkgs
nebbiolo2Linux (Ubuntu 24.04.3 LTS)x86_644.5.1 Patched (2025-08-23 r88802) -- "Great Square Root" 4901
lconwaymacOS 12.7.6 Montereyx86_644.5.1 Patched (2025-09-10 r88807) -- "Great Square Root" 4691
kjohnson3macOS 13.7.7 Venturaarm644.5.1 Patched (2025-09-10 r88807) -- "Great Square Root" 4637
Click on any hostname to see more info about the system (e.g. compilers)      (*) as reported by 'uname -p', except on Windows and Mac OS X

Package 1819/2361HostnameOS / ArchINSTALLBUILDCHECKBUILD BIN
RNAmodR 1.23.2  (landing page)
Felix G.M. Ernst
Snapshot Date: 2025-10-27 13:45 -0400 (Mon, 27 Oct 2025)
git_url: https://git.bioconductor.org/packages/RNAmodR
git_branch: devel
git_last_commit: c241cdb
git_last_commit_date: 2025-09-23 16:09:50 -0400 (Tue, 23 Sep 2025)
nebbiolo2Linux (Ubuntu 24.04.3 LTS) / x86_64  OK    OK    OK  UNNEEDED, same version is already published
lconwaymacOS 12.7.6 Monterey / x86_64  OK    OK    OK    OK  UNNEEDED, same version is already published
kjohnson3macOS 13.7.7 Ventura / arm64  OK    OK    OK    OK  UNNEEDED, same version is already published


CHECK results for RNAmodR on lconway

To the developers/maintainers of the RNAmodR package:
- Allow up to 24 hours (and sometimes 48 hours) for your latest push to git@git.bioconductor.org:packages/RNAmodR.git to reflect on this report. See Troubleshooting Build Report for more information.
- Use the following Renviron settings to reproduce errors and warnings.
- If 'R CMD check' started to fail recently on the Linux builder(s) over a missing dependency, add the missing dependency to 'Suggests:' in your DESCRIPTION file. See Renviron.bioc for more information.

raw results


Summary

Package: RNAmodR
Version: 1.23.2
Command: /Library/Frameworks/R.framework/Resources/bin/R CMD check --install=check:RNAmodR.install-out.txt --library=/Library/Frameworks/R.framework/Resources/library --no-vignettes --timings RNAmodR_1.23.2.tar.gz
StartedAt: 2025-10-28 00:19:41 -0400 (Tue, 28 Oct 2025)
EndedAt: 2025-10-28 00:30:19 -0400 (Tue, 28 Oct 2025)
EllapsedTime: 638.1 seconds
RetCode: 0
Status:   OK  
CheckDir: RNAmodR.Rcheck
Warnings: 0

Command output

##############################################################################
##############################################################################
###
### Running command:
###
###   /Library/Frameworks/R.framework/Resources/bin/R CMD check --install=check:RNAmodR.install-out.txt --library=/Library/Frameworks/R.framework/Resources/library --no-vignettes --timings RNAmodR_1.23.2.tar.gz
###
##############################################################################
##############################################################################


* using log directory ‘/Users/biocbuild/bbs-3.22-bioc/meat/RNAmodR.Rcheck’
* using R version 4.5.1 Patched (2025-09-10 r88807)
* using platform: x86_64-apple-darwin20
* R was compiled by
    Apple clang version 14.0.0 (clang-1400.0.29.202)
    GNU Fortran (GCC) 14.2.0
* running under: macOS Monterey 12.7.6
* using session charset: UTF-8
* using option ‘--no-vignettes’
* checking for file ‘RNAmodR/DESCRIPTION’ ... OK
* checking extension type ... Package
* this is package ‘RNAmodR’ version ‘1.23.2’
* package encoding: UTF-8
* checking package namespace information ... OK
* checking package dependencies ... OK
* checking if this is a source package ... OK
* checking if there is a namespace ... OK
* checking for hidden files and directories ... OK
* checking for portable file names ... OK
* checking for sufficient/correct file permissions ... OK
* checking whether package ‘RNAmodR’ can be installed ... OK
* checking installed package size ... OK
* checking package directory ... OK
* checking ‘build’ directory ... OK
* checking DESCRIPTION meta-information ... OK
* checking top-level files ... OK
* checking for left-over files ... OK
* checking index information ... OK
* checking package subdirectories ... OK
* checking code files for non-ASCII characters ... OK
* checking R files for syntax errors ... OK
* checking whether the package can be loaded ... OK
* checking whether the package can be loaded with stated dependencies ... OK
* checking whether the package can be unloaded cleanly ... OK
* checking whether the namespace can be loaded with stated dependencies ... OK
* checking whether the namespace can be unloaded cleanly ... OK
* checking dependencies in R code ... NOTE
Unexported objects imported by ':::' calls:
  'BiocGenerics:::replaceSlots' 'Biostrings:::XString'
  'IRanges:::.valid.CompressedList' 'IRanges:::coerceToCompressedList'
  'S4Vectors:::.valid.DataFrame' 'S4Vectors:::labeledLine'
  'S4Vectors:::make_zero_col_DataFrame'
  'S4Vectors:::prepare_objects_to_bind'
  See the note in ?`:::` about the use of this operator.
There are ::: calls to the package's namespace in its code. A package
  almost never needs to use ::: for its own objects:
  '.get_inosine_score'
* checking S3 generic/method consistency ... OK
* checking replacement functions ... OK
* checking foreign function calls ... OK
* checking R code for possible problems ... OK
* checking Rd files ... OK
* checking Rd metadata ... OK
* checking Rd cross-references ... OK
* checking for missing documentation entries ... OK
* checking for code/documentation mismatches ... OK
* checking Rd \usage sections ... NOTE
Documented arguments not in \usage in Rd file 'RNAmodR-internals.Rd':
  ‘object’ ‘range’ ‘data’ ‘modType’ ‘scoreFun’ ‘source’ ‘type’ ‘j’
  ‘value’

Functions with \usage entries need to have the appropriate \alias
entries, and all their arguments documented.
The \usage entries must correspond to syntactically valid R code.
See chapter ‘Writing R documentation files’ in the ‘Writing R
Extensions’ manual.
* checking Rd contents ... OK
* checking for unstated dependencies in examples ... OK
* checking contents of ‘data’ directory ... OK
* checking data for non-ASCII characters ... OK
* checking data for ASCII and uncompressed saves ... OK
* checking files in ‘vignettes’ ... OK
* checking examples ... OK
Examples with CPU (user + system) or elapsed time > 5s
                                 user system elapsed
stats                          53.982  6.044  48.143
CoverageSequenceData-class     11.237  0.870  12.671
ModInosine                      8.396  0.491   9.292
PileupSequenceData-class        6.604  0.492   7.527
ProtectedEndSequenceData-class  6.575  0.513   7.538
EndSequenceData-class           6.589  0.483   7.474
* checking for unstated dependencies in ‘tests’ ... OK
* checking tests ...
  Running ‘testthat.R’
 OK
* checking for unstated dependencies in vignettes ... OK
* checking package vignettes ... OK
* checking running R code from vignettes ... SKIPPED
* checking re-building of vignette outputs ... SKIPPED
* checking PDF version of manual ... OK
* DONE

Status: 2 NOTEs
See
  ‘/Users/biocbuild/bbs-3.22-bioc/meat/RNAmodR.Rcheck/00check.log’
for details.


Installation output

RNAmodR.Rcheck/00install.out

##############################################################################
##############################################################################
###
### Running command:
###
###   /Library/Frameworks/R.framework/Resources/bin/R CMD INSTALL RNAmodR
###
##############################################################################
##############################################################################


* installing to library ‘/Library/Frameworks/R.framework/Versions/4.5-x86_64/Resources/library’
* installing *source* package ‘RNAmodR’ ...
** this is package ‘RNAmodR’ version ‘1.23.2’
** using staged installation
** R
** data
** inst
** byte-compile and prepare package for lazy loading
** help
*** installing help indices
** building package indices
** installing vignettes
** testing if installed package can be loaded from temporary location
** testing if installed package can be loaded from final location
** testing if installed package keeps a record of temporary installation path
* DONE (RNAmodR)

Tests output

RNAmodR.Rcheck/tests/testthat.Rout


R version 4.5.1 Patched (2025-09-10 r88807) -- "Great Square Root"
Copyright (C) 2025 The R Foundation for Statistical Computing
Platform: x86_64-apple-darwin20

R is free software and comes with ABSOLUTELY NO WARRANTY.
You are welcome to redistribute it under certain conditions.
Type 'license()' or 'licence()' for distribution details.

R is a collaborative project with many contributors.
Type 'contributors()' for more information and
'citation()' on how to cite R or R packages in publications.

Type 'demo()' for some demos, 'help()' for on-line help, or
'help.start()' for an HTML browser interface to help.
Type 'q()' to quit R.

> library(testthat)
> library(RNAmodR)
Loading required package: S4Vectors
Loading required package: stats4
Loading required package: BiocGenerics
Loading required package: generics

Attaching package: 'generics'

The following objects are masked from 'package:base':

    as.difftime, as.factor, as.ordered, intersect, is.element, setdiff,
    setequal, union


Attaching package: 'BiocGenerics'

The following objects are masked from 'package:stats':

    IQR, mad, sd, var, xtabs

The following objects are masked from 'package:base':

    Filter, Find, Map, Position, Reduce, anyDuplicated, aperm, append,
    as.data.frame, basename, cbind, colnames, dirname, do.call,
    duplicated, eval, evalq, get, grep, grepl, is.unsorted, lapply,
    mapply, match, mget, order, paste, pmax, pmax.int, pmin, pmin.int,
    rank, rbind, rownames, sapply, saveRDS, table, tapply, unique,
    unsplit, which.max, which.min


Attaching package: 'S4Vectors'

The following object is masked from 'package:utils':

    findMatches

The following objects are masked from 'package:base':

    I, expand.grid, unname

Loading required package: IRanges
Loading required package: GenomicRanges
Loading required package: Seqinfo
Loading required package: Modstrings
Loading required package: Biostrings
Loading required package: XVector

Attaching package: 'Biostrings'

The following object is masked from 'package:base':

    strsplit


Attaching package: 'RNAmodR'

The following object is masked from 'package:testthat':

    compare

> 
> test_check("RNAmodR")
[E::idx_find_and_load] Could not retrieve index file for '/Users/biocbuild/Library/Caches/org.R-project.R/R/ExperimentHub/b341559f886a_2547'
[E::idx_find_and_load] Could not retrieve index file for '/Users/biocbuild/Library/Caches/org.R-project.R/R/ExperimentHub/b341559f886a_2547'
[E::idx_find_and_load] Could not retrieve index file for '/Users/biocbuild/Library/Caches/org.R-project.R/R/ExperimentHub/b341559f886a_2547'
[E::idx_find_and_load] Could not retrieve index file for '/Users/biocbuild/Library/Caches/org.R-project.R/R/ExperimentHub/b341559f886a_2547'
[E::idx_find_and_load] Could not retrieve index file for '/Users/biocbuild/Library/Caches/org.R-project.R/R/ExperimentHub/b341559f886a_2547'
[E::idx_find_and_load] Could not retrieve index file for '/Users/biocbuild/Library/Caches/org.R-project.R/R/ExperimentHub/b341559f886a_2547'
Error in x$.self$finalize() : attempt to apply non-function
[ FAIL 0 | WARN 2 | SKIP 9 | PASS 192 ]

══ Skipped tests (9) ═══════════════════════════════════════════════════════════
• On Bioconductor (9): 'test-0SequenceData.R:53:3',
  'test-0SequenceDataFrame.R:23:3', 'test-1SequenceDataSet.R:57:3',
  'test-2Modifier.R:85:3', 'test-3normalization.R:3:3', 'test-3subset.R:4:3',
  'test-3zcomparison.R:4:3', 'test-4roc.R:3:3', 'test-8visualization.R:158:3'

[ FAIL 0 | WARN 2 | SKIP 9 | PASS 192 ]
Warning message:
call dbDisconnect() when finished working with a connection 
> 
> proc.time()
   user  system elapsed 
 52.683   2.421  62.276 

Example timings

RNAmodR.Rcheck/RNAmodR-Ex.timings

nameusersystemelapsed
CoverageSequenceData-class11.237 0.87012.671
EndSequenceData-class6.5890.4837.474
ModInosine-functions0.7290.0170.752
ModInosine8.3960.4919.292
Modifier-functions0.2990.0140.319
NormEndSequenceData-class0.0000.0000.001
PileupSequenceData-class6.6040.4927.527
ProtectedEndSequenceData-class6.5750.5137.538
RNAmodR-development0.0760.0010.078
SequenceData-functions0.0780.0070.088
SequenceDataFrame-class0.0660.0030.070
SequenceDataList-class0.1570.0060.164
SequenceDataSet-class0.1040.0110.117
SequenceModDNAStringSetTrack-class1.4610.0151.488
SequenceModRNAStringSetTrack-class0.0230.0010.024
aggregate0.5820.0070.590
compareByCoord2.3360.0232.374
modify0.5730.0080.588
plotData2.1320.0172.164
plotROC1.5910.0561.655
settings0.1430.0070.151
stats53.982 6.04448.143
subsetByCoord0.6790.0110.694