| Back to Multiple platform build/check report for BioC 3.23: simplified long |
|
This page was generated on 2025-11-14 11:36 -0500 (Fri, 14 Nov 2025).
| Hostname | OS | Arch (*) | R version | Installed pkgs |
|---|---|---|---|---|
| nebbiolo1 | Linux (Ubuntu 24.04.3 LTS) | x86_64 | R Under development (unstable) (2025-10-20 r88955) -- "Unsuffered Consequences" | 4825 |
| kjohnson3 | macOS 13.7.7 Ventura | arm64 | R Under development (unstable) (2025-11-04 r88984) -- "Unsuffered Consequences" | 4547 |
| Click on any hostname to see more info about the system (e.g. compilers) (*) as reported by 'uname -p', except on Windows and Mac OS X | ||||
| Package 1799/2325 | Hostname | OS / Arch | INSTALL | BUILD | CHECK | BUILD BIN | ||||||||
| RNASeqPower 1.51.0 (landing page) Terry M Therneau
| nebbiolo1 | Linux (Ubuntu 24.04.3 LTS) / x86_64 | OK | OK | OK | |||||||||
| kjohnson3 | macOS 13.7.7 Ventura / arm64 | OK | OK | OK | OK | |||||||||
|
To the developers/maintainers of the RNASeqPower package: - Allow up to 24 hours (and sometimes 48 hours) for your latest push to git@git.bioconductor.org:packages/RNASeqPower.git to reflect on this report. See Troubleshooting Build Report for more information. - Use the following Renviron settings to reproduce errors and warnings. - If 'R CMD check' started to fail recently on the Linux builder(s) over a missing dependency, add the missing dependency to 'Suggests:' in your DESCRIPTION file. See Renviron.bioc for more information. |
| Package: RNASeqPower |
| Version: 1.51.0 |
| Command: /Library/Frameworks/R.framework/Resources/bin/R CMD build --keep-empty-dirs --no-resave-data RNASeqPower |
| StartedAt: 2025-11-13 17:31:42 -0500 (Thu, 13 Nov 2025) |
| EndedAt: 2025-11-13 17:31:45 -0500 (Thu, 13 Nov 2025) |
| EllapsedTime: 3.0 seconds |
| RetCode: 0 |
| Status: OK |
| PackageFile: RNASeqPower_1.51.0.tar.gz |
| PackageFileSize: 191.3 KiB |
##############################################################################
##############################################################################
###
### Running command:
###
### /Library/Frameworks/R.framework/Resources/bin/R CMD build --keep-empty-dirs --no-resave-data RNASeqPower
###
##############################################################################
##############################################################################
* checking for file ‘RNASeqPower/DESCRIPTION’ ... OK
* preparing ‘RNASeqPower’:
* checking DESCRIPTION meta-information ... OK
* installing the package (it is needed to build vignettes)
* creating vignettes ... OK
Warning: ‘inst/doc’ file
‘samplesize.Rnw’
ignored as vignettes have been rebuilt.
Run R CMD build with --no-build-vignettes to prevent rebuilding.
* checking for LF line-endings in source and make files and shell scripts
* checking for empty or unneeded directories
* building ‘RNASeqPower_1.51.0.tar.gz’