Back to Multiple platform build/check report for BioC 3.23:   simplified   long
ABCDEFGHIJKLMNOPQ[R]STUVWXYZ

This page was generated on 2025-11-21 11:39 -0500 (Fri, 21 Nov 2025).

HostnameOSArch (*)R versionInstalled pkgs
nebbiolo1Linux (Ubuntu 24.04.3 LTS)x86_64R Under development (unstable) (2025-10-20 r88955) -- "Unsuffered Consequences" 4829
lconwaymacOS 12.7.6 Montereyx86_64R Under development (unstable) (2025-10-21 r88958) -- "Unsuffered Consequences" 4602
kjohnson3macOS 13.7.7 Venturaarm64R Under development (unstable) (2025-11-04 r88984) -- "Unsuffered Consequences" 4566
Click on any hostname to see more info about the system (e.g. compilers)      (*) as reported by 'uname -p', except on Windows and Mac OS X

Package 1717/2327HostnameOS / ArchINSTALLBUILDCHECKBUILD BIN
RCy3 2.31.0  (landing page)
Alex Pico
Snapshot Date: 2025-11-20 13:40 -0500 (Thu, 20 Nov 2025)
git_url: https://git.bioconductor.org/packages/RCy3
git_branch: devel
git_last_commit: f7dcce5
git_last_commit_date: 2025-10-29 10:28:27 -0500 (Wed, 29 Oct 2025)
nebbiolo1Linux (Ubuntu 24.04.3 LTS) / x86_64  OK    OK    OK  UNNEEDED, same version is already published
lconwaymacOS 12.7.6 Monterey / x86_64  OK    OK    OK    OK  UNNEEDED, same version is already published
kjohnson3macOS 13.7.7 Ventura / arm64  OK    OK    OK    OK  UNNEEDED, same version is already published


CHECK results for RCy3 on lconway

To the developers/maintainers of the RCy3 package:
- Allow up to 24 hours (and sometimes 48 hours) for your latest push to git@git.bioconductor.org:packages/RCy3.git to reflect on this report. See Troubleshooting Build Report for more information.
- Use the following Renviron settings to reproduce errors and warnings.
- If 'R CMD check' started to fail recently on the Linux builder(s) over a missing dependency, add the missing dependency to 'Suggests:' in your DESCRIPTION file. See Renviron.bioc for more information.

raw results


Summary

Package: RCy3
Version: 2.31.0
Command: /Library/Frameworks/R.framework/Resources/bin/R CMD check --install=check:RCy3.install-out.txt --library=/Library/Frameworks/R.framework/Resources/library --no-vignettes --timings RCy3_2.31.0.tar.gz
StartedAt: 2025-11-20 23:32:25 -0500 (Thu, 20 Nov 2025)
EndedAt: 2025-11-20 23:34:14 -0500 (Thu, 20 Nov 2025)
EllapsedTime: 108.9 seconds
RetCode: 0
Status:   OK  
CheckDir: RCy3.Rcheck
Warnings: 0

Command output

##############################################################################
##############################################################################
###
### Running command:
###
###   /Library/Frameworks/R.framework/Resources/bin/R CMD check --install=check:RCy3.install-out.txt --library=/Library/Frameworks/R.framework/Resources/library --no-vignettes --timings RCy3_2.31.0.tar.gz
###
##############################################################################
##############################################################################


* using log directory ‘/Users/biocbuild/bbs-3.23-bioc/meat/RCy3.Rcheck’
* using R Under development (unstable) (2025-10-21 r88958)
* using platform: x86_64-apple-darwin20
* R was compiled by
    Apple clang version 14.0.0 (clang-1400.0.29.202)
    GNU Fortran (GCC) 14.2.0
* running under: macOS Ventura 13.7.8
* using session charset: UTF-8
* using option ‘--no-vignettes’
* checking for file ‘RCy3/DESCRIPTION’ ... OK
* checking extension type ... Package
* this is package ‘RCy3’ version ‘2.31.0’
* package encoding: UTF-8
* checking package namespace information ... OK
* checking package dependencies ... OK
* checking if this is a source package ... OK
* checking if there is a namespace ... OK
* checking for hidden files and directories ... NOTE
Found the following hidden files and directories:
  .travis.yml
These were most likely included in error. See section ‘Package
structure’ in the ‘Writing R Extensions’ manual.
* checking for portable file names ... OK
* checking for sufficient/correct file permissions ... OK
* checking whether package ‘RCy3’ can be installed ... OK
* checking installed package size ... OK
* checking package directory ... OK
* checking ‘build’ directory ... OK
* checking DESCRIPTION meta-information ... NOTE
License stub is invalid DCF.
* checking top-level files ... OK
* checking for left-over files ... OK
* checking index information ... OK
* checking package subdirectories ... OK
* checking code files for non-ASCII characters ... OK
* checking R files for syntax errors ... OK
* checking whether the package can be loaded ... OK
* checking whether the package can be loaded with stated dependencies ... OK
* checking whether the package can be unloaded cleanly ... OK
* checking whether the namespace can be loaded with stated dependencies ... OK
* checking whether the namespace can be unloaded cleanly ... OK
* checking dependencies in R code ... OK
* checking S3 generic/method consistency ... OK
* checking replacement functions ... OK
* checking foreign function calls ... OK
* checking R code for possible problems ... NOTE
.checkHexColor: no visible global function definition for ‘colors’
.edgeNameToEdgeSUID: no visible binding for global variable ‘SUID’
.nodeNameToNodeSUID: no visible binding for global variable ‘SUID’
createNetworkFromDataFrames: no visible binding for global variable
  ‘SUID’
Undefined global functions or variables:
  SUID colors
Consider adding
  importFrom("grDevices", "colors")
to your NAMESPACE file.
* checking Rd files ... NOTE
checkRd: (-1) importFileFromUrl.Rd:24: Lost braces; missing escapes or markup?
    24 | dict: {'filePath': <new file's absolute path in Cytoscape workstation>, 'fileByteCount': number of bytes read}
       |       ^
checkRd: (-1) sandboxGetFileInfo.Rd:17: Lost braces; missing escapes or markup?
    17 | dict: {'filePath': <full path on Cytoscape workstation>, 'modifiedTime': <last changed time, '' if file doesn't exist>, 'isFile': <True if file, False if directory>}
       |       ^
checkRd: (-1) sandboxRemove.Rd:15: Lost braces; missing escapes or markup?
    15 | dict: {'sandboxPath': <directory on Cytoscape workstation>, 'existed': <True if sandbox existed>}
       |       ^
checkRd: (-1) sandboxRemoveFile.Rd:17: Lost braces; missing escapes or markup?
    17 | dict: {'filePath': <file's absolute path in Cytoscape workstation>, 'existed': True if file existed before being deleted}
       |       ^
checkRd: (-1) sandboxUrlTo.Rd:27: Lost braces; missing escapes or markup?
    27 | dict: {'filePath': <new file's absolute path in Cytoscape workstation>, 'fileByteCount': number of bytes read}
       |       ^
* checking Rd metadata ... OK
* checking Rd cross-references ... OK
* checking for missing documentation entries ... OK
* checking for code/documentation mismatches ... OK
* checking Rd \usage sections ... OK
* checking Rd contents ... OK
* checking for unstated dependencies in examples ... OK
* checking files in ‘vignettes’ ... OK
* checking examples ... OK
* checking for unstated dependencies in ‘tests’ ... OK
* checking tests ...
  Running ‘runTests.R’
 OK
* checking for unstated dependencies in vignettes ... OK
* checking package vignettes ... OK
* checking running R code from vignettes ... SKIPPED
* checking re-building of vignette outputs ... SKIPPED
* checking PDF version of manual ... OK
* DONE

Status: 4 NOTEs
See
  ‘/Users/biocbuild/bbs-3.23-bioc/meat/RCy3.Rcheck/00check.log’
for details.


Installation output

RCy3.Rcheck/00install.out

##############################################################################
##############################################################################
###
### Running command:
###
###   /Library/Frameworks/R.framework/Resources/bin/R CMD INSTALL RCy3
###
##############################################################################
##############################################################################


* installing to library ‘/Library/Frameworks/R.framework/Versions/4.6-x86_64/Resources/library’
* installing *source* package ‘RCy3’ ...
** this is package ‘RCy3’ version ‘2.31.0’
** using staged installation
** R
** inst
** byte-compile and prepare package for lazy loading
** help
*** installing help indices
** building package indices
** installing vignettes
** testing if installed package can be loaded from temporary location
** testing if installed package can be loaded from final location
** testing if installed package keeps a record of temporary installation path
* DONE (RCy3)

Tests output

RCy3.Rcheck/tests/runTests.Rout


R Under development (unstable) (2025-10-21 r88958) -- "Unsuffered Consequences"
Copyright (C) 2025 The R Foundation for Statistical Computing
Platform: x86_64-apple-darwin20

R is free software and comes with ABSOLUTELY NO WARRANTY.
You are welcome to redistribute it under certain conditions.
Type 'license()' or 'licence()' for distribution details.

R is a collaborative project with many contributors.
Type 'contributors()' for more information and
'citation()' on how to cite R or R packages in publications.

Type 'demo()' for some demos, 'help()' for on-line help, or
'help.start()' for an HTML browser interface to help.
Type 'q()' to quit R.

> # tests disabled as the Bioconductor build system no longer supports interactive sessions
> #require(RCy3) || stop("unable to load RCy3")
> #BiocGenerics:::testPackage('RCy3')
> 
> proc.time()
   user  system elapsed 
  0.217   0.097   0.357 

Example timings

RCy3.Rcheck/RCy3-Ex.timings

nameusersystemelapsed
AddToGroup000
RemoveFromGroup000
UpdateAnnotationBoundedText0.0000.0000.001
addAnnotationBoundedText0.0000.0010.001
addAnnotationImage0.0000.0010.000
addAnnotationShape0.0000.0010.001
addAnnotationText000
addCyEdges000
addCyNodes0.0010.0000.001
analyzeNetwork000
applyFilter000
bundleEdges000
checkNotebookIsRunning000
checkRunningRemote000
clearEdgeBends0.0000.0000.001
clearEdgePropertyBypass000
clearNetworkCenterBypass0.0000.0010.000
clearNetworkPropertyBypass0.0010.0000.000
clearNetworkZoomBypass000
clearNodeOpacityBypass000
clearNodePropertyBypass0.0000.0000.001
clearSelection0.0000.0010.000
cloneNetwork000
closeSession000
collapseGroup0.0000.0000.001
commandEcho000
commandOpenDialog000
commandPause0.0000.0010.000
commandQuit000
commandRunFile000
commandSleep0.0010.0000.000
commandsAPI000
commandsGET000
commandsHelp000
commandsPOST0.0000.0000.001
commandsRun000
copyVisualStyle000
createColumnFilter000
createCompositeFilter000
createCytoscapejsFromNetwork0.0000.0010.001
createDegreeFilter000
createGraphFromNetwork000
createGroup000
createGroupByColumn000
createIgraphFromNetwork000
createNetworkFromCytoscapejs0.0000.0010.000
createNetworkFromDataFrames0.0010.0000.001
createNetworkFromGraph000
createNetworkFromIgraph0.0000.0000.001
createSubnetwork000
createView000
createVisualStyle000
cybrowserClose000
cybrowserDialog000
cybrowserHide000
cybrowserList000
cybrowserSend0.0010.0000.000
cybrowserShow000
cybrowserVersion0.0000.0000.001
cyrestAPI000
cyrestDELETE000
cyrestGET000
cyrestPOST000
cyrestPUT000
cytoscapeApiVersions000
cytoscapeFreeMemory000
cytoscapeMemoryStatus000
cytoscapeNumberOfCores0.0010.0000.000
cytoscapePing0.0000.0010.000
cytoscapeVersionInfo000
deleteAllNetworks0.0000.0000.001
deleteAllVisualStyle000
deleteAnnotation000
deleteDuplicateEdges000
deleteGroup000
deleteNetwork0.0010.0000.000
deleteSelectedEdges0.0000.0000.001
deleteSelectedNodes0.0000.0010.000
deleteSelfLoops000
deleteStyleMapping000
deleteTableColumn000
deleteVisualStyle0.0010.0000.000
diffusionAdvanced000
diffusionBasic0.0000.0000.001
disableApp000
doInitializeSandbox000
doRequestRemote000
doSetSandbox0.0000.0010.000
dockPanel000
dot-exportShowImage000
dot-getDefaultSandbox000
dot-getRequester000
enableApp0.0010.0000.000
expandGroup000
exportFilters000
exportImage000
exportJPG0.0000.0010.001
exportNetwork000
exportNetworkToNDEx000
exportPDF000
exportPNG000
exportPS000
exportSVG0.0000.0010.000
exportVisualStyles0.0010.0010.000
findRemoteCytoscape0.0000.0010.000
fitContent0.0000.0010.000
floatPanel000
getAbsSandboxPath000
getAllEdges0.0000.0010.000
getAllNodes000
getAllStyleMappings0.0010.0000.000
getAnnotationList000
getAppInformation0.0010.0000.000
getAppStatus0.0000.0000.001
getAppUpdates000
getArrowShapes000
getAvailableApps000
getBackgroundColorDefault0.0000.0000.001
getBrowserClientChannel000
getBrowserClientJs000
getCollectionList000
getCollectionName000
getCollectionNetworks0.0000.0000.001
getCollectionSuid000
getCurrentSandbox000
getCurrentSandboxName000
getCurrentSandboxPath000
getCurrentStyle000
getDefaultSandbox000
getDefaultSandboxPath000
getDisabledApps000
getEdgeColor0.0000.0010.001
getEdgeCount000
getEdgeInfo000
getEdgeLineStyle0.0000.0010.001
getEdgeLineWidth000
getEdgeProperty000
getEdgeSelectionColorDefault0.0000.0010.000
getEdgeTargetArrowShape000
getFilterList000
getFirstNeighbors000
getGroupInfo000
getInstalledApps000
getJupyterBridgeURL0.0000.0010.000
getLayoutNameMapping000
getLayoutNames0.0000.0000.001
getLayoutPropertyNames000
getLayoutPropertyType0.0000.0010.000
getLayoutPropertyValue000
getLineStyles000
getNetworkCenter000
getNetworkCount000
getNetworkList000
getNetworkNDExId000
getNetworkName000
getNetworkProperty000
getNetworkSuid000
getNetworkViewSuid000
getNetworkViews000
getNetworkZoom000
getNodeColor000
getNodeCount000
getNodeHeight000
getNodeLabelPosition000
getNodeLabelPositionDefault0.0000.0010.001
getNodePosition0.0000.0000.001
getNodeProperty000
getNodeSelectionColorDefault0.0000.0010.000
getNodeShapes000
getNodeSize0.0010.0010.000
getNodeWidth0.0000.0000.001
getNotebookIsRunning000
getSandboxReinitialize000
getSelectedEdgeCount0.0000.0000.001
getSelectedEdges000
getSelectedNodeCount0.0000.0010.000
getSelectedNodes000
getStyleDependencies000
getStyleMapping000
getTableColumnNames000
getTableColumnTypes0.0000.0000.001
getTableColumns000
getTableValue000
getUninstalledApps000
getVisualPropertyDefault0.0000.0000.001
getVisualPropertyNames0.0000.0010.000
getVisualStyleJSON000
getVisualStyleNames000
groupAnnotation000
hideAllPanels000
hideEdges0.0000.0010.000
hideNodes000
hidePanel000
hideSelectedEdges0.0000.0010.000
hideSelectedNodes000
importFileFromUrl0.0000.0000.001
importFilters000
importNetworkFromFile000
importNetworkFromNDEx000
importVisualStyles0.0000.0010.001
installApp000
invertEdgeSelection000
invertNodeSelection0.0010.0000.000
layoutCopycat000
layoutNetwork0.0000.0000.001
listGroups0.0000.0010.000
lockNodeDimensions000
makeSimpleGraph0.0730.0010.075
makeSimpleIgraph0.0840.0080.093
mapTableColumn000
mapVisualProperty0.0000.0000.001
matchArrowColorToEdge0.0000.0000.001
mergeNetworks000
notebookExportShowImage0.0000.0000.001
notebookShowImage0.0000.0000.001
openAppStore000
openSession000
paletteColorBrewerAccent0.0040.0010.005
paletteColorBrewerBlues000
paletteColorBrewerBrBG0.0010.0000.001
paletteColorBrewerBuGn000
paletteColorBrewerBuPu0.0000.0010.001
paletteColorBrewerDark2000
paletteColorBrewerGnBu0.0000.0000.001
paletteColorBrewerGreens0.0000.0010.000
paletteColorBrewerGreys0.0000.0000.001
paletteColorBrewerOrRd000
paletteColorBrewerOranges0.0010.0010.001
paletteColorBrewerPRGn000
paletteColorBrewerPaired000
paletteColorBrewerPastel10.0010.0000.000
paletteColorBrewerPastel20.0000.0000.001
paletteColorBrewerPiYG000
paletteColorBrewerPuBu0.0010.0000.001
paletteColorBrewerPuBuGn000
paletteColorBrewerPuOr0.0000.0000.001
paletteColorBrewerPuRd000
paletteColorBrewerPurples000
paletteColorBrewerRdBu0.0000.0000.001
paletteColorBrewerRdPu000
paletteColorBrewerRdYlBu000
paletteColorBrewerReds000
paletteColorBrewerSet10.0000.0010.000
paletteColorBrewerSet20.0010.0000.001
paletteColorBrewerSet30.0000.0010.001
paletteColorBrewerYlGn0.0010.0000.000
paletteColorBrewerYlGnBu000
paletteColorBrewerYlOrBr0.0000.0010.000
paletteColorBrewerYlOrRd0.0010.0000.001
paletteColorRandom000
paletteColorVirdis0.0000.0010.001
removeNodeCustomGraphics000
renameNetwork000
renameTableColumn000
resetDefaultSandbox0.0000.0000.001
rotateLayout000
runningRemoteCheck000
sandboxGetFileInfo000
sandboxGetFrom0.0000.0000.001
sandboxInitializer000
sandboxRemove0.0000.0000.001
sandboxRemoveFile0.0000.0000.001
sandboxSendTo000
sandboxSet0.0010.0000.000
sandboxUrlTo000
saveSession000
scaleLayout0.0000.0000.001
selectAll000
selectAllEdges000
selectAllNodes000
selectEdges000
selectEdgesAdjacentToNodes000
selectEdgesAdjacentToSelectedNodes000
selectEdgesConnectingSelectedNodes000
selectFirstNeighbors0.0000.0000.001
selectNodes0.0000.0010.000
selectNodesConnectedBySelectedEdges000
setBackgroundColorDefault000
setCatchupFilterSecs0.0000.0010.000
setCatchupNetworkSecs0.0000.0000.001
setCollectionName000
setCurrentNetwork000
setCurrentSandbox000
setCurrentView0.0010.0000.000
setDefaultSandbox0.0000.0000.001
setDefaultSandboxPath000
setEdgeColorBypass000
setEdgeColorDefault0.0000.0000.001
setEdgeColorMapping000
setEdgeFontFaceBypass000
setEdgeFontFaceDefault0.0000.0010.001
setEdgeFontFaceMapping0.0000.0000.001
setEdgeFontSizeBypass000
setEdgeFontSizeDefault000
setEdgeFontSizeMapping000
setEdgeLabelBypass000
setEdgeLabelColorBypass000
setEdgeLabelColorDefault000
setEdgeLabelColorMapping000
setEdgeLabelDefault000
setEdgeLabelMapping000
setEdgeLabelOpacityBypass0.0000.0010.000
setEdgeLabelOpacityDefault0.0000.0000.001
setEdgeLabelOpacityMapping000
setEdgeLineStyleBypass000
setEdgeLineStyleDefault000
setEdgeLineStyleMapping0.0000.0010.000
setEdgeLineWidthBypass0.0010.0000.000
setEdgeLineWidthDefault0.0000.0000.001
setEdgeLineWidthMapping0.0010.0000.001
setEdgeOpacityBypass0.0000.0000.001
setEdgeOpacityDefault000
setEdgeOpacityMapping000
setEdgePropertyBypass000
setEdgeSelectionColorDefault000
setEdgeSourceArrowColorBypass000
setEdgeSourceArrowColorDefault0.0000.0010.000
setEdgeSourceArrowColorMapping000
setEdgeSourceArrowMapping0.0000.0000.001
setEdgeSourceArrowShapeBypass0.0000.0010.000
setEdgeSourceArrowShapeDefault000
setEdgeSourceArrowShapeMapping000
setEdgeTargetArrowColorBypass000
setEdgeTargetArrowColorDefault0.0000.0000.001
setEdgeTargetArrowColorMapping000
setEdgeTargetArrowMapping000
setEdgeTargetArrowShapeBypass000
setEdgeTargetArrowShapeDefault000
setEdgeTargetArrowShapeMapping000
setEdgeTooltipBypass000
setEdgeTooltipDefault0.0000.0000.001
setEdgeTooltipMapping0.0000.0000.001
setLayoutProperties0.0000.0010.000
setModelPropagationSecs000
setNetworkCenterBypass000
setNetworkPropertyBypass000
setNetworkZoomBypass000
setNodeBorderColorBypass0.0000.0000.001
setNodeBorderColorDefault0.0010.0010.000
setNodeBorderColorMapping000
setNodeBorderOpacityBypass000
setNodeBorderOpacityDefault000
setNodeBorderOpacityMapping0.0000.0000.001
setNodeBorderWidthBypass0.0000.0000.001
setNodeBorderWidthDefault000
setNodeBorderWidthMapping000
setNodeColorBypass000
setNodeColorDefault000
setNodeColorMapping000
setNodeComboOpacityMapping000
setNodeCustomBarChart000
setNodeCustomBoxChart000
setNodeCustomHeatMapChart000
setNodeCustomLineChart000
setNodeCustomLinearGradient0.0000.0000.001
setNodeCustomPieChart000
setNodeCustomPosition0.0000.0000.001
setNodeCustomRadialGradient000
setNodeCustomRingChart0.0000.0000.001
setNodeFillOpacityBypass000
setNodeFillOpacityDefault000
setNodeFillOpacityMapping000
setNodeFontFaceBypass000
setNodeFontFaceDefault000
setNodeFontFaceMapping000
setNodeFontSizeBypass000
setNodeFontSizeDefault000
setNodeFontSizeMapping000
setNodeHeightBypass0.0010.0000.000
setNodeHeightDefault000
setNodeHeightMapping0.0000.0000.001
setNodeLabelBypass000
setNodeLabelColorBypass000
setNodeLabelColorDefault0.0010.0000.001
setNodeLabelColorMapping000
setNodeLabelDefault000
setNodeLabelMapping0.0000.0000.001
setNodeLabelOpacityBypass0.0000.0010.000
setNodeLabelOpacityDefault0.0010.0000.000
setNodeLabelOpacityMapping000
setNodeLabelPositionBypass000
setNodeLabelPositionDefault0.0000.0000.001
setNodeOpacityBypass0.0000.0010.000
setNodePositionBypass000
setNodePropertyBypass000
setNodeSelectionColorDefault000
setNodeShapeBypass000
setNodeShapeDefault000
setNodeShapeMapping000
setNodeSizeBypass0.0010.0000.000
setNodeSizeDefault0.0000.0010.000
setNodeSizeMapping0.0010.0000.000
setNodeTooltipBypass0.0000.0010.000
setNodeTooltipDefault0.0000.0000.001
setNodeTooltipMapping000
setNodeWidthBypass0.0000.0010.000
setNodeWidthDefault000
setNodeWidthMapping000
setNotebookIsRunning0.0000.0010.000
setSandboxReinitialize000
setStyleDependencies0.0000.0000.001
setVisualPropertyDefault0.0000.0010.000
setVisualStyle000
syncNodeCustomGraphicsSize000
toggleGraphicsDetails000
ungroupAnnotation000
unhideAll000
unhideEdges000
unhideNodes0.0000.0010.000
uninstallApp000
updateAnnotationImage0.0000.0000.001
updateAnnotationShape000
updateAnnotationText000
updateApp000
updateGroupAnnotation0.0000.0000.001
updateNetworkInNDEx000
updateStyleDefaults000
updateStyleMapping0.0000.0010.000