Back to Multiple platform build/check report for BioC 3.22:   simplified   long
ABCDEFGHIJKLMNOPQ[R]STUVWXYZ

This page was generated on 2025-10-22 12:06 -0400 (Wed, 22 Oct 2025).

HostnameOSArch (*)R versionInstalled pkgs
nebbiolo2Linux (Ubuntu 24.04.3 LTS)x86_644.5.1 Patched (2025-08-23 r88802) -- "Great Square Root" 4890
lconwaymacOS 12.7.6 Montereyx86_644.5.1 Patched (2025-09-10 r88807) -- "Great Square Root" 4680
kjohnson3macOS 13.7.7 Venturaarm644.5.1 Patched (2025-09-10 r88807) -- "Great Square Root" 4625
taishanLinux (openEuler 24.03 LTS)aarch644.5.0 (2025-04-11) -- "How About a Twenty-Six" 4642
Click on any hostname to see more info about the system (e.g. compilers)      (*) as reported by 'uname -p', except on Windows and Mac OS X

Package 1728/2355HostnameOS / ArchINSTALLBUILDCHECKBUILD BIN
RCSL 1.17.0  (landing page)
Qinglin Mei
Snapshot Date: 2025-10-21 13:45 -0400 (Tue, 21 Oct 2025)
git_url: https://git.bioconductor.org/packages/RCSL
git_branch: devel
git_last_commit: d6ee94a
git_last_commit_date: 2025-04-15 12:33:13 -0400 (Tue, 15 Apr 2025)
nebbiolo2Linux (Ubuntu 24.04.3 LTS) / x86_64  OK    OK    OK  UNNEEDED, same version is already published
lconwaymacOS 12.7.6 Monterey / x86_64  OK    OK    OK    OK  UNNEEDED, same version is already published
kjohnson3macOS 13.7.7 Ventura / arm64  OK    OK    OK    OK  UNNEEDED, same version is already published
taishanLinux (openEuler 24.03 LTS) / aarch64  OK    OK    NA  


CHECK results for RCSL on kjohnson3

To the developers/maintainers of the RCSL package:
- Allow up to 24 hours (and sometimes 48 hours) for your latest push to git@git.bioconductor.org:packages/RCSL.git to reflect on this report. See Troubleshooting Build Report for more information.
- Use the following Renviron settings to reproduce errors and warnings.
- If 'R CMD check' started to fail recently on the Linux builder(s) over a missing dependency, add the missing dependency to 'Suggests:' in your DESCRIPTION file. See Renviron.bioc for more information.

raw results


Summary

Package: RCSL
Version: 1.17.0
Command: /Library/Frameworks/R.framework/Resources/bin/R CMD check --install=check:RCSL.install-out.txt --library=/Library/Frameworks/R.framework/Resources/library --no-vignettes --timings RCSL_1.17.0.tar.gz
StartedAt: 2025-10-21 21:33:25 -0400 (Tue, 21 Oct 2025)
EndedAt: 2025-10-21 21:36:00 -0400 (Tue, 21 Oct 2025)
EllapsedTime: 155.2 seconds
RetCode: 0
Status:   OK  
CheckDir: RCSL.Rcheck
Warnings: 0

Command output

##############################################################################
##############################################################################
###
### Running command:
###
###   /Library/Frameworks/R.framework/Resources/bin/R CMD check --install=check:RCSL.install-out.txt --library=/Library/Frameworks/R.framework/Resources/library --no-vignettes --timings RCSL_1.17.0.tar.gz
###
##############################################################################
##############################################################################


* using log directory ‘/Users/biocbuild/bbs-3.22-bioc/meat/RCSL.Rcheck’
* using R version 4.5.1 Patched (2025-09-10 r88807)
* using platform: aarch64-apple-darwin20
* R was compiled by
    Apple clang version 16.0.0 (clang-1600.0.26.6)
    GNU Fortran (GCC) 14.2.0
* running under: macOS Ventura 13.7.7
* using session charset: UTF-8
* using option ‘--no-vignettes’
* checking for file ‘RCSL/DESCRIPTION’ ... OK
* checking extension type ... Package
* this is package ‘RCSL’ version ‘1.17.0’
* package encoding: UTF-8
* checking package namespace information ... OK
* checking package dependencies ... OK
* checking if this is a source package ... OK
* checking if there is a namespace ... OK
* checking for hidden files and directories ... OK
* checking for portable file names ... OK
* checking for sufficient/correct file permissions ... OK
* checking whether package ‘RCSL’ can be installed ... OK
* checking installed package size ... OK
* checking package directory ... OK
* checking ‘build’ directory ... OK
* checking DESCRIPTION meta-information ... OK
* checking top-level files ... OK
* checking for left-over files ... OK
* checking index information ... OK
* checking package subdirectories ... OK
* checking code files for non-ASCII characters ... OK
* checking R files for syntax errors ... OK
* checking whether the package can be loaded ... OK
* checking whether the package can be loaded with stated dependencies ... OK
* checking whether the package can be unloaded cleanly ... OK
* checking whether the namespace can be loaded with stated dependencies ... OK
* checking whether the namespace can be unloaded cleanly ... OK
* checking dependencies in R code ... NOTE
Namespaces in Imports field not imported from:
  ‘MatrixGenerics’ ‘Rcpp’ ‘SingleCellExperiment’
  All declared Imports should be used.
* checking S3 generic/method consistency ... OK
* checking replacement functions ... OK
* checking foreign function calls ... OK
* checking R code for possible problems ... NOTE
PlotMST: no visible binding for global variable ‘X1’
PlotMST: no visible binding for global variable ‘X2’
PlotMST: no visible binding for global variable ‘label’
PlotMST: no visible binding for global variable ‘from.x’
PlotMST: no visible binding for global variable ‘to.x’
PlotMST: no visible binding for global variable ‘from.y’
PlotMST: no visible binding for global variable ‘to.y’
PlotMST: no visible binding for global variable ‘V1’
PlotMST: no visible binding for global variable ‘V2’
PlotPseudoTime: no visible binding for global variable ‘x’
PlotPseudoTime: no visible binding for global variable ‘y’
PlotPseudoTime: no visible binding for global variable ‘Timepoint’
PlotTrajectory: no visible binding for global variable ‘X1’
PlotTrajectory: no visible binding for global variable ‘X2’
PlotTrajectory: no visible binding for global variable ‘label’
PlotTrajectory: no visible binding for global variable ‘x’
PlotTrajectory: no visible binding for global variable ‘y’
Undefined global functions or variables:
  Timepoint V1 V2 X1 X2 from.x from.y label to.x to.y x y
* checking Rd files ... NOTE
checkRd: (-1) BDSM.Rd:6: Lost braces; missing escapes or markup?
     6 | min_{B>=0, B*1=1, F'*F=I}  ||B - A||_1 + r*||B||^2 + 2*lambda*trace(F'*L*F)}
       |     ^
checkRd: (-1) BDSM.Rd:22: Lost braces; missing escapes or markup?
    22 | min_{B>=0, B*1=1, F'*F=I}  ||B - A||_1 + r*||B||^2 + 2*lambda*trace(F'*L*F)
       |     ^
* checking Rd metadata ... OK
* checking Rd cross-references ... OK
* checking for missing documentation entries ... OK
* checking for code/documentation mismatches ... OK
* checking Rd \usage sections ... OK
* checking Rd contents ... OK
* checking for unstated dependencies in examples ... OK
* checking contents of ‘data’ directory ... OK
* checking data for non-ASCII characters ... OK
* checking LazyData ... OK
* checking data for ASCII and uncompressed saves ... OK
* checking files in ‘vignettes’ ... OK
* checking examples ... OK
Examples with CPU (user + system) or elapsed time > 5s
                     user system elapsed
PlotMST            13.454  0.136  13.916
TrajectoryAnalysis 13.320  0.207  13.577
PlotTrajectory     12.924  0.214  13.193
BDSM               12.790  0.141  12.949
EstClusters        12.653  0.103  12.786
NeigRepresent      12.423  0.139  12.767
getLineage         12.430  0.116  12.597
GenesFilter        11.972  0.511  12.982
PlotPseudoTime     12.258  0.109  12.462
SimS               12.162  0.137  12.313
* checking for unstated dependencies in vignettes ... OK
* checking package vignettes ... OK
* checking running R code from vignettes ... SKIPPED
* checking re-building of vignette outputs ... SKIPPED
* checking PDF version of manual ... OK
* DONE

Status: 3 NOTEs
See
  ‘/Users/biocbuild/bbs-3.22-bioc/meat/RCSL.Rcheck/00check.log’
for details.


Installation output

RCSL.Rcheck/00install.out

##############################################################################
##############################################################################
###
### Running command:
###
###   /Library/Frameworks/R.framework/Resources/bin/R CMD INSTALL RCSL
###
##############################################################################
##############################################################################


* installing to library ‘/Library/Frameworks/R.framework/Versions/4.5-arm64/Resources/library’
* installing *source* package ‘RCSL’ ...
** this is package ‘RCSL’ version ‘1.17.0’
** using staged installation
** R
** data
*** moving datasets to lazyload DB
** byte-compile and prepare package for lazy loading
** help
*** installing help indices
** building package indices
** installing vignettes
** testing if installed package can be loaded from temporary location
** testing if installed package can be loaded from final location
** testing if installed package keeps a record of temporary installation path
* DONE (RCSL)

Tests output


Example timings

RCSL.Rcheck/RCSL-Ex.timings

nameusersystemelapsed
BDSM12.790 0.14112.949
EstClusters12.653 0.10312.786
GenesFilter11.972 0.51112.982
NeigRepresent12.423 0.13912.767
PlotMST13.454 0.13613.916
PlotPseudoTime12.258 0.10912.462
PlotTrajectory12.924 0.21413.193
RCSL3.0520.2703.324
SimS12.162 0.13712.313
TrajectoryAnalysis13.320 0.20713.577
getLineage12.430 0.11612.597