Back to Multiple platform build/check report for BioC 3.22:   simplified   long
ABCDEFGHIJKLMNO[P]QRSTUVWXYZ

This page was generated on 2025-10-22 12:04 -0400 (Wed, 22 Oct 2025).

HostnameOSArch (*)R versionInstalled pkgs
nebbiolo2Linux (Ubuntu 24.04.3 LTS)x86_644.5.1 Patched (2025-08-23 r88802) -- "Great Square Root" 4890
lconwaymacOS 12.7.6 Montereyx86_644.5.1 Patched (2025-09-10 r88807) -- "Great Square Root" 4680
kjohnson3macOS 13.7.7 Venturaarm644.5.1 Patched (2025-09-10 r88807) -- "Great Square Root" 4625
taishanLinux (openEuler 24.03 LTS)aarch644.5.0 (2025-04-11) -- "How About a Twenty-Six" 4642
Click on any hostname to see more info about the system (e.g. compilers)      (*) as reported by 'uname -p', except on Windows and Mac OS X

Package 1647/2355HostnameOS / ArchINSTALLBUILDCHECKBUILD BIN
PRONE 1.3.2  (landing page)
Lis Arend
Snapshot Date: 2025-10-21 13:45 -0400 (Tue, 21 Oct 2025)
git_url: https://git.bioconductor.org/packages/PRONE
git_branch: devel
git_last_commit: a875b50
git_last_commit_date: 2025-09-25 06:07:44 -0400 (Thu, 25 Sep 2025)
nebbiolo2Linux (Ubuntu 24.04.3 LTS) / x86_64  OK    OK    OK  UNNEEDED, same version is already published
lconwaymacOS 12.7.6 Monterey / x86_64  OK    OK    OK    OK  UNNEEDED, same version is already published
kjohnson3macOS 13.7.7 Ventura / arm64  OK    OK    OK    OK  UNNEEDED, same version is already published
taishanLinux (openEuler 24.03 LTS) / aarch64  OK    OK    NA  


CHECK results for PRONE on nebbiolo2

To the developers/maintainers of the PRONE package:
- Allow up to 24 hours (and sometimes 48 hours) for your latest push to git@git.bioconductor.org:packages/PRONE.git to reflect on this report. See Troubleshooting Build Report for more information.
- Use the following Renviron settings to reproduce errors and warnings.
- If 'R CMD check' started to fail recently on the Linux builder(s) over a missing dependency, add the missing dependency to 'Suggests:' in your DESCRIPTION file. See Renviron.bioc for more information.

raw results


Summary

Package: PRONE
Version: 1.3.2
Command: /home/biocbuild/bbs-3.22-bioc/R/bin/R CMD check --install=check:PRONE.install-out.txt --library=/home/biocbuild/bbs-3.22-bioc/R/site-library --timings PRONE_1.3.2.tar.gz
StartedAt: 2025-10-22 03:32:50 -0400 (Wed, 22 Oct 2025)
EndedAt: 2025-10-22 03:40:47 -0400 (Wed, 22 Oct 2025)
EllapsedTime: 476.4 seconds
RetCode: 0
Status:   OK  
CheckDir: PRONE.Rcheck
Warnings: 0

Command output

##############################################################################
##############################################################################
###
### Running command:
###
###   /home/biocbuild/bbs-3.22-bioc/R/bin/R CMD check --install=check:PRONE.install-out.txt --library=/home/biocbuild/bbs-3.22-bioc/R/site-library --timings PRONE_1.3.2.tar.gz
###
##############################################################################
##############################################################################


* using log directory ‘/home/biocbuild/bbs-3.22-bioc/meat/PRONE.Rcheck’
* using R version 4.5.1 Patched (2025-08-23 r88802)
* using platform: x86_64-pc-linux-gnu
* R was compiled by
    gcc (Ubuntu 13.3.0-6ubuntu2~24.04) 13.3.0
    GNU Fortran (Ubuntu 13.3.0-6ubuntu2~24.04) 13.3.0
* running under: Ubuntu 24.04.3 LTS
* using session charset: UTF-8
* checking for file ‘PRONE/DESCRIPTION’ ... OK
* checking extension type ... Package
* this is package ‘PRONE’ version ‘1.3.2’
* package encoding: UTF-8
* checking package namespace information ... OK
* checking package dependencies ... INFO
Imports includes 34 non-default packages.
Importing from so many packages makes the package vulnerable to any of
them becoming unavailable.  Move as many as possible to Suggests and
use conditionally.
* checking if this is a source package ... OK
* checking if there is a namespace ... OK
* checking for hidden files and directories ... OK
* checking for portable file names ... OK
* checking for sufficient/correct file permissions ... OK
* checking whether package ‘PRONE’ can be installed ... OK
* checking installed package size ... OK
* checking package directory ... OK
* checking ‘build’ directory ... OK
* checking DESCRIPTION meta-information ... OK
* checking top-level files ... OK
* checking for left-over files ... OK
* checking index information ... OK
* checking package subdirectories ... OK
* checking code files for non-ASCII characters ... OK
* checking R files for syntax errors ... OK
* checking whether the package can be loaded ... OK
* checking whether the package can be loaded with stated dependencies ... OK
* checking whether the package can be unloaded cleanly ... OK
* checking whether the namespace can be loaded with stated dependencies ... OK
* checking whether the namespace can be unloaded cleanly ... OK
* checking loading without being on the library search path ... OK
* checking dependencies in R code ... NOTE
Unexported objects imported by ':::' calls:
  ‘NormalyzerDE:::calculateAvgMadMem’
  ‘NormalyzerDE:::calculateAvgReplicateVariation’
  ‘NormalyzerDE:::calculatePercentageAvgDiffInMat’
  ‘NormalyzerDE:::calculateReplicateCV’
  ‘NormalyzerDE:::calculateSummarizedCorrelationVector’
  See the note in ?`:::` about the use of this operator.
* checking S3 generic/method consistency ... OK
* checking replacement functions ... OK
* checking foreign function calls ... OK
* checking R code for possible problems ... NOTE
plot_upset_DE: no visible global function definition for
  ‘packageVersion’
Undefined global functions or variables:
  packageVersion
Consider adding
  importFrom("utils", "packageVersion")
to your NAMESPACE file.
* checking Rd files ... OK
* checking Rd metadata ... OK
* checking Rd cross-references ... OK
* checking for missing documentation entries ... OK
* checking for code/documentation mismatches ... OK
* checking Rd \usage sections ... OK
* checking Rd contents ... OK
* checking for unstated dependencies in examples ... OK
* checking contents of ‘data’ directory ... OK
* checking data for non-ASCII characters ... OK
* checking data for ASCII and uncompressed saves ... OK
* checking files in ‘vignettes’ ... OK
* checking examples ... OK
* checking for unstated dependencies in vignettes ... OK
* checking package vignettes ... OK
* checking re-building of vignette outputs ... OK
* checking PDF version of manual ... OK
* DONE

Status: 2 NOTEs
See
  ‘/home/biocbuild/bbs-3.22-bioc/meat/PRONE.Rcheck/00check.log’
for details.


Installation output

PRONE.Rcheck/00install.out

##############################################################################
##############################################################################
###
### Running command:
###
###   /home/biocbuild/bbs-3.22-bioc/R/bin/R CMD INSTALL PRONE
###
##############################################################################
##############################################################################


* installing to library ‘/home/biocbuild/bbs-3.22-bioc/R/site-library’
* installing *source* package ‘PRONE’ ...
** this is package ‘PRONE’ version ‘1.3.2’
** using staged installation
** R
** data
** inst
** byte-compile and prepare package for lazy loading
** help
*** installing help indices
*** copying figures
** building package indices
** installing vignettes
** testing if installed package can be loaded from temporary location
** testing if installed package can be loaded from final location
** testing if installed package keeps a record of temporary installation path
* DONE (PRONE)

Tests output


Example timings

PRONE.Rcheck/PRONE-Ex.timings

nameusersystemelapsed
apply_thresholds0.0300.0020.032
detect_outliers_POMA1.7390.0791.817
eigenMSNorm0.5800.0560.637
export_data0.0270.0010.027
extract_consensus_DE_candidates0.0780.0010.079
filter_out_NA_proteins_by_threshold0.2050.0010.199
filter_out_complete_NA_proteins0.0520.0000.052
filter_out_proteins_by_ID0.1530.0000.153
filter_out_proteins_by_value0.1530.0010.154
get_NA_overview0.0340.0020.036
get_normalization_methods0.0010.0000.001
get_overview_DE0.0580.0020.060
get_proteins_by_value0.1430.0020.145
get_spiked_stats_DE0.0840.0030.087
globalIntNorm0.1270.0000.127
globalMeanNorm0.1320.0000.132
globalMedianNorm0.1360.0110.147
impute_se0.7530.0130.703
irsNorm0.0560.0010.057
limmaNorm0.0690.0000.069
load_data0.0470.0010.048
load_spike_data0.0380.0020.040
loessCycNorm0.1170.0020.120
loessFNorm0.0830.0010.085
meanNorm0.0430.0000.043
medianAbsDevNorm0.0910.0040.095
medianNorm0.0580.0010.059
normalize_se3.3830.0843.468
normalize_se_combination4.0730.1844.257
normalize_se_single3.0970.1033.201
normicsNorm2.9920.0263.018
plot_NA_density0.3880.0040.376
plot_NA_frequency0.2240.0000.207
plot_NA_heatmap1.2780.0321.310
plot_PCA1.3050.0221.327
plot_ROC_AUC_spiked1.1850.0201.197
plot_TP_FP_spiked_bar0.3130.0040.317
plot_TP_FP_spiked_box0.4060.0010.407
plot_TP_FP_spiked_scatter0.4300.0040.434
plot_boxplots4.5250.0954.529
plot_condition_overview0.2470.0010.248
plot_densities2.6940.0272.637
plot_fold_changes_spiked0.5690.0120.567
plot_heatmap3.6980.0463.744
plot_heatmap_DE1.1810.0051.187
plot_histogram_spiked0.3940.0020.389
plot_identified_spiked_proteins0.4510.0030.453
plot_intersection_enrichment0.7940.0102.889
plot_intragroup_PCV0.5810.0010.582
plot_intragroup_PEV0.4210.0020.424
plot_intragroup_PMAD0.4350.0010.436
plot_intragroup_correlation0.4020.0010.403
plot_jaccard_heatmap0.2950.0000.285
plot_logFC_thresholds_spiked0.6790.0050.684
plot_markers_boxplots0.8710.0020.857
plot_nr_prot_samples0.2690.0010.270
plot_overview_DE_bar0.4160.0010.418
plot_overview_DE_tile0.2370.0040.242
plot_profiles_spiked0.8170.0050.801
plot_pvalues_spiked0.5080.0040.513
plot_stats_spiked_heatmap0.3970.0080.405
plot_tot_int_samples0.2500.0080.258
plot_upset0.8330.0460.878
plot_upset_DE0.0310.0010.032
plot_volcano_DE4.0120.2524.265
quantileNorm0.0430.0040.049
readPRONE_example0.0020.0000.001
remove_POMA_outliers0.6840.0340.718
remove_assays_from_SE0.0470.0000.047
remove_reference_samples0.0450.0020.048
remove_samples_manually0.0400.0000.041
rlrMACycNorm0.5690.0050.575
rlrMANorm0.1250.0000.126
rlrNorm0.0830.0010.084
robnormNorm0.0720.0020.074
run_DE2.3490.0612.362
specify_comparisons0.0400.0040.032
subset_SE_by_norm0.0760.0030.080
tmmNorm0.1320.0200.152
vsnNorm1.0800.1781.258