| Back to Multiple platform build/check report for BioC 3.22: simplified long | 
 | 
This page was generated on 2025-10-28 12:03 -0400 (Tue, 28 Oct 2025).
| Hostname | OS | Arch (*) | R version | Installed pkgs | 
|---|---|---|---|---|
| nebbiolo2 | Linux (Ubuntu 24.04.3 LTS) | x86_64 | 4.5.1 Patched (2025-08-23 r88802) -- "Great Square Root" | 4901 | 
| lconway | macOS 12.7.6 Monterey | x86_64 | 4.5.1 Patched (2025-09-10 r88807) -- "Great Square Root" | 4691 | 
| kjohnson3 | macOS 13.7.7 Ventura | arm64 | 4.5.1 Patched (2025-09-10 r88807) -- "Great Square Root" | 4637 | 
| Click on any hostname to see more info about the system (e.g. compilers) (*) as reported by 'uname -p', except on Windows and Mac OS X | ||||
| Package 1500/2361 | Hostname | OS / Arch | INSTALL | BUILD | CHECK | BUILD BIN | ||||||||
| OmicsMLRepoR 1.3.3  (landing page) Sehyun Oh 
 | nebbiolo2 | Linux (Ubuntu 24.04.3 LTS) / x86_64 | OK | OK | OK |  | ||||||||
| lconway | macOS 12.7.6 Monterey / x86_64 | OK | OK | OK | OK |  | ||||||||
| kjohnson3 | macOS 13.7.7 Ventura / arm64 | OK | OK | OK | OK |  | ||||||||
| To the developers/maintainers of the OmicsMLRepoR package: - Allow up to 24 hours (and sometimes 48 hours) for your latest push to git@git.bioconductor.org:packages/OmicsMLRepoR.git to reflect on this report. See Troubleshooting Build Report for more information. - Use the following Renviron settings to reproduce errors and warnings. - If 'R CMD check' started to fail recently on the Linux builder(s) over a missing dependency, add the missing dependency to 'Suggests:' in your DESCRIPTION file. See Renviron.bioc for more information. | 
| Package: OmicsMLRepoR | 
| Version: 1.3.3 | 
| Command: /home/biocbuild/bbs-3.22-bioc/R/bin/R CMD check --install=check:OmicsMLRepoR.install-out.txt --library=/home/biocbuild/bbs-3.22-bioc/R/site-library --timings OmicsMLRepoR_1.3.3.tar.gz | 
| StartedAt: 2025-10-28 02:18:30 -0400 (Tue, 28 Oct 2025) | 
| EndedAt: 2025-10-28 02:21:28 -0400 (Tue, 28 Oct 2025) | 
| EllapsedTime: 178.2 seconds | 
| RetCode: 0 | 
| Status: OK | 
| CheckDir: OmicsMLRepoR.Rcheck | 
| Warnings: 0 | 
##############################################################################
##############################################################################
###
### Running command:
###
###   /home/biocbuild/bbs-3.22-bioc/R/bin/R CMD check --install=check:OmicsMLRepoR.install-out.txt --library=/home/biocbuild/bbs-3.22-bioc/R/site-library --timings OmicsMLRepoR_1.3.3.tar.gz
###
##############################################################################
##############################################################################
* using log directory ‘/home/biocbuild/bbs-3.22-bioc/meat/OmicsMLRepoR.Rcheck’
* using R version 4.5.1 Patched (2025-08-23 r88802)
* using platform: x86_64-pc-linux-gnu
* R was compiled by
    gcc (Ubuntu 13.3.0-6ubuntu2~24.04) 13.3.0
    GNU Fortran (Ubuntu 13.3.0-6ubuntu2~24.04) 13.3.0
* running under: Ubuntu 24.04.3 LTS
* using session charset: UTF-8
* checking for file ‘OmicsMLRepoR/DESCRIPTION’ ... OK
* checking extension type ... Package
* this is package ‘OmicsMLRepoR’ version ‘1.3.3’
* package encoding: UTF-8
* checking package namespace information ... OK
* checking package dependencies ... OK
* checking if this is a source package ... OK
* checking if there is a namespace ... OK
* checking for hidden files and directories ... OK
* checking for portable file names ... OK
* checking for sufficient/correct file permissions ... OK
* checking whether package ‘OmicsMLRepoR’ can be installed ... OK
* checking installed package size ... OK
* checking package directory ... OK
* checking ‘build’ directory ... OK
* checking DESCRIPTION meta-information ... OK
* checking top-level files ... OK
* checking for left-over files ... OK
* checking index information ... OK
* checking package subdirectories ... OK
* checking code files for non-ASCII characters ... OK
* checking R files for syntax errors ... OK
* checking whether the package can be loaded ... OK
* checking whether the package can be loaded with stated dependencies ... OK
* checking whether the package can be unloaded cleanly ... OK
* checking whether the namespace can be loaded with stated dependencies ... OK
* checking whether the namespace can be unloaded cleanly ... OK
* checking loading without being on the library search path ... OK
* checking dependencies in R code ... OK
* checking S3 generic/method consistency ... OK
* checking replacement functions ... OK
* checking foreign function calls ... OK
* checking R code for possible problems ... NOTE
.getAllTargetForms: no visible binding for global variable ‘.’
.getOntos: no visible binding for global variable ‘.’
availableTerms: no visible binding for global variable ‘.’
ontoTreePlot: no visible binding for global variable ‘iri’
ontoTreePlot: no visible binding for global variable ‘text’
ontoTreePlot: no visible binding for global variable ‘parent’
ontoTreePlot: no visible binding for global variable ‘from’
ontoTreePlot: no visible binding for global variable ‘to’
Undefined global functions or variables:
  . from iri parent text to
Consider adding
  importFrom("graphics", "text")
to your NAMESPACE file.
* checking Rd files ... OK
* checking Rd metadata ... OK
* checking Rd cross-references ... OK
* checking for missing documentation entries ... OK
* checking for code/documentation mismatches ... OK
* checking Rd \usage sections ... OK
* checking Rd contents ... OK
* checking for unstated dependencies in examples ... OK
* checking contents of ‘data’ directory ... OK
* checking data for non-ASCII characters ... OK
* checking data for ASCII and uncompressed saves ... OK
* checking files in ‘vignettes’ ... OK
* checking examples ... OK
Examples with CPU (user + system) or elapsed time > 5s
               user system elapsed
ontoSummarize 0.433  0.062   5.052
* checking for unstated dependencies in ‘tests’ ... OK
* checking tests ...
  Running ‘testthat.R’
 OK
* checking for unstated dependencies in vignettes ... OK
* checking package vignettes ... OK
* checking re-building of vignette outputs ... OK
* checking PDF version of manual ... OK
* DONE
Status: 1 NOTE
See
  ‘/home/biocbuild/bbs-3.22-bioc/meat/OmicsMLRepoR.Rcheck/00check.log’
for details.
OmicsMLRepoR.Rcheck/00install.out
############################################################################## ############################################################################## ### ### Running command: ### ### /home/biocbuild/bbs-3.22-bioc/R/bin/R CMD INSTALL OmicsMLRepoR ### ############################################################################## ############################################################################## * installing to library ‘/home/biocbuild/bbs-3.22-bioc/R/site-library’ * installing *source* package ‘OmicsMLRepoR’ ... ** this is package ‘OmicsMLRepoR’ version ‘1.3.3’ ** using staged installation ** R ** data ** inst ** byte-compile and prepare package for lazy loading ** help *** installing help indices ** building package indices ** installing vignettes ** testing if installed package can be loaded from temporary location ** testing if installed package can be loaded from final location ** testing if installed package keeps a record of temporary installation path * DONE (OmicsMLRepoR)
OmicsMLRepoR.Rcheck/tests/testthat.Rout
R version 4.5.1 Patched (2025-08-23 r88802) -- "Great Square Root"
Copyright (C) 2025 The R Foundation for Statistical Computing
Platform: x86_64-pc-linux-gnu
R is free software and comes with ABSOLUTELY NO WARRANTY.
You are welcome to redistribute it under certain conditions.
Type 'license()' or 'licence()' for distribution details.
R is a collaborative project with many contributors.
Type 'contributors()' for more information and
'citation()' on how to cite R or R packages in publications.
Type 'demo()' for some demos, 'help()' for on-line help, or
'help.start()' for an HTML browser interface to help.
Type 'q()' to quit R.
> # This file is part of the standard setup for testthat.
> # It is recommended that you do not modify it.
> #
> # Where should you do additional test configuration?
> # Learn more about the roles of various files in:
> # * https://r-pkgs.org/testing-design.html#sec-tests-files-overview
> # * https://testthat.r-lib.org/articles/special-files.html
> 
> library(testthat)
> library(OmicsMLRepoR)
> 
> test_check("OmicsMLRepoR")
[ FAIL 0 | WARN 1 | SKIP 0 | PASS 36 ]
[ FAIL 0 | WARN 1 | SKIP 0 | PASS 36 ]
> 
> proc.time()
   user  system elapsed 
 21.264   1.706  27.109 
OmicsMLRepoR.Rcheck/OmicsMLRepoR-Ex.timings
| name | user | system | elapsed | |
| availableTerms | 0.008 | 0.001 | 0.009 | |
| getLongMetaTb | 0.204 | 0.033 | 0.242 | |
| getMetadata | 1.433 | 0.131 | 1.854 | |
| getNarrowMetaTb | 0.04 | 0.00 | 0.04 | |
| getOntoInfo | 0.341 | 0.005 | 3.260 | |
| getShortMetaTb | 0.1 | 0.0 | 0.1 | |
| getWideMetaTb | 0.161 | 0.002 | 0.162 | |
| get_ontologies | 0.000 | 0.000 | 0.001 | |
| merge_vectors | 0 | 0 | 0 | |
| ontoSummarize | 0.433 | 0.062 | 5.052 | |
| ontoTreePlot | 0.198 | 0.132 | 0.864 | |
| spreadMeta | 0.047 | 0.010 | 0.056 | |
| tree_filter | 2.068 | 0.266 | 3.747 | |