Back to Multiple platform build/check report for BioC 3.23:   simplified   long
ABCDEFGHIJKLM[N]OPQRSTUVWXYZ

This page was generated on 2025-11-20 11:38 -0500 (Thu, 20 Nov 2025).

HostnameOSArch (*)R versionInstalled pkgs
nebbiolo1Linux (Ubuntu 24.04.3 LTS)x86_64R Under development (unstable) (2025-10-20 r88955) -- "Unsuffered Consequences" 4827
lconwaymacOS 12.7.6 Montereyx86_64R Under development (unstable) (2025-10-21 r88958) -- "Unsuffered Consequences" 4600
kjohnson3macOS 13.7.7 Venturaarm64R Under development (unstable) (2025-11-04 r88984) -- "Unsuffered Consequences" 4564
Click on any hostname to see more info about the system (e.g. compilers)      (*) as reported by 'uname -p', except on Windows and Mac OS X

Package 1420/2325HostnameOS / ArchINSTALLBUILDCHECKBUILD BIN
NanoMethViz 3.7.0  (landing page)
Shian Su
Snapshot Date: 2025-11-19 13:40 -0500 (Wed, 19 Nov 2025)
git_url: https://git.bioconductor.org/packages/NanoMethViz
git_branch: devel
git_last_commit: 4349b36
git_last_commit_date: 2025-10-29 11:04:08 -0500 (Wed, 29 Oct 2025)
nebbiolo1Linux (Ubuntu 24.04.3 LTS) / x86_64  OK    OK    OK  UNNEEDED, same version is already published
lconwaymacOS 12.7.6 Monterey / x86_64  OK    OK    OK    OK  NO, package depends on 'bsseq' which is only available as a source package that needs compilation
kjohnson3macOS 13.7.7 Ventura / arm64  OK    OK    OK    OK  NO, package depends on 'BiocSingular' which is only available as a source package that needs compilation


CHECK results for NanoMethViz on lconway

To the developers/maintainers of the NanoMethViz package:
- Allow up to 24 hours (and sometimes 48 hours) for your latest push to git@git.bioconductor.org:packages/NanoMethViz.git to reflect on this report. See Troubleshooting Build Report for more information.
- Use the following Renviron settings to reproduce errors and warnings.
- If 'R CMD check' started to fail recently on the Linux builder(s) over a missing dependency, add the missing dependency to 'Suggests:' in your DESCRIPTION file. See Renviron.bioc for more information.

raw results


Summary

Package: NanoMethViz
Version: 3.7.0
Command: /Library/Frameworks/R.framework/Resources/bin/R CMD check --install=check:NanoMethViz.install-out.txt --library=/Library/Frameworks/R.framework/Resources/library --no-vignettes --timings NanoMethViz_3.7.0.tar.gz
StartedAt: 2025-11-19 22:46:34 -0500 (Wed, 19 Nov 2025)
EndedAt: 2025-11-19 22:59:37 -0500 (Wed, 19 Nov 2025)
EllapsedTime: 782.1 seconds
RetCode: 0
Status:   OK  
CheckDir: NanoMethViz.Rcheck
Warnings: 0

Command output

##############################################################################
##############################################################################
###
### Running command:
###
###   /Library/Frameworks/R.framework/Resources/bin/R CMD check --install=check:NanoMethViz.install-out.txt --library=/Library/Frameworks/R.framework/Resources/library --no-vignettes --timings NanoMethViz_3.7.0.tar.gz
###
##############################################################################
##############################################################################


* using log directory ‘/Users/biocbuild/bbs-3.23-bioc/meat/NanoMethViz.Rcheck’
* using R Under development (unstable) (2025-10-21 r88958)
* using platform: x86_64-apple-darwin20
* R was compiled by
    Apple clang version 14.0.0 (clang-1400.0.29.202)
    GNU Fortran (GCC) 14.2.0
* running under: macOS Ventura 13.7.8
* using session charset: UTF-8
* using option ‘--no-vignettes’
* checking for file ‘NanoMethViz/DESCRIPTION’ ... OK
* checking extension type ... Package
* this is package ‘NanoMethViz’ version ‘3.7.0’
* package encoding: UTF-8
* checking package namespace information ... OK
* checking package dependencies ... INFO
Imports includes 31 non-default packages.
Importing from so many packages makes the package vulnerable to any of
them becoming unavailable.  Move as many as possible to Suggests and
use conditionally.
* checking if this is a source package ... OK
* checking if there is a namespace ... OK
* checking for hidden files and directories ... OK
* checking for portable file names ... OK
* checking for sufficient/correct file permissions ... OK
* checking whether package ‘NanoMethViz’ can be installed ... OK
* used C++ compiler: ‘Apple clang version 14.0.3 (clang-1403.0.22.14.1)’
* used SDK: ‘MacOSX11.3.1.sdk’
* checking C++ specification ... OK
  Not all R platforms support C++20
* checking installed package size ... INFO
  installed size is 13.6Mb
* checking package directory ... OK
* checking ‘build’ directory ... OK
* checking DESCRIPTION meta-information ... OK
* checking top-level files ... OK
* checking for left-over files ... OK
* checking index information ... OK
* checking package subdirectories ... OK
* checking code files for non-ASCII characters ... OK
* checking R files for syntax errors ... OK
* checking whether the package can be loaded ... OK
* checking whether the package can be loaded with stated dependencies ... OK
* checking whether the package can be unloaded cleanly ... OK
* checking whether the namespace can be loaded with stated dependencies ... OK
* checking whether the namespace can be unloaded cleanly ... OK
* checking whether startup messages can be suppressed ... OK
* checking dependencies in R code ... OK
* checking S3 generic/method consistency ... OK
* checking replacement functions ... OK
* checking foreign function calls ... OK
* checking R code for possible problems ... NOTE
reformat_modkit: no visible binding for global variable ‘ref_position’
Undefined global functions or variables:
  ref_position
* checking Rd files ... OK
* checking Rd metadata ... OK
* checking Rd cross-references ... OK
* checking for missing documentation entries ... OK
* checking for code/documentation mismatches ... OK
* checking Rd \usage sections ... OK
* checking Rd contents ... OK
* checking for unstated dependencies in examples ... OK
* checking line endings in C/C++/Fortran sources/headers ... OK
* checking line endings in Makefiles ... OK
* checking compilation flags in Makevars ... OK
* checking for GNU extensions in Makefiles ... OK
* checking for portable use of $(BLAS_LIBS) and $(LAPACK_LIBS) ... OK
* checking use of PKG_*FLAGS in Makefiles ... OK
* checking compiled code ... INFO
Note: information on .o files is not available
* checking files in ‘vignettes’ ... OK
* checking examples ... OK
Examples with CPU (user + system) or elapsed time > 5s
                         user system elapsed
get_exons              76.319  4.262  81.524
get_exons_homo_sapiens 34.856  1.738  36.811
filter_methy           29.548  4.861  34.617
get_exons_mus_musculus 12.563  0.845  13.487
plot_gene              11.459  0.218  11.748
plot_gene_heatmap       9.862  0.176  10.084
plot_grange             8.597  0.599   9.288
plot_region             8.319  0.260   8.628
plot_grange_heatmap     6.420  0.086   6.528
NanoMethResult-class    5.054  1.368   6.476
plot_agg_regions        6.067  0.102   6.193
plot_region_heatmap     5.978  0.094   6.116
plot_agg_genes          4.985  0.082   5.081
* checking for unstated dependencies in ‘tests’ ... OK
* checking tests ...
  Running ‘testthat.R’
 OK
* checking for unstated dependencies in vignettes ... OK
* checking package vignettes ... OK
* checking running R code from vignettes ... SKIPPED
* checking re-building of vignette outputs ... SKIPPED
* checking PDF version of manual ... OK
* DONE

Status: 1 NOTE
See
  ‘/Users/biocbuild/bbs-3.23-bioc/meat/NanoMethViz.Rcheck/00check.log’
for details.


Installation output

NanoMethViz.Rcheck/00install.out

##############################################################################
##############################################################################
###
### Running command:
###
###   /Library/Frameworks/R.framework/Resources/bin/R CMD INSTALL NanoMethViz
###
##############################################################################
##############################################################################


* installing to library ‘/Library/Frameworks/R.framework/Versions/4.6-x86_64/Resources/library’
* installing *source* package ‘NanoMethViz’ ...
** this is package ‘NanoMethViz’ version ‘3.7.0’
** using staged installation
** libs
using C++ compiler: ‘Apple clang version 14.0.3 (clang-1403.0.22.14.1)’
using C++20
using SDK: ‘MacOSX11.3.1.sdk’
clang++ -arch x86_64 -std=gnu++20 -I"/Library/Frameworks/R.framework/Resources/include" -DNDEBUG  -I'/Library/Frameworks/R.framework/Versions/4.6-x86_64/Resources/library/Rcpp/include' -I/opt/R/x86_64/include    -fPIC  -falign-functions=64 -Wall -g -O2   -c RcppExports.cpp -o RcppExports.o
clang++ -arch x86_64 -std=gnu++20 -I"/Library/Frameworks/R.framework/Resources/include" -DNDEBUG  -I'/Library/Frameworks/R.framework/Versions/4.6-x86_64/Resources/library/Rcpp/include' -I/opt/R/x86_64/include    -fPIC  -falign-functions=64 -Wall -g -O2   -c convert_methy_to_dss.cpp -o convert_methy_to_dss.o
clang++ -arch x86_64 -std=gnu++20 -I"/Library/Frameworks/R.framework/Resources/include" -DNDEBUG  -I'/Library/Frameworks/R.framework/Versions/4.6-x86_64/Resources/library/Rcpp/include' -I/opt/R/x86_64/include    -fPIC  -falign-functions=64 -Wall -g -O2   -c count_cg.cpp -o count_cg.o
clang++ -arch x86_64 -std=gnu++20 -I"/Library/Frameworks/R.framework/Resources/include" -DNDEBUG  -I'/Library/Frameworks/R.framework/Versions/4.6-x86_64/Resources/library/Rcpp/include' -I/opt/R/x86_64/include    -fPIC  -falign-functions=64 -Wall -g -O2   -c genome.cpp -o genome.o
genome.cpp:43:21: warning: unused variable 'chrom_view' [-Wunused-variable]
        string_view chrom_view = this->bases_at(chrom, motif_start, motif_end);
                    ^
1 warning generated.
clang++ -arch x86_64 -std=gnu++20 -I"/Library/Frameworks/R.framework/Resources/include" -DNDEBUG  -I'/Library/Frameworks/R.framework/Versions/4.6-x86_64/Resources/library/Rcpp/include' -I/opt/R/x86_64/include    -fPIC  -falign-functions=64 -Wall -g -O2   -c modbam.cpp -o modbam.o
clang++ -arch x86_64 -std=gnu++20 -I"/Library/Frameworks/R.framework/Resources/include" -DNDEBUG  -I'/Library/Frameworks/R.framework/Versions/4.6-x86_64/Resources/library/Rcpp/include' -I/opt/R/x86_64/include    -fPIC  -falign-functions=64 -Wall -g -O2   -c utils.cpp -o utils.o
clang++ -arch x86_64 -std=gnu++20 -dynamiclib -Wl,-headerpad_max_install_names -undefined dynamic_lookup -L/Library/Frameworks/R.framework/Resources/lib -L/opt/R/x86_64/lib -o NanoMethViz.so RcppExports.o convert_methy_to_dss.o count_cg.o genome.o modbam.o utils.o -lz -F/Library/Frameworks/R.framework/.. -framework R
installing to /Library/Frameworks/R.framework/Versions/4.6-x86_64/Resources/library/00LOCK-NanoMethViz/00new/NanoMethViz/libs
** R
** inst
** byte-compile and prepare package for lazy loading
** help
*** installing help indices
*** copying figures
** building package indices
** installing vignettes
** testing if installed package can be loaded from temporary location
** checking absolute paths in shared objects and dynamic libraries
** testing if installed package can be loaded from final location
** testing if installed package keeps a record of temporary installation path
* DONE (NanoMethViz)

Tests output

NanoMethViz.Rcheck/tests/testthat.Rout


R Under development (unstable) (2025-10-21 r88958) -- "Unsuffered Consequences"
Copyright (C) 2025 The R Foundation for Statistical Computing
Platform: x86_64-apple-darwin20

R is free software and comes with ABSOLUTELY NO WARRANTY.
You are welcome to redistribute it under certain conditions.
Type 'license()' or 'licence()' for distribution details.

R is a collaborative project with many contributors.
Type 'contributors()' for more information and
'citation()' on how to cite R or R packages in publications.

Type 'demo()' for some demos, 'help()' for on-line help, or
'help.start()' for an HTML browser interface to help.
Type 'q()' to quit R.

> library(testthat)
> library(NanoMethViz)
Loading required package: ggplot2
> 
> test_check("NanoMethViz")
Starting 2 test processes.
> test-ModBamResults.R: Successfully created ModBamResult with 1 matched samples.
> test-ModBamResults.R: Successfully created ModBamResult with 1 matched samples.
> test-NanoMethResults.R: Successfully matched 6 samples between data and annotation.
> test-NanoMethResults.R: Successfully matched 6 samples between data and annotation.
> test-bsseq_to_edger.R: Successfully matched 6 samples between data and annotation.
> test-bsseq_to_edger.R: [2025-11-19 22:57:20] creating intermediate files...
> test-bsseq_to_edger.R: [2025-11-19 22:57:20] parsing chr11...
> test-bsseq_to_edger.R: [2025-11-19 22:57:21] parsing chr12...
> test-cluster_reads.R: Successfully created ModBamResult with 1 matched samples.
> test-bsseq_to_edger.R: [2025-11-19 22:57:21] parsing chr18...
> test-bsseq_to_edger.R: [2025-11-19 22:57:21] parsing chr5...
> test-bsseq_to_edger.R: [2025-11-19 22:57:21] parsing chr7...
> test-bsseq_to_edger.R: [2025-11-19 22:57:21] parsing chrX...
> test-bsseq_to_edger.R: [2025-11-19 22:57:21] samples found: B6Cast_Prom_3_cast B6Cast_Prom_2_bl6 B6Cast_Prom_3_bl6 B6Cast_Prom_1_cast B6Cast_Prom_2_cast B6Cast_Prom_1_bl6 
> test-bsseq_to_edger.R: [2025-11-19 22:57:21] creating bsseq object...
> test-bsseq_to_edger.R: [2025-11-19 22:57:21] reading in parsed data...
> test-bsseq_to_edger.R: [2025-11-19 22:57:21] constructing matrices...
> test-bsseq_to_edger.R: [2025-11-19 22:57:21] done
> test-bsseq_to_edger.R: [2025-11-19 22:57:21] creating intermediate files...
> test-bsseq_to_edger.R: [2025-11-19 22:57:21] parsing chr11...
> test-bsseq_to_edger.R: [2025-11-19 22:57:22] parsing chr12...
> test-bsseq_to_edger.R: [2025-11-19 22:57:22] parsing chr18...
> test-bsseq_to_edger.R: [2025-11-19 22:57:22] parsing chr5...
> test-bsseq_to_edger.R: [2025-11-19 22:57:22] parsing chr7...
> test-bsseq_to_edger.R: [2025-11-19 22:57:22] parsing chrX...
> test-bsseq_to_edger.R: [2025-11-19 22:57:22] samples found: B6Cast_Prom_3_cast B6Cast_Prom_2_bl6 B6Cast_Prom_3_bl6 B6Cast_Prom_1_cast B6Cast_Prom_2_cast B6Cast_Prom_1_bl6 
> test-bsseq_to_edger.R: [2025-11-19 22:57:22] creating bsseq object...
> test-bsseq_to_edger.R: [2025-11-19 22:57:22] reading in parsed data...
> test-bsseq_to_edger.R: [2025-11-19 22:57:22] constructing matrices...
> test-bsseq_to_edger.R: [2025-11-19 22:57:22] done
> test-bsseq_to_edger.R: [2025-11-19 22:57:22] creating intermediate files...
> test-bsseq_to_edger.R: [2025-11-19 22:57:22] parsing chr11...
> test-bsseq_to_edger.R: [2025-11-19 22:57:22] parsing chr12...
> test-bsseq_to_edger.R: [2025-11-19 22:57:23] parsing chr18...
> test-bsseq_to_edger.R: [2025-11-19 22:57:23] parsing chr5...
> test-bsseq_to_edger.R: [2025-11-19 22:57:23] parsing chr7...
> test-bsseq_to_edger.R: [2025-11-19 22:57:23] parsing chrX...
> test-bsseq_to_edger.R: [2025-11-19 22:57:23] samples found: B6Cast_Prom_3_cast B6Cast_Prom_2_bl6 B6Cast_Prom_3_bl6 B6Cast_Prom_1_cast B6Cast_Prom_2_cast B6Cast_Prom_1_bl6 
> test-bsseq_to_edger.R: [2025-11-19 22:57:23] creating bsseq object...
> test-bsseq_to_edger.R: [2025-11-19 22:57:23] reading in parsed data...
> test-bsseq_to_edger.R: [2025-11-19 22:57:23] constructing matrices...
> test-bsseq_to_edger.R: [2025-11-19 22:57:23] done
> test-cluster_regions.R: Successfully matched 6 samples between data and annotation.
> test-filter_methy.R: Successfully matched 6 samples between data and annotation.
> test-methy_to_bsseq.R: Successfully matched 6 samples between data and annotation.
> test-methy_to_bsseq.R: [2025-11-19 22:57:31] creating intermediate files...
> test-methy_to_bsseq.R: [2025-11-19 22:57:31] parsing chr11...
> test-methy_to_bsseq.R: [2025-11-19 22:57:31] parsing chr12...
> test-methy_to_bsseq.R: [2025-11-19 22:57:31] parsing chr18...
> test-methy_to_bsseq.R: [2025-11-19 22:57:31] parsing chr5...
> test-methy_to_bsseq.R: [2025-11-19 22:57:31] parsing chr7...
> test-methy_to_bsseq.R: [2025-11-19 22:57:31] parsing chrX...
> test-methy_to_bsseq.R: [2025-11-19 22:57:31] samples found: B6Cast_Prom_3_cast B6Cast_Prom_2_bl6 B6Cast_Prom_3_bl6 B6Cast_Prom_1_cast B6Cast_Prom_2_cast B6Cast_Prom_1_bl6 
> test-methy_to_bsseq.R: [2025-11-19 22:57:31] creating bsseq object...
> test-methy_to_bsseq.R: [2025-11-19 22:57:31] reading in parsed data...
> test-methy_to_bsseq.R: [2025-11-19 22:57:31] constructing matrices...
> test-methy_to_bsseq.R: [2025-11-19 22:57:32] done
> test-methy_to_bsseq.R: [2025-11-19 22:57:32] creating intermediate files...
> test-methy_to_bsseq.R: [2025-11-19 22:57:32] parsing chr11...
> test-methy_to_bsseq.R: [2025-11-19 22:57:32] parsing chr12...
> test-methy_to_bsseq.R: [2025-11-19 22:57:32] parsing chr18...
> test-methy_to_bsseq.R: [2025-11-19 22:57:32] parsing chr5...
> test-methy_to_bsseq.R: [2025-11-19 22:57:32] parsing chr7...
> test-methy_to_bsseq.R: [2025-11-19 22:57:32] parsing chrX...
> test-methy_to_bsseq.R: [2025-11-19 22:57:32] samples found: B6Cast_Prom_3_cast B6Cast_Prom_2_bl6 B6Cast_Prom_3_bl6 B6Cast_Prom_1_cast B6Cast_Prom_2_cast B6Cast_Prom_1_bl6 
> test-methy_to_bsseq.R: [2025-11-19 22:57:32] creating bsseq object...
> test-methy_to_bsseq.R: [2025-11-19 22:57:32] reading in parsed data...
> test-methy_to_bsseq.R: [2025-11-19 22:57:32] constructing matrices...
> test-methy_to_bsseq.R: [2025-11-19 22:57:33] done
> test-methy_to_bsseq.R: [2025-11-19 22:57:33] creating intermediate files...
> test-methy_to_bsseq.R: [2025-11-19 22:57:33] parsing chr11...
> test-methy_to_bsseq.R: [2025-11-19 22:57:33] parsing chr12...
> test-methy_to_bsseq.R: [2025-11-19 22:57:33] parsing chr18...
> test-methy_to_bsseq.R: [2025-11-19 22:57:33] parsing chr5...
> test-methy_to_bsseq.R: [2025-11-19 22:57:33] parsing chr7...
> test-methy_to_bsseq.R: [2025-11-19 22:57:33] parsing chrX...
> test-methy_to_bsseq.R: [2025-11-19 22:57:33] samples found: B6Cast_Prom_3_cast B6Cast_Prom_2_bl6 B6Cast_Prom_3_bl6 B6Cast_Prom_1_cast B6Cast_Prom_2_cast B6Cast_Prom_1_bl6 
> test-methy_to_bsseq.R: [2025-11-19 22:57:33] creating bsseq object...
> test-methy_to_bsseq.R: [2025-11-19 22:57:33] reading in parsed data...
> test-methy_to_bsseq.R: [2025-11-19 22:57:33] constructing matrices...
> test-methy_to_bsseq.R: [2025-11-19 22:57:34] done
> test-methy_to_bsseq.R: Successfully matched 6 samples between data and annotation.
> test-methy_to_bsseq.R: [2025-11-19 22:57:34] creating intermediate files...
> test-methy_to_bsseq.R: [2025-11-19 22:57:34] parsing chr11...
> test-methy_to_bsseq.R: [2025-11-19 22:57:34] parsing chr12...
> test-methy_to_bsseq.R: [2025-11-19 22:57:34] parsing chr18...
> test-methy_to_bsseq.R: [2025-11-19 22:57:34] parsing chr5...
> test-methy_to_bsseq.R: [2025-11-19 22:57:35] parsing chr7...
> test-methy_to_bsseq.R: [2025-11-19 22:57:35] parsing chrX...
> test-methy_to_bsseq.R: [2025-11-19 22:57:35] samples found: B6Cast_Prom_3_cast B6Cast_Prom_2_bl6 B6Cast_Prom_3_bl6 B6Cast_Prom_1_cast B6Cast_Prom_2_cast B6Cast_Prom_1_bl6 
> test-methy_to_bsseq.R: [2025-11-19 22:57:35] creating bsseq object...
> test-methy_to_bsseq.R: [2025-11-19 22:57:35] reading in parsed data...
> test-methy_to_bsseq.R: [2025-11-19 22:57:35] constructing matrices...
> test-methy_to_bsseq.R: [2025-11-19 22:57:35] done
> test-modbam_to_tabix.R: Successfully created ModBamResult with 1 matched samples.
> test-modbam_to_tabix.R: i Writing data to temporary file: /tmp/RtmpLdZfA4/file9cf37179fadd.tsv
> test-modbam_to_tabix.R: v Writing data to temporary file: /tmp/RtmpLdZfA4/file9cf37179fadd.tsv [29ms]
> test-modbam_to_tabix.R: 
> test-modbam_to_tabix.R: i Converting data to TSV
> test-modbam_to_tabix.R: v Converting data to TSV [612ms]
> test-modbam_to_tabix.R: 
> test-modbam_to_tabix.R: i Sorting data
> test-modbam_to_tabix.R: v Sorting data [125ms]
> test-modbam_to_tabix.R: 
> test-modbam_to_tabix.R: i Compressing data
> test-modbam_to_tabix.R: i Moving data to final location: /tmp/RtmpLdZfA4/file9cf3ad24047.tsv.bgz
> test-modbam_to_tabix.R: i Compressing data
> test-modbam_to_tabix.R: v Compressing data [52ms]
> test-modbam_to_tabix.R: 
> test-modbam_to_tabix.R: i Tabix file created: /tmp/RtmpLdZfA4/file9cf3ad24047.tsv.bgz
> test-modbam_to_tabix.R: v Tabix file created: /tmp/RtmpLdZfA4/file9cf3ad24047.tsv.bgz [31ms]
> test-modbam_to_tabix.R: 
> test-modbam_to_tabix.R: Rows: 10371 Columns: 6
> test-modbam_to_tabix.R: -- Column specification --------------------------------------------------------
> test-modbam_to_tabix.R: Delimiter: "\t"
> test-modbam_to_tabix.R: chr (4): sample, chr, strand, read_name
> test-modbam_to_tabix.R: dbl (2): pos, statistic
> test-modbam_to_tabix.R: 
> test-modbam_to_tabix.R: i Use `spec()` to retrieve the full column specification for this data.
> test-modbam_to_tabix.R: i Specify the column types or set `show_col_types = FALSE` to quiet this message.
> test-modbam_to_tabix.R: Successfully created ModBamResult with 1 matched samples.
> test-plot_agg_genes.R: Successfully matched 6 samples between data and annotation.
> test-plot_agg_regions.R: Successfully matched 6 samples between data and annotation.
> test-plot_agg_regions.R: Successfully created ModBamResult with 1 matched samples.
> test-filter_methy.R: 21,798 of 224,267 (9.72%) entries kept after filtering
> test-filter_methy.R: results written to '/tmp/Rtmp7RYM30/file9cf821da0350.tsv.bgz' along with index file '/tmp/Rtmp7RYM30/file9cf821da0350.tsv.bgz.tbi'
> test-plot_agg_regions.R: Successfully matched 6 samples between data and annotation.
> test-plot_basic.R: Successfully matched 6 samples between data and annotation.
> test-plot_basic.R: Successfully created ModBamResult with 1 matched samples.
> test-plot_basic.R: Successfully created ModBamResult with 1 matched samples.
> test-filter_methy.R: 21,798 of 224,267 (9.72%) entries kept after filtering
> test-filter_methy.R: results written to '/tmp/Rtmp7RYM30/file9cf821da0350.tsv.bgz' along with index file '/tmp/Rtmp7RYM30/file9cf821da0350.tsv.bgz.tbi'
> test-filter_methy.R: 21,798 of 224,267 (9.72%) entries kept after filtering
> test-filter_methy.R: results written to '/tmp/Rtmp7RYM30/file9cf821da0350.tsv.bgz' along with index file '/tmp/Rtmp7RYM30/file9cf821da0350.tsv.bgz.tbi'
> test-plot_gene_heatmap.R: Successfully matched 6 samples between data and annotation.
> test-plot_gene_heatmap.R: Successfully matched 6 samples between data and annotation.
> test-plot_gene_heatmap.R: Successfully matched 6 samples between data and annotation.
> test-plot_gene_heatmap.R: Successfully matched 6 samples between data and annotation.
> test-plot_mds.R: Successfully matched 6 samples between data and annotation.
> test-plot_mds.R: [2025-11-19 22:58:21] creating intermediate files...
> test-plot_mds.R: [2025-11-19 22:58:21] parsing chr11...
> test-plot_mds.R: [2025-11-19 22:58:22] parsing chr12...
> test-plot_mds.R: [2025-11-19 22:58:22] parsing chr18...
> test-plot_mds.R: [2025-11-19 22:58:22] parsing chr5...
> test-plot_mds.R: [2025-11-19 22:58:22] parsing chr7...
> test-plot_mds.R: [2025-11-19 22:58:22] parsing chrX...
> test-plot_mds.R: [2025-11-19 22:58:22] samples found: B6Cast_Prom_3_cast B6Cast_Prom_2_bl6 B6Cast_Prom_3_bl6 B6Cast_Prom_1_cast B6Cast_Prom_2_cast B6Cast_Prom_1_bl6 
> test-plot_mds.R: [2025-11-19 22:58:22] creating bsseq object...
> test-plot_mds.R: [2025-11-19 22:58:22] reading in parsed data...
> test-plot_mds.R: [2025-11-19 22:58:22] constructing matrices...
> test-plot_mds.R: [2025-11-19 22:58:22] done
> test-plot_methylation.R: Successfully matched 6 samples between data and annotation.
> test-plot_pca.R: Successfully matched 6 samples between data and annotation.
> test-plot_pca.R: [2025-11-19 22:58:27] creating intermediate files...
> test-plot_pca.R: [2025-11-19 22:58:27] parsing chr11...
> test-plot_pca.R: [2025-11-19 22:58:27] parsing chr12...
> test-plot_pca.R: [2025-11-19 22:58:27] parsing chr18...
> test-plot_pca.R: [2025-11-19 22:58:28] parsing chr5...
> test-plot_pca.R: [2025-11-19 22:58:28] parsing chr7...
> test-plot_pca.R: [2025-11-19 22:58:28] parsing chrX...
> test-plot_pca.R: [2025-11-19 22:58:28] samples found: B6Cast_Prom_3_cast B6Cast_Prom_2_bl6 B6Cast_Prom_3_bl6 B6Cast_Prom_1_cast B6Cast_Prom_2_cast B6Cast_Prom_1_bl6 
> test-plot_pca.R: [2025-11-19 22:58:28] creating bsseq object...
> test-plot_pca.R: [2025-11-19 22:58:28] reading in parsed data...
> test-plot_pca.R: [2025-11-19 22:58:28] constructing matrices...
> test-plot_pca.R: [2025-11-19 22:58:28] done
> test-plot_region_heatmap.R: Successfully matched 6 samples between data and annotation.
> test-plot_region_heatmap.R: Successfully matched 6 samples between data and annotation.
> test-plot_region_heatmap.R: Successfully matched 6 samples between data and annotation.
> test-plot_region_heatmap.R: Successfully matched 6 samples between data and annotation.
> test-plot_region_heatmap.R: Successfully matched 6 samples between data and annotation.
> test-query_exons.R: Successfully matched 6 samples between data and annotation.
> test-query_exons.R: Successfully matched 6 samples between data and annotation.
> test-query_exons.R: Successfully matched 6 samples between data and annotation.
> test-query_exons.R: Successfully matched 6 samples between data and annotation.
> test-query_exons.R: Successfully matched 6 samples between data and annotation.
> test-query_exons.R: Successfully matched 6 samples between data and annotation.
> test-query_exons.R: Successfully matched 6 samples between data and annotation.
> test-query_exons.R: Successfully matched 6 samples between data and annotation.
> test-query_methy.R: Successfully matched 6 samples between data and annotation.
> test-query_methy.R: Successfully created ModBamResult with 1 matched samples.
> test-region_methy_stats.R: Successfully matched 6 samples between data and annotation.
> test-stack_interval.R: Successfully matched 6 samples between data and annotation.
> test-tabix_utils.R: processing /Library/Frameworks/R.framework/Versions/4.6-x86_64/Resources/library/NanoMethViz/sample1_nanopolish.tsv.gz...
> test-tabix_utils.R: guessing file is produced by nanopolish...
> test-tabix_utils.R: processing /Library/Frameworks/R.framework/Versions/4.6-x86_64/Resources/library/NanoMethViz/sample2_nanopolish.tsv.gz...
> test-tabix_utils.R: guessing file is produced by nanopolish...
> test-tabix_utils.R: [2025-11-19 22:58:47] sorting methylation table
> test-tabix_utils.R: [2025-11-19 22:58:47] compressing methylation table to tabix with index
> test-tabix_utils.R: [2025-11-19 22:58:47] creating intermediate files...
> test-tabix_utils.R: [2025-11-19 22:58:47] parsing chr1...
> test-tabix_utils.R: [2025-11-19 22:58:47] parsing chr2...
> test-tabix_utils.R: [2025-11-19 22:58:47] parsing chr3...
> test-tabix_utils.R: [2025-11-19 22:58:47] parsing chr4...
> test-tabix_utils.R: [2025-11-19 22:58:47] parsing chr5...
> test-tabix_utils.R: [2025-11-19 22:58:47] parsing chr6...
> test-tabix_utils.R: [2025-11-19 22:58:47] parsing chr7...
> test-tabix_utils.R: [2025-11-19 22:58:47] parsing chr8...
> test-tabix_utils.R: [2025-11-19 22:58:47] parsing chr9...
> test-tabix_utils.R: [2025-11-19 22:58:47] parsing chr10...
> test-tabix_utils.R: [2025-11-19 22:58:47] parsing chr11...
> test-tabix_utils.R: [2025-11-19 22:58:47] parsing chr12...
> test-tabix_utils.R: [2025-11-19 22:58:47] parsing chr13...
> test-tabix_utils.R: [2025-11-19 22:58:47] parsing chr14...
> test-tabix_utils.R: [2025-11-19 22:58:47] parsing chr15...
> test-tabix_utils.R: [2025-11-19 22:58:47] parsing chr16...
> test-tabix_utils.R: [2025-11-19 22:58:47] parsing chr17...
> test-tabix_utils.R: [2025-11-19 22:58:47] parsing chr18...
> test-tabix_utils.R: [2025-11-19 22:58:47] parsing chr19...
> test-tabix_utils.R: [2025-11-19 22:58:47] parsing chrM...
> test-tabix_utils.R: [2025-11-19 22:58:47] parsing chrX...
> test-tabix_utils.R: [2025-11-19 22:58:47] parsing chrY...
> test-tabix_utils.R: [2025-11-19 22:58:47] samples found: B6Cast_Prom_3_cast B6Cast_Prom_2_bl6 B6Cast_Prom_3_bl6 B6Cast_Prom_1_cast B6Cast_Prom_2_cast B6Cast_Prom_1_bl6 sample1_nanopolish.tsv sample2_nanopolish.tsv 
> test-tabix_utils.R: [2025-11-19 22:58:47] creating bsseq object...
> test-tabix_utils.R: [2025-11-19 22:58:47] reading in parsed data...
> test-tabix_utils.R: [2025-11-19 22:58:47] constructing matrices...
> test-tabix_utils.R: [2025-11-19 22:58:47] done
> test-tabix_utils.R: processing /Library/Frameworks/R.framework/Versions/4.6-x86_64/Resources/library/NanoMethViz/megalodon_calls.txt.gz...
> test-tabix_utils.R: guessing file is produced by megalodon...
> test-tabix_utils.R: [2025-11-19 22:58:48] sorting methylation table
> test-tabix_utils.R: [2025-11-19 22:58:48] compressing methylation table to tabix with index
[ FAIL 0 | WARN 83 | SKIP 0 | PASS 719 ]

[ FAIL 0 | WARN 83 | SKIP 0 | PASS 719 ]
> 
> proc.time()
   user  system elapsed 
262.669  18.847 167.861 

Example timings

NanoMethViz.Rcheck/NanoMethViz-Ex.timings

nameusersystemelapsed
NanoMethResult-class5.0541.3686.476
bsseq_to_edger1.0040.0341.047
bsseq_to_log_methy_ratio2.3120.0402.362
cluster_regions3.5220.1133.655
create_tabix_file1.7450.3842.165
exons_to_genes0.3280.0130.344
filter_methy29.548 4.86134.617
get_example_exons_mus_musculus0.3050.0080.314
get_exons76.319 4.26281.524
get_exons_homo_sapiens34.856 1.73836.811
get_exons_mus_musculus12.563 0.84513.487
load_example_modbamresult0.3170.0140.334
load_example_nanomethresult0.3060.0130.319
methy0.0020.0000.002
methy_col_names0.0000.0000.001
methy_to_bsseq1.1340.0391.179
methy_to_edger1.3730.0901.468
modbam_to_tabix0.6270.3380.772
plot_agg_genes4.9850.0825.081
plot_agg_regions6.0670.1026.193
plot_gene11.459 0.21811.748
plot_gene_heatmap 9.862 0.17610.084
plot_grange8.5970.5999.288
plot_grange_heatmap6.4200.0866.528
plot_mds1.7500.0401.801
plot_pca1.7820.0371.829
plot_region8.3190.2608.628
plot_region_heatmap5.9780.0946.116
plot_violin2.7810.0362.834
query_methy0.4530.0120.468
region_methy_stats1.2440.0211.276