Back to Multiple platform build/check report for BioC 3.22:   simplified   long
ABCDEFGHIJKL[M]NOPQRSTUVWXYZ

This page was generated on 2025-10-18 12:05 -0400 (Sat, 18 Oct 2025).

HostnameOSArch (*)R versionInstalled pkgs
nebbiolo2Linux (Ubuntu 24.04.3 LTS)x86_644.5.1 Patched (2025-08-23 r88802) -- "Great Square Root" 4887
lconwaymacOS 12.7.6 Montereyx86_644.5.1 Patched (2025-09-10 r88807) -- "Great Square Root" 4677
kjohnson3macOS 13.7.7 Venturaarm644.5.1 Patched (2025-09-10 r88807) -- "Great Square Root" 4622
taishanLinux (openEuler 24.03 LTS)aarch644.5.0 (2025-04-11) -- "How About a Twenty-Six" 4632
Click on any hostname to see more info about the system (e.g. compilers)      (*) as reported by 'uname -p', except on Windows and Mac OS X

Package 1373/2353HostnameOS / ArchINSTALLBUILDCHECKBUILD BIN
MsBackendSql 1.9.3  (landing page)
Johannes Rainer
Snapshot Date: 2025-10-17 13:45 -0400 (Fri, 17 Oct 2025)
git_url: https://git.bioconductor.org/packages/MsBackendSql
git_branch: devel
git_last_commit: 7b77a0c
git_last_commit_date: 2025-10-16 07:59:26 -0400 (Thu, 16 Oct 2025)
nebbiolo2Linux (Ubuntu 24.04.3 LTS) / x86_64  OK    OK    OK  UNNEEDED, same version is already published
lconwaymacOS 12.7.6 Monterey / x86_64  OK    OK    OK    OK  UNNEEDED, same version is already published
kjohnson3macOS 13.7.7 Ventura / arm64  OK    OK    OK    OK  UNNEEDED, same version is already published
taishanLinux (openEuler 24.03 LTS) / aarch64  OK    OK    OK  


CHECK results for MsBackendSql on lconway

To the developers/maintainers of the MsBackendSql package:
- Allow up to 24 hours (and sometimes 48 hours) for your latest push to git@git.bioconductor.org:packages/MsBackendSql.git to reflect on this report. See Troubleshooting Build Report for more information.
- Use the following Renviron settings to reproduce errors and warnings.
- If 'R CMD check' started to fail recently on the Linux builder(s) over a missing dependency, add the missing dependency to 'Suggests:' in your DESCRIPTION file. See Renviron.bioc for more information.

raw results


Summary

Package: MsBackendSql
Version: 1.9.3
Command: /Library/Frameworks/R.framework/Resources/bin/R CMD check --install=check:MsBackendSql.install-out.txt --library=/Library/Frameworks/R.framework/Resources/library --no-vignettes --timings MsBackendSql_1.9.3.tar.gz
StartedAt: 2025-10-17 23:49:11 -0400 (Fri, 17 Oct 2025)
EndedAt: 2025-10-17 23:55:46 -0400 (Fri, 17 Oct 2025)
EllapsedTime: 394.3 seconds
RetCode: 0
Status:   OK  
CheckDir: MsBackendSql.Rcheck
Warnings: 0

Command output

##############################################################################
##############################################################################
###
### Running command:
###
###   /Library/Frameworks/R.framework/Resources/bin/R CMD check --install=check:MsBackendSql.install-out.txt --library=/Library/Frameworks/R.framework/Resources/library --no-vignettes --timings MsBackendSql_1.9.3.tar.gz
###
##############################################################################
##############################################################################


* using log directory ‘/Users/biocbuild/bbs-3.22-bioc/meat/MsBackendSql.Rcheck’
* using R version 4.5.1 Patched (2025-09-10 r88807)
* using platform: x86_64-apple-darwin20
* R was compiled by
    Apple clang version 14.0.0 (clang-1400.0.29.202)
    GNU Fortran (GCC) 14.2.0
* running under: macOS Monterey 12.7.6
* using session charset: UTF-8
* using option ‘--no-vignettes’
* checking for file ‘MsBackendSql/DESCRIPTION’ ... OK
* this is package ‘MsBackendSql’ version ‘1.9.3’
* package encoding: UTF-8
* checking package namespace information ... OK
* checking package dependencies ... OK
* checking if this is a source package ... OK
* checking if there is a namespace ... OK
* checking for hidden files and directories ... OK
* checking for portable file names ... OK
* checking for sufficient/correct file permissions ... OK
* checking whether package ‘MsBackendSql’ can be installed ... OK
* checking installed package size ... OK
* checking package directory ... OK
* checking ‘build’ directory ... OK
* checking DESCRIPTION meta-information ... OK
* checking top-level files ... OK
* checking for left-over files ... OK
* checking index information ... OK
* checking package subdirectories ... OK
* checking code files for non-ASCII characters ... OK
* checking R files for syntax errors ... OK
* checking whether the package can be loaded ... OK
* checking whether the package can be loaded with stated dependencies ... OK
* checking whether the package can be unloaded cleanly ... OK
* checking whether the namespace can be loaded with stated dependencies ... OK
* checking whether the namespace can be unloaded cleanly ... OK
* checking dependencies in R code ... OK
* checking S3 generic/method consistency ... OK
* checking replacement functions ... OK
* checking foreign function calls ... OK
* checking R code for possible problems ... OK
* checking Rd files ... OK
* checking Rd metadata ... OK
* checking Rd cross-references ... OK
* checking for missing documentation entries ... OK
* checking for code/documentation mismatches ... OK
* checking Rd \usage sections ... OK
* checking Rd contents ... OK
* checking for unstated dependencies in examples ... OK
* checking files in ‘vignettes’ ... OK
* checking examples ... OK
* checking for unstated dependencies in ‘tests’ ... OK
* checking tests ...
  Running ‘testthat.R’
 OK
* checking for unstated dependencies in vignettes ... OK
* checking package vignettes ... OK
* checking running R code from vignettes ... SKIPPED
* checking re-building of vignette outputs ... SKIPPED
* checking PDF version of manual ... OK
* DONE

Status: OK


Installation output

MsBackendSql.Rcheck/00install.out

##############################################################################
##############################################################################
###
### Running command:
###
###   /Library/Frameworks/R.framework/Resources/bin/R CMD INSTALL MsBackendSql
###
##############################################################################
##############################################################################


* installing to library ‘/Library/Frameworks/R.framework/Versions/4.5-x86_64/Resources/library’
* installing *source* package ‘MsBackendSql’ ...
** this is package ‘MsBackendSql’ version ‘1.9.3’
** using staged installation
** R
** byte-compile and prepare package for lazy loading
** help
*** installing help indices
*** copying figures
** building package indices
** installing vignettes
** testing if installed package can be loaded from temporary location
** testing if installed package can be loaded from final location
** testing if installed package keeps a record of temporary installation path
* DONE (MsBackendSql)

Tests output

MsBackendSql.Rcheck/tests/testthat.Rout


R version 4.5.1 Patched (2025-09-10 r88807) -- "Great Square Root"
Copyright (C) 2025 The R Foundation for Statistical Computing
Platform: x86_64-apple-darwin20

R is free software and comes with ABSOLUTELY NO WARRANTY.
You are welcome to redistribute it under certain conditions.
Type 'license()' or 'licence()' for distribution details.

R is a collaborative project with many contributors.
Type 'contributors()' for more information and
'citation()' on how to cite R or R packages in publications.

Type 'demo()' for some demos, 'help()' for on-line help, or
'help.start()' for an HTML browser interface to help.
Type 'q()' to quit R.

> library(testthat)
> library(MsBackendSql)
Loading required package: Spectra
Loading required package: S4Vectors
Loading required package: stats4
Loading required package: BiocGenerics
Loading required package: generics

Attaching package: 'generics'

The following objects are masked from 'package:base':

    as.difftime, as.factor, as.ordered, intersect, is.element, setdiff,
    setequal, union


Attaching package: 'BiocGenerics'

The following objects are masked from 'package:stats':

    IQR, mad, sd, var, xtabs

The following objects are masked from 'package:base':

    Filter, Find, Map, Position, Reduce, anyDuplicated, aperm, append,
    as.data.frame, basename, cbind, colnames, dirname, do.call,
    duplicated, eval, evalq, get, grep, grepl, is.unsorted, lapply,
    mapply, match, mget, order, paste, pmax, pmax.int, pmin, pmin.int,
    rank, rbind, rownames, sapply, saveRDS, table, tapply, unique,
    unsplit, which.max, which.min


Attaching package: 'S4Vectors'

The following object is masked from 'package:utils':

    findMatches

The following objects are masked from 'package:base':

    I, expand.grid, unname

Loading required package: BiocParallel
> library(Spectra)
> library(RSQLite)
> library(msdata)
> 
> setClass("DummySQL",
+          contains = "SQLiteConnection")
> 
> setMethod("dbExecute", c("DummySQL", "character"),
+           function(conn, statement, ...) {
+               TRUE
+           })
> 
> mm8_file <- system.file("microtofq", "MM8.mzML", package = "msdata")
> mm8_sps <- Spectra(mm8_file)
> mm8_db_long <- dbConnect(SQLite(), tempfile())
> createMsBackendSqlDatabase(mm8_db_long, mm8_file, blob = FALSE,
+                            peaksStorageMode = "long")
Importing data ... 

[==========================================================] 1/1 (100%) in  1s
Creating indices .... Done
[1] TRUE
> mm8_be_long <- backendInitialize(MsBackendSql(), mm8_db_long)
> 
> mm8_db_blob <- dbConnect(SQLite(), tempfile())
> createMsBackendSqlDatabase(mm8_db_blob, mm8_file, blob = TRUE,
+                            peaksStorageMode = "blob")
Importing data ... 

[==========================================================] 1/1 (100%) in  1s
Creating indices .... Done
[1] TRUE
> mm8_be_blob <- backendInitialize(MsBackendSql(), mm8_db_blob)
> 
> mm8_db_blob2 <- dbConnect(SQLite(), tempfile())
> createMsBackendSqlDatabase(mm8_db_blob2, mm8_file, blob = TRUE,
+                            peaksStorageMode = "blob2")
Importing data ... 

[==========================================================] 1/1 (100%) in  1s
Creating indices .... Done
[1] TRUE
> mm8_be_blob2 <- backendInitialize(MsBackendSql(), mm8_db_blob2)
> 
> mm14_file <- system.file("microtofq", "MM14.mzML", package = "msdata")
> mm_db <- dbConnect(SQLite(), tempfile())
> createMsBackendSqlDatabase(mm_db, c(mm8_file, mm14_file), blob = FALSE)
Importing data ... 

[==========================================================] 1/1 (100%) in  1s
Creating indices .... Done
[1] TRUE
> mm_be <- backendInitialize(MsBackendSql(), mm_db)
> 
> tmt_file <- proteomics(full.names = TRUE)[4L]
> tmt_mzr <- backendInitialize(MsBackendMzR(), tmt_file)
> tmt_db <- dbConnect(SQLite(), tempfile())
> createMsBackendSqlDatabase(tmt_db, tmt_file, blob = FALSE)
Importing data ... 

[==========================================================] 1/1 (100%) in  1m
Creating indices .... Done
[1] TRUE
> tmt_be <- backendInitialize(MsBackendSql(), tmt_db)
> 
> test_check("MsBackendSql")
[ FAIL 0 | WARN 1 | SKIP 1 | PASS 586 ]

══ Skipped tests (1) ═══════════════════════════════════════════════════════════
• empty test (1): 'test_MsBackendSql-functions.R:426:1'

[ FAIL 0 | WARN 1 | SKIP 1 | PASS 586 ]
Warning message:
call dbDisconnect() when finished working with a connection 
> 
> test_suite <- system.file("test_backends", "test_MsBackend",
+                           package = "Spectra")
> 
> be <- mm8_be_blob
> test_dir(test_suite, stop_on_failure = TRUE)
✔ | F W  S  OK | Context

⠏ |          0 | peaks_variables                                                
✔ |          4 | peaks_variables

⠏ |          0 | spectra_subsetting                                             
⠸ |         14 | spectra_subsetting                                             
⠴ |         36 | spectra_subsetting                                             
⠏ |         60 | spectra_subsetting                                             
⠼ |         85 | spectra_subsetting                                             
⠏ |        110 | spectra_subsetting                                             
⠸ |        134 | spectra_subsetting                                             
⠦ |        157 | spectra_subsetting                                             
⠧ |        178 | spectra_subsetting                                             
⠙ |        202 | spectra_subsetting                                             
⠼ |        225 | spectra_subsetting                                             
⠧ |        248 | spectra_subsetting                                             
⠸ |        274 | spectra_subsetting                                             
⠧ |        298 | spectra_subsetting                                             
⠸ |        314 | spectra_subsetting                                             
⠏ |        340 | spectra_subsetting                                             
⠸ |        364 | spectra_subsetting                                             
⠧ |        388 | spectra_subsetting                                             
⠙ |        412 | spectra_subsetting                                             
⠴ |        436 | spectra_subsetting                                             
⠋ |        461 | spectra_subsetting                                             
⠋ |        481 | spectra_subsetting                                             
⠼ |        505 | spectra_subsetting                                             
⠇ |        529 | spectra_subsetting                                             
⠋ |        551 | spectra_subsetting                                             
⠹ |        573 | spectra_subsetting                                             
⠹ |        593 | spectra_subsetting                                             
⠇ |        599 | spectra_subsetting                                             
⠋ |        601 | spectra_subsetting                                             
⠹ |        603 | spectra_subsetting                                             
⠼ |        605 | spectra_subsetting                                             
⠦ |        607 | spectra_subsetting                                             
⠇ |        609 | spectra_subsetting                                             
⠏ |        610 | spectra_subsetting                                             
⠙ |        612 | spectra_subsetting                                             
⠸ |        614 | spectra_subsetting                                             
⠼ |        615 | spectra_subsetting                                             
⠦ |        617 | spectra_subsetting                                             
⠇ |        619 | spectra_subsetting                                             
⠏ |        620 | spectra_subsetting                                             
⠙ |        622 | spectra_subsetting                                             
⠸ |        624 | spectra_subsetting                                             
⠴ |        626 | spectra_subsetting                                             
⠧ |        628 | spectra_subsetting                                             
⠏ |        630 | spectra_subsetting                                             
⠙ |        632 | spectra_subsetting                                             
⠸ |        634 | spectra_subsetting                                             
⠴ |        636 | spectra_subsetting                                             
⠧ |        638 | spectra_subsetting                                             
⠏ |        640 | spectra_subsetting                                             
⠙ |        642 | spectra_subsetting                                             
⠸ |        644 | spectra_subsetting                                             
⠴ |        646 | spectra_subsetting                                             
⠧ |        648 | spectra_subsetting                                             
⠏ |        650 | spectra_subsetting                                             
⠙ |        652 | spectra_subsetting                                             
⠸ |        654 | spectra_subsetting                                             
⠴ |        656 | spectra_subsetting                                             
⠦ |        657 | spectra_subsetting                                             
⠇ |        659 | spectra_subsetting                                             
⠋ |        661 | spectra_subsetting                                             
⠹ |        663 | spectra_subsetting                                             
⠼ |        665 | spectra_subsetting                                             
⠦ |        667 | spectra_subsetting                                             
⠇ |        669 | spectra_subsetting                                             
⠋ |        671 | spectra_subsetting                                             
⠹ |        673 | spectra_subsetting                                             
⠼ |        675 | spectra_subsetting                                             
⠦ |        677 | spectra_subsetting                                             
⠇ |        679 | spectra_subsetting                                             
⠋ |        681 | spectra_subsetting                                             
⠹ |        683 | spectra_subsetting                                             
⠼ |        685 | spectra_subsetting                                             
⠦ |        687 | spectra_subsetting                                             
⠇ |        689 | spectra_subsetting                                             
⠋ |        691 | spectra_subsetting                                             
⠹ |        693 | spectra_subsetting                                             
⠼ |        695 | spectra_subsetting                                             
⠦ |        697 | spectra_subsetting                                             
⠇ |        699 | spectra_subsetting                                             
⠏ |        700 | spectra_subsetting                                             
⠙ |        702 | spectra_subsetting                                             
⠸ |        704 | spectra_subsetting                                             
⠴ |        706 | spectra_subsetting                                             
⠧ |        708 | spectra_subsetting                                             
⠏ |        710 | spectra_subsetting                                             
⠙ |        712 | spectra_subsetting                                             
⠸ |        714 | spectra_subsetting                                             
⠴ |        716 | spectra_subsetting                                             
⠧ |        718 | spectra_subsetting                                             
⠏ |        720 | spectra_subsetting                                             
⠋ |        721 | spectra_subsetting                                             
⠹ |        723 | spectra_subsetting                                             
⠼ |        725 | spectra_subsetting                                             
⠦ |        727 | spectra_subsetting                                             
⠇ |        729 | spectra_subsetting                                             
⠋ |        731 | spectra_subsetting                                             
⠙ |        732 | spectra_subsetting                                             
⠸ |        734 | spectra_subsetting                                             
⠴ |        736 | spectra_subsetting                                             
⠦ |        737 | spectra_subsetting                                             
⠇ |        739 | spectra_subsetting                                             
⠋ |        741 | spectra_subsetting                                             
⠹ |        743 | spectra_subsetting                                             
⠼ |        745 | spectra_subsetting                                             
⠦ |        747 | spectra_subsetting                                             
⠇ |        749 | spectra_subsetting                                             
⠋ |        751 | spectra_subsetting                                             
⠹ |        753 | spectra_subsetting                                             
⠼ |        755 | spectra_subsetting                                             
⠦ |        757 | spectra_subsetting                                             
⠧ |        758 | spectra_subsetting                                             
⠏ |        760 | spectra_subsetting                                             
⠙ |        762 | spectra_subsetting                                             
⠸ |        764 | spectra_subsetting                                             
⠴ |        766 | spectra_subsetting                                             
⠧ |        768 | spectra_subsetting                                             
⠏ |        770 | spectra_subsetting                                             
⠙ |        772 | spectra_subsetting                                             
⠸ |        774 | spectra_subsetting                                             
⠴ |        776 | spectra_subsetting                                             
⠧ |        778 | spectra_subsetting                                             
⠏ |        780 | spectra_subsetting                                             
⠙ |        782 | spectra_subsetting                                             
⠹ |        783 | spectra_subsetting                                             
⠸ |        784 | spectra_subsetting                                             
⠼ |        785 | spectra_subsetting                                             
⠦ |        787 | spectra_subsetting                                             
⠇ |        789 | spectra_subsetting                                             
⠏ |        790 | spectra_subsetting                                             
⠙ |        792 | spectra_subsetting                                             
⠸ |        794 | spectra_subsetting                                             
⠼ |        795 | spectra_subsetting                                             
⠇ |        799 | spectra_subsetting                                             
⠙ |        802 | spectra_subsetting                                             
⠇ |        809 | spectra_subsetting                                             
⠼ |        815 | spectra_subsetting                                             
⠹ |        823 | spectra_subsetting                                             
⠏ |        830 | spectra_subsetting                                             
⠸ |        834 | spectra_subsetting                                             
✔ |        838 | spectra_subsetting [21.2s]

⠏ |          0 | spectra_variables                                              
⠧ |          8 | spectra_variables                                              
⠸ |         14 | spectra_variables                                              
⠦ |         27 | spectra_variables                                              
⠇ |         39 | spectra_variables                                              
⠙ |         52 | spectra_variables                                              
⠇ |         59 | spectra_variables                                              
✔ |         64 | spectra_variables

══ Results ═════════════════════════════════════════════════════════════════════
Duration: 22.1 s

[ FAIL 0 | WARN 0 | SKIP 0 | PASS 906 ]

🌈 Your tests are over the rainbow 🌈
> 
> be <- tmt_be[sample(seq_along(tmt_be), 300)]
> test_dir(test_suite, stop_on_failure = TRUE)
✔ | F W  S  OK | Context

⠏ |          0 | peaks_variables                                                
⠙ |          2 | peaks_variables                                                
⠸ |          4 | peaks_variables                                                
✔ |          4 | peaks_variables [6.3s]

⠏ |          0 | spectra_subsetting                                             
⠋ |          1 | spectra_subsetting                                             
⠼ |         25 | spectra_subsetting                                             
⠏ |         50 | spectra_subsetting                                             
⠸ |         74 | spectra_subsetting                                             
⠏ |        100 | spectra_subsetting                                             
⠸ |        124 | spectra_subsetting                                             
⠧ |        148 | spectra_subsetting                                             
⠙ |        172 | spectra_subsetting                                             
⠴ |        196 | spectra_subsetting                                             
⠧ |        218 | spectra_subsetting                                             
⠼ |        245 | spectra_subsetting                                             
⠼ |        265 | spectra_subsetting                                             
⠋ |        281 | spectra_subsetting                                             
⠼ |        295 | spectra_subsetting                                             
⠏ |        310 | spectra_subsetting                                             
⠇ |        329 | spectra_subsetting                                             
⠙ |        352 | spectra_subsetting                                             
⠹ |        373 | spectra_subsetting                                             
⠹ |        393 | spectra_subsetting                                             
⠼ |        415 | spectra_subsetting                                             
⠦ |        437 | spectra_subsetting                                             
⠋ |        461 | spectra_subsetting                                             
⠙ |        482 | spectra_subsetting                                             
⠼ |        505 | spectra_subsetting                                             
⠧ |        528 | spectra_subsetting                                             
⠏ |        550 | spectra_subsetting                                             
⠧ |        568 | spectra_subsetting                                             
⠦ |        587 | spectra_subsetting                                             
⠦ |        607 | spectra_subsetting                                             
⠧ |        628 | spectra_subsetting                                             
⠇ |        649 | spectra_subsetting                                             
⠏ |        670 | spectra_subsetting                                             
⠋ |        691 | spectra_subsetting                                             
⠇ |        709 | spectra_subsetting                                             
⠼ |        725 | spectra_subsetting                                             
⠼ |        745 | spectra_subsetting                                             
⠴ |        766 | spectra_subsetting                                             
⠦ |        787 | spectra_subsetting                                             
⠇ |        809 | spectra_subsetting                                             
⠏ |        830 | spectra_subsetting                                             
⠧ |        848 | spectra_subsetting                                             
⠼ |        865 | spectra_subsetting                                             
⠸ |        884 | spectra_subsetting                                             
⠸ |        904 | spectra_subsetting                                             
⠴ |        906 | spectra_subsetting                                             
⠦ |        907 | spectra_subsetting                                             
⠧ |        908 | spectra_subsetting                                             
⠏ |        910 | spectra_subsetting                                             
⠙ |        912 | spectra_subsetting                                             
⠸ |        914 | spectra_subsetting                                             
⠴ |        916 | spectra_subsetting                                             
⠧ |        918 | spectra_subsetting                                             
⠇ |        919 | spectra_subsetting                                             
⠏ |        920 | spectra_subsetting                                             
⠙ |        922 | spectra_subsetting                                             
⠸ |        924 | spectra_subsetting                                             
⠼ |        925 | spectra_subsetting                                             
⠦ |        927 | spectra_subsetting                                             
⠇ |        929 | spectra_subsetting                                             
⠏ |        930 | spectra_subsetting                                             
⠙ |        932 | spectra_subsetting                                             
⠸ |        934 | spectra_subsetting                                             
⠼ |        935 | spectra_subsetting                                             
⠴ |        936 | spectra_subsetting                                             
⠦ |        937 | spectra_subsetting                                             
⠧ |        938 | spectra_subsetting                                             
⠇ |        939 | spectra_subsetting                                             
⠏ |        940 | spectra_subsetting                                             
⠋ |        941 | spectra_subsetting                                             
⠹ |        943 | spectra_subsetting                                             
⠸ |        944 | spectra_subsetting                                             
⠼ |        945 | spectra_subsetting                                             
⠴ |        946 | spectra_subsetting                                             
⠦ |        947 | spectra_subsetting                                             
⠧ |        948 | spectra_subsetting                                             
⠇ |        949 | spectra_subsetting                                             
⠏ |        950 | spectra_subsetting                                             
⠋ |        951 | spectra_subsetting                                             
⠹ |        953 | spectra_subsetting                                             
⠸ |        954 | spectra_subsetting                                             
⠼ |        955 | spectra_subsetting                                             
⠴ |        956 | spectra_subsetting                                             
⠦ |        957 | spectra_subsetting                                             
⠇ |        959 | spectra_subsetting                                             
⠏ |        960 | spectra_subsetting                                             
⠙ |        962 | spectra_subsetting                                             
⠹ |        963 | spectra_subsetting                                             
⠼ |        965 | spectra_subsetting                                             
⠴ |        966 | spectra_subsetting                                             
⠦ |        967 | spectra_subsetting                                             
⠧ |        968 | spectra_subsetting                                             
⠇ |        969 | spectra_subsetting                                             
⠏ |        970 | spectra_subsetting                                             
⠙ |        972 | spectra_subsetting                                             
⠹ |        973 | spectra_subsetting                                             
⠼ |        975 | spectra_subsetting                                             
⠴ |        976 | spectra_subsetting                                             
⠧ |        978 | spectra_subsetting                                             
⠏ |        980 | spectra_subsetting                                             
⠋ |        981 | spectra_subsetting                                             
⠙ |        982 | spectra_subsetting                                             
⠹ |        983 | spectra_subsetting                                             
⠸ |        984 | spectra_subsetting                                             
⠼ |        985 | spectra_subsetting                                             
⠴ |        986 | spectra_subsetting                                             
⠧ |        988 | spectra_subsetting                                             
⠇ |        989 | spectra_subsetting                                             
⠋ |        991 | spectra_subsetting                                             
⠙ |        992 | spectra_subsetting                                             
⠹ |        993 | spectra_subsetting                                             
⠸ |        994 | spectra_subsetting                                             
⠴ |        996 | spectra_subsetting                                             
⠦ |        997 | spectra_subsetting                                             
⠧ |        998 | spectra_subsetting                                             
⠏ |        1000 | spectra_subsetting                                            
⠋ |        1001 | spectra_subsetting                                            
⠹ |        1003 | spectra_subsetting                                            
⠼ |        1005 | spectra_subsetting                                            
⠦ |        1007 | spectra_subsetting                                            
⠇ |        1009 | spectra_subsetting                                            
⠏ |        1010 | spectra_subsetting                                            
⠋ |        1011 | spectra_subsetting                                            
⠹ |        1013 | spectra_subsetting                                            
⠼ |        1015 | spectra_subsetting                                            
⠴ |        1016 | spectra_subsetting                                            
⠧ |        1018 | spectra_subsetting                                            
⠏ |        1020 | spectra_subsetting                                            
⠋ |        1021 | spectra_subsetting                                            
⠹ |        1023 | spectra_subsetting                                            
⠼ |        1025 | spectra_subsetting                                            
⠴ |        1026 | spectra_subsetting                                            
⠦ |        1027 | spectra_subsetting                                            
⠧ |        1028 | spectra_subsetting                                            
⠇ |        1029 | spectra_subsetting                                            
⠋ |        1031 | spectra_subsetting                                            
⠹ |        1033 | spectra_subsetting                                            
⠸ |        1034 | spectra_subsetting                                            
⠴ |        1036 | spectra_subsetting                                            
⠦ |        1037 | spectra_subsetting                                            
⠇ |        1039 | spectra_subsetting                                            
⠋ |        1041 | spectra_subsetting                                            
⠙ |        1042 | spectra_subsetting                                            
⠸ |        1044 | spectra_subsetting                                            
⠼ |        1045 | spectra_subsetting                                            
⠦ |        1047 | spectra_subsetting                                            
⠧ |        1048 | spectra_subsetting                                            
⠇ |        1049 | spectra_subsetting                                            
⠏ |        1050 | spectra_subsetting                                            
⠋ |        1051 | spectra_subsetting                                            
⠙ |        1052 | spectra_subsetting                                            
⠹ |        1053 | spectra_subsetting                                            
⠸ |        1054 | spectra_subsetting                                            
⠼ |        1055 | spectra_subsetting                                            
⠴ |        1056 | spectra_subsetting                                            
⠦ |        1057 | spectra_subsetting                                            
⠇ |        1059 | spectra_subsetting                                            
⠋ |        1061 | spectra_subsetting                                            
⠹ |        1063 | spectra_subsetting                                            
⠸ |        1064 | spectra_subsetting                                            
⠼ |        1065 | spectra_subsetting                                            
⠴ |        1066 | spectra_subsetting                                            
⠧ |        1068 | spectra_subsetting                                            
⠇ |        1069 | spectra_subsetting                                            
⠏ |        1070 | spectra_subsetting                                            
⠙ |        1072 | spectra_subsetting                                            
⠹ |        1073 | spectra_subsetting                                            
⠸ |        1074 | spectra_subsetting                                            
⠼ |        1075 | spectra_subsetting                                            
⠴ |        1076 | spectra_subsetting                                            
⠦ |        1077 | spectra_subsetting                                            
⠇ |        1079 | spectra_subsetting                                            
⠏ |        1080 | spectra_subsetting                                            
⠋ |        1081 | spectra_subsetting                                            
⠹ |        1083 | spectra_subsetting                                            
⠸ |        1084 | spectra_subsetting                                            
⠼ |        1085 | spectra_subsetting                                            
⠴ |        1086 | spectra_subsetting                                            
⠦ |        1087 | spectra_subsetting                                            
⠇ |        1089 | spectra_subsetting                                            
⠋ |        1091 | spectra_subsetting                                            
⠙ |        1092 | spectra_subsetting                                            
⠸ |        1094 | spectra_subsetting                                            
⠴ |        1096 | spectra_subsetting                                            
⠧ |        1098 | spectra_subsetting                                            
⠏ |        1100 | spectra_subsetting                                            
⠋ |        1101 | spectra_subsetting                                            
⠙ |        1102 | spectra_subsetting                                            
⠸ |        1104 | spectra_subsetting                                            
⠴ |        1106 | spectra_subsetting                                            
⠦ |        1107 | spectra_subsetting                                            
⠇ |        1109 | spectra_subsetting                                            
⠏ |        1110 | spectra_subsetting                                            
⠋ |        1111 | spectra_subsetting                                            
⠙ |        1112 | spectra_subsetting                                            
⠹ |        1113 | spectra_subsetting                                            
⠼ |        1115 | spectra_subsetting                                            
⠦ |        1117 | spectra_subsetting                                            
⠧ |        1118 | spectra_subsetting                                            
⠏ |        1120 | spectra_subsetting                                            
⠙ |        1122 | spectra_subsetting                                            
⠹ |        1123 | spectra_subsetting                                            
⠼ |        1125 | spectra_subsetting                                            
⠦ |        1127 | spectra_subsetting                                            
⠧ |        1128 | spectra_subsetting                                            
⠇ |        1129 | spectra_subsetting                                            
⠏ |        1130 | spectra_subsetting                                            
⠙ |        1132 | spectra_subsetting                                            
⠸ |        1134 | spectra_subsetting                                            
⠴ |        1136 | spectra_subsetting                                            
⠧ |        1138 | spectra_subsetting                                            
⠇ |        1139 | spectra_subsetting                                            
⠋ |        1141 | spectra_subsetting                                            
⠙ |        1142 | spectra_subsetting                                            
⠹ |        1143 | spectra_subsetting                                            
⠸ |        1144 | spectra_subsetting                                            
⠴ |        1146 | spectra_subsetting                                            
⠧ |        1148 | spectra_subsetting                                            
⠇ |        1149 | spectra_subsetting                                            
⠏ |        1150 | spectra_subsetting                                            
⠙ |        1152 | spectra_subsetting                                            
⠸ |        1154 | spectra_subsetting                                            
⠼ |        1155 | spectra_subsetting                                            
⠦ |        1157 | spectra_subsetting                                            
⠧ |        1158 | spectra_subsetting                                            
⠇ |        1159 | spectra_subsetting                                            
⠏ |        1160 | spectra_subsetting                                            
⠋ |        1161 | spectra_subsetting                                            
⠙ |        1162 | spectra_subsetting                                            
⠹ |        1163 | spectra_subsetting                                            
⠸ |        1164 | spectra_subsetting                                            
⠼ |        1165 | spectra_subsetting                                            
⠴ |        1166 | spectra_subsetting                                            
⠦ |        1167 | spectra_subsetting                                            
⠧ |        1168 | spectra_subsetting                                            
⠏ |        1170 | spectra_subsetting                                            
⠋ |        1171 | spectra_subsetting                                            
⠙ |        1172 | spectra_subsetting                                            
⠸ |        1174 | spectra_subsetting                                            
⠴ |        1176 | spectra_subsetting                                            
⠦ |        1177 | spectra_subsetting                                            
⠇ |        1179 | spectra_subsetting                                            
⠋ |        1181 | spectra_subsetting                                            
⠙ |        1182 | spectra_subsetting                                            
⠹ |        1183 | spectra_subsetting                                            
⠸ |        1184 | spectra_subsetting                                            
⠼ |        1185 | spectra_subsetting                                            
⠦ |        1187 | spectra_subsetting                                            
⠧ |        1188 | spectra_subsetting                                            
⠇ |        1189 | spectra_subsetting                                            
⠋ |        1191 | spectra_subsetting                                            
⠹ |        1193 | spectra_subsetting                                            
⠸ |        1194 | spectra_subsetting                                            
⠼ |        1195 | spectra_subsetting                                            
⠦ |        1197 | spectra_subsetting                                            
⠧ |        1198 | spectra_subsetting                                            
⠏ |        1200 | spectra_subsetting                                            
⠙ |        1202 | spectra_subsetting                                            
⠹ |        1203 | spectra_subsetting                                            
⠸ |        1204 | spectra_subsetting                                            
⠧ |        1208 | spectra_subsetting                                            
⠦ |        1217 | spectra_subsetting                                            
⠹ |        1223 | spectra_subsetting                                            
⠋ |        1231 | spectra_subsetting                                            
⠧ |        1238 | spectra_subsetting                                            
⠙ |        1242 | spectra_subsetting                                            
✔ |        1246 | spectra_subsetting [62.8s]

⠏ |          0 | spectra_variables                                              
⠏ |         10 | spectra_variables                                              
⠙ |         12 | spectra_variables                                              
⠸ |         14 | spectra_variables                                              
⠴ |         16 | spectra_variables                                              
⠦ |         27 | spectra_variables                                              
⠇ |         29 | spectra_variables                                              
⠋ |         31 | spectra_variables                                              
⠹ |         43 | spectra_variables                                              
⠸ |         54 | spectra_variables                                              
✔ |         64 | spectra_variables [19.5s]

══ Results ═════════════════════════════════════════════════════════════════════
Duration: 88.6 s

[ FAIL 0 | WARN 0 | SKIP 0 | PASS 1314 ]
> 
> dbDisconnect(mm8_db_long)
> dbDisconnect(mm8_db_blob)
> dbDisconnect(mm8_db_blob2)
> dbDisconnect(mm_db)
> dbDisconnect(tmt_db)
> 
> proc.time()
   user  system elapsed 
248.487  35.722 298.289 

Example timings

MsBackendSql.Rcheck/MsBackendSql-Ex.timings

nameusersystemelapsed
MsBackendSql3.2480.4453.691