Back to Multiple platform build/check report for BioC 3.23:   simplified   long
ABCDEFGHIJKL[M]NOPQRSTUVWXYZ

This page was generated on 2025-11-22 11:37 -0500 (Sat, 22 Nov 2025).

HostnameOSArch (*)R versionInstalled pkgs
nebbiolo1Linux (Ubuntu 24.04.3 LTS)x86_64R Under development (unstable) (2025-10-20 r88955) -- "Unsuffered Consequences" 4829
lconwaymacOS 12.7.6 Montereyx86_64R Under development (unstable) (2025-10-21 r88958) -- "Unsuffered Consequences" 4603
kjohnson3macOS 13.7.7 Venturaarm64R Under development (unstable) (2025-11-04 r88984) -- "Unsuffered Consequences" 4567
Click on any hostname to see more info about the system (e.g. compilers)      (*) as reported by 'uname -p', except on Windows and Mac OS X

Package 1361/2327HostnameOS / ArchINSTALLBUILDCHECKBUILD BIN
MsBackendRawFileReader 1.17.0  (landing page)
Christian Panse
Snapshot Date: 2025-11-21 13:40 -0500 (Fri, 21 Nov 2025)
git_url: https://git.bioconductor.org/packages/MsBackendRawFileReader
git_branch: devel
git_last_commit: c509d56
git_last_commit_date: 2025-10-29 11:12:57 -0500 (Wed, 29 Oct 2025)
nebbiolo1Linux (Ubuntu 24.04.3 LTS) / x86_64  OK    OK    OK  UNNEEDED, same version is already published
lconwaymacOS 12.7.6 Monterey / x86_64  OK    OK    OK    OK  NO, package depends on 'MsCoreUtils' which is only available as a source package that needs compilation
kjohnson3macOS 13.7.7 Ventura / arm64  OK    OK    OK    OK  NO, package depends on 'MsCoreUtils' which is only available as a source package that needs compilation


CHECK results for MsBackendRawFileReader on nebbiolo1

To the developers/maintainers of the MsBackendRawFileReader package:
- Allow up to 24 hours (and sometimes 48 hours) for your latest push to git@git.bioconductor.org:packages/MsBackendRawFileReader.git to reflect on this report. See Troubleshooting Build Report for more information.
- Use the following Renviron settings to reproduce errors and warnings.
- If 'R CMD check' started to fail recently on the Linux builder(s) over a missing dependency, add the missing dependency to 'Suggests:' in your DESCRIPTION file. See Renviron.bioc for more information.

raw results


Summary

Package: MsBackendRawFileReader
Version: 1.17.0
Command: /home/biocbuild/bbs-3.23-bioc/R/bin/R CMD check --install=check:MsBackendRawFileReader.install-out.txt --library=/home/biocbuild/bbs-3.23-bioc/R/site-library --timings MsBackendRawFileReader_1.17.0.tar.gz
StartedAt: 2025-11-22 01:44:33 -0500 (Sat, 22 Nov 2025)
EndedAt: 2025-11-22 01:49:11 -0500 (Sat, 22 Nov 2025)
EllapsedTime: 278.4 seconds
RetCode: 0
Status:   OK  
CheckDir: MsBackendRawFileReader.Rcheck
Warnings: 0

Command output

##############################################################################
##############################################################################
###
### Running command:
###
###   /home/biocbuild/bbs-3.23-bioc/R/bin/R CMD check --install=check:MsBackendRawFileReader.install-out.txt --library=/home/biocbuild/bbs-3.23-bioc/R/site-library --timings MsBackendRawFileReader_1.17.0.tar.gz
###
##############################################################################
##############################################################################


* using log directory ‘/home/biocbuild/bbs-3.23-bioc/meat/MsBackendRawFileReader.Rcheck’
* using R Under development (unstable) (2025-10-20 r88955)
* using platform: x86_64-pc-linux-gnu
* R was compiled by
    gcc (Ubuntu 13.3.0-6ubuntu2~24.04) 13.3.0
    GNU Fortran (Ubuntu 13.3.0-6ubuntu2~24.04) 13.3.0
* running under: Ubuntu 24.04.3 LTS
* using session charset: UTF-8
* checking for file ‘MsBackendRawFileReader/DESCRIPTION’ ... OK
* checking extension type ... Package
* this is package ‘MsBackendRawFileReader’ version ‘1.17.0’
* package encoding: UTF-8
* checking package namespace information ... OK
* checking package dependencies ... OK
* checking if this is a source package ... OK
* checking if there is a namespace ... OK
* checking for hidden files and directories ... OK
* checking for portable file names ... OK
* checking for sufficient/correct file permissions ... OK
* checking whether package ‘MsBackendRawFileReader’ can be installed ... OK
* checking installed package size ... OK
* checking package directory ... OK
* checking ‘build’ directory ... OK
* checking DESCRIPTION meta-information ... OK
* checking top-level files ... OK
* checking for left-over files ... OK
* checking index information ... OK
* checking package subdirectories ... OK
* checking code files for non-ASCII characters ... OK
* checking R files for syntax errors ... OK
* checking whether the package can be loaded ... OK
* checking whether the package can be loaded with stated dependencies ... OK
* checking whether the package can be unloaded cleanly ... OK
* checking whether the namespace can be loaded with stated dependencies ... OK
* checking whether the namespace can be unloaded cleanly ... OK
* checking loading without being on the library search path ... OK
* checking whether startup messages can be suppressed ... OK
* checking dependencies in R code ... OK
* checking S3 generic/method consistency ... OK
* checking replacement functions ... OK
* checking foreign function calls ... OK
* checking R code for possible problems ... OK
* checking Rd files ... OK
* checking Rd metadata ... OK
* checking Rd cross-references ... OK
* checking for missing documentation entries ... OK
* checking for code/documentation mismatches ... OK
* checking Rd \usage sections ... OK
* checking Rd contents ... OK
* checking for unstated dependencies in examples ... OK
* checking files in ‘vignettes’ ... OK
* checking examples ... OK
Examples with CPU (user + system) or elapsed time > 5s
                         user system elapsed
ioBenchmark            32.136  6.218  11.537
MsBackendRawFileReader  6.281  2.075   8.979
* checking for unstated dependencies in ‘tests’ ... OK
* checking tests ...
  Running ‘testthat.R’
 OK
* checking for unstated dependencies in vignettes ... OK
* checking package vignettes ... OK
* checking re-building of vignette outputs ... OK
* checking PDF version of manual ... OK
* DONE

Status: OK


Installation output

MsBackendRawFileReader.Rcheck/00install.out

##############################################################################
##############################################################################
###
### Running command:
###
###   /home/biocbuild/bbs-3.23-bioc/R/bin/R CMD INSTALL MsBackendRawFileReader
###
##############################################################################
##############################################################################


* installing to library ‘/home/biocbuild/bbs-3.23-bioc/R/site-library’
* installing *source* package ‘MsBackendRawFileReader’ ...
** this is package ‘MsBackendRawFileReader’ version ‘1.17.0’
** using staged installation
** R
** inst
** byte-compile and prepare package for lazy loading
** help
*** installing help indices
** building package indices
** installing vignettes
** testing if installed package can be loaded from temporary location
** testing if installed package can be loaded from final location
** testing if installed package keeps a record of temporary installation path
* DONE (MsBackendRawFileReader)

Tests output

MsBackendRawFileReader.Rcheck/tests/testthat.Rout


R Under development (unstable) (2025-10-20 r88955) -- "Unsuffered Consequences"
Copyright (C) 2025 The R Foundation for Statistical Computing
Platform: x86_64-pc-linux-gnu

R is free software and comes with ABSOLUTELY NO WARRANTY.
You are welcome to redistribute it under certain conditions.
Type 'license()' or 'licence()' for distribution details.

R is a collaborative project with many contributors.
Type 'contributors()' for more information and
'citation()' on how to cite R or R packages in publications.

Type 'demo()' for some demos, 'help()' for on-line help, or
'help.start()' for an HTML browser interface to help.
Type 'q()' to quit R.

> library("testthat")
> library("MsBackendRawFileReader")
Loading required package: Spectra
Loading required package: S4Vectors
Loading required package: stats4
Loading required package: BiocGenerics
Loading required package: generics

Attaching package: 'generics'

The following objects are masked from 'package:base':

    as.difftime, as.factor, as.ordered, intersect, is.element, setdiff,
    setequal, union


Attaching package: 'BiocGenerics'

The following objects are masked from 'package:stats':

    IQR, mad, sd, var, xtabs

The following objects are masked from 'package:base':

    Filter, Find, Map, Position, Reduce, anyDuplicated, aperm, append,
    as.data.frame, basename, cbind, colnames, dirname, do.call,
    duplicated, eval, evalq, get, grep, grepl, is.unsorted, lapply,
    mapply, match, mget, order, paste, pmax, pmax.int, pmin, pmin.int,
    rank, rbind, rownames, sapply, saveRDS, table, tapply, unique,
    unsplit, which.max, which.min


Attaching package: 'S4Vectors'

The following object is masked from 'package:utils':

    findMatches

The following objects are masked from 'package:base':

    I, expand.grid, unname

Loading required package: BiocParallel
> library("Spectra")
> 
> 
> sample_raw_file <- file.path(system.file(package = "rawrr"),
+                                 'extdata', 'sample.raw')
> 
> sample_mzXML_file <- file.path(path.package(package = 'MsBackendRawFileReader'),
+                                 'extdata', 'sample.mzXML')
> 
> 
> sample_raw <-  backendInitialize(MsBackendRawFileReader::MsBackendRawFileReader(), files = sample_raw_file)
> 
> 
> #sample_mzr <-  backendInitialize(MsBackendMzR(), files = sample_mzXML_file)
> 
> 
> mgf_file <- file.path(system.file(package = "MsBackendRawFileReader"),
+                              'extdata', '3159619b11ed_4590_9594.mgf')
> 
> 
> rv <- lapply(1:2, function(x){
+   file.copy(from = sample_raw_file, to = tempfile(fileext='.raw'))})
> 
> 
> register(SnowParam(workers = 1, type = "SOCK") , default = TRUE); 
> sample_raw_2 <- backendInitialize(MsBackendRawFileReader(),
+     files = file.path(tempdir(),
+          list.files(path = tempdir(), pattern = 'raw$')))
> 
> 
> test_check("MsBackendRawFileReader")
[ FAIL 0 | WARN 1 | SKIP 2 | PASS 21 ]

══ Skipped tests (2) ═══════════════════════════════════════════════════════════
• isFALSE(file.exists(sample_mzXML_file)) is TRUE (1):
  'test_MsBackendMzR_MsBackendRawFileReader.R:1:1'
• isFALSE(require(MsBackendRawMgf)) is TRUE (1): 'test_top_n_mgf.R:1:1'

[ FAIL 0 | WARN 1 | SKIP 2 | PASS 21 ]
> 
> 
> be <- Spectra::backendInitialize(MsBackendRawFileReader::MsBackendRawFileReader(),
+                                  files = c(sample_raw_file))
> 
> ## Run the MsBackend spectra variable test suite
> 
> test_suite <- system.file("test_backends", "test_MsBackend",
+                           package = "Spectra")
> 
> #res <- test_file(paste0(test_suite, "/test_spectra_variables.R"),
> #                 reporter = check_reporter(), stop_on_failure = TRUE)
> 
> 
> ## Run the whole suite.
> res <- test_dir(test_suite, stop_on_failure = TRUE)
✔ | F W  S  OK | Context

⠏ |          0 | peaks_variables                                                
⠙ |          2 | peaks_variables                                                
⠸ |          4 | peaks_variables                                                
✔ |          4 | peaks_variables [3.7s]

⠏ |          0 | spectra_subsetting                                             
⠋ |          1 | spectra_subsetting                                             
⠴ |         16 | spectra_subsetting                                             
⠙ |         32 | spectra_subsetting                                             
⠴ |         46 | spectra_subsetting                                             
⠙ |         62 | spectra_subsetting                                             
⠴ |         76 | spectra_subsetting                                             
⠙ |         92 | spectra_subsetting                                             
⠇ |        109 | spectra_subsetting                                             
⠸ |        124 | spectra_subsetting                                             
⠏ |        140 | spectra_subsetting                                             
⠸ |        154 | spectra_subsetting                                             
⠏ |        170 | spectra_subsetting                                             
⠸ |        184 | spectra_subsetting                                             
⠇ |        199 | spectra_subsetting                                             
⠼ |        215 | spectra_subsetting                                             
⠇ |        229 | spectra_subsetting                                             
⠴ |        246 | spectra_subsetting                                             
⠇ |        259 | spectra_subsetting                                             
⠸ |        274 | spectra_subsetting                                             
⠏ |        290 | spectra_subsetting                                             
⠸ |        304 | spectra_subsetting                                             
⠋ |        321 | spectra_subsetting                                             
⠸ |        334 | spectra_subsetting                                             
⠇ |        349 | spectra_subsetting                                             
⠦ |        367 | spectra_subsetting                                             
⠙ |        382 | spectra_subsetting                                             
⠦ |        397 | spectra_subsetting                                             
⠙ |        412 | spectra_subsetting                                             
⠧ |        428 | spectra_subsetting                                             
⠙ |        442 | spectra_subsetting                                             
⠦ |        457 | spectra_subsetting                                             
⠙ |        472 | spectra_subsetting                                             
⠼ |        485 | spectra_subsetting                                             
⠙ |        502 | spectra_subsetting                                             
⠦ |        517 | spectra_subsetting                                             
⠙ |        532 | spectra_subsetting                                             
⠦ |        547 | spectra_subsetting                                             
⠙ |        562 | spectra_subsetting                                             
⠧ |        578 | spectra_subsetting                                             
⠙ |        592 | spectra_subsetting                                             
⠧ |        608 | spectra_subsetting                                             
⠙ |        622 | spectra_subsetting                                             
⠦ |        637 | spectra_subsetting                                             
⠙ |        652 | spectra_subsetting                                             
⠴ |        666 | spectra_subsetting                                             
⠏ |        680 | spectra_subsetting                                             
⠸ |        694 | spectra_subsetting                                             
⠇ |        709 | spectra_subsetting                                             
⠼ |        725 | spectra_subsetting                                             
⠇ |        739 | spectra_subsetting                                             
⠴ |        756 | spectra_subsetting                                             
⠏ |        770 | spectra_subsetting                                             
⠼ |        785 | spectra_subsetting                                             
⠏ |        800 | spectra_subsetting                                             
⠸ |        814 | spectra_subsetting                                             
⠋ |        831 | spectra_subsetting                                             
⠸ |        844 | spectra_subsetting                                             
⠇ |        859 | spectra_subsetting                                             
⠼ |        875 | spectra_subsetting                                             
⠇ |        889 | spectra_subsetting                                             
⠼ |        905 | spectra_subsetting                                             
⠇ |        919 | spectra_subsetting                                             
⠸ |        934 | spectra_subsetting                                             
⠇ |        949 | spectra_subsetting                                             
⠸ |        964 | spectra_subsetting                                             
⠏ |        980 | spectra_subsetting                                             
⠸ |        994 | spectra_subsetting                                             
⠇ |        1009 | spectra_subsetting                                            
⠸ |        1024 | spectra_subsetting                                            
⠇ |        1039 | spectra_subsetting                                            
⠸ |        1054 | spectra_subsetting                                            
⠇ |        1069 | spectra_subsetting                                            
⠸ |        1084 | spectra_subsetting                                            
⠇ |        1099 | spectra_subsetting                                            
⠙ |        1112 | spectra_subsetting                                            
⠴ |        1126 | spectra_subsetting                                            
⠧ |        1138 | spectra_subsetting                                            
⠹ |        1153 | spectra_subsetting                                            
⠧ |        1168 | spectra_subsetting                                            
⠹ |        1183 | spectra_subsetting                                            
⠏ |        1200 | spectra_subsetting                                            
⠹ |        1213 | spectra_subsetting                                            
⠇ |        1229 | spectra_subsetting                                            
⠼ |        1245 | spectra_subsetting                                            
⠧ |        1258 | spectra_subsetting                                            
⠸ |        1274 | spectra_subsetting                                            
⠧ |        1288 | spectra_subsetting                                            
⠸ |        1304 | spectra_subsetting                                            
⠧ |        1318 | spectra_subsetting                                            
⠹ |        1333 | spectra_subsetting                                            
⠧ |        1348 | spectra_subsetting                                            
⠙ |        1362 | spectra_subsetting                                            
⠧ |        1378 | spectra_subsetting                                            
⠹ |        1393 | spectra_subsetting                                            
⠧ |        1408 | spectra_subsetting                                            
⠹ |        1423 | spectra_subsetting                                            
⠧ |        1438 | spectra_subsetting                                            
⠹ |        1453 | spectra_subsetting                                            
⠧ |        1468 | spectra_subsetting                                            
⠼ |        1485 | spectra_subsetting                                            
⠇ |        1499 | spectra_subsetting                                            
⠹ |        1513 | spectra_subsetting                                            
⠧ |        1528 | spectra_subsetting                                            
⠋ |        1541 | spectra_subsetting                                            
⠧ |        1558 | spectra_subsetting                                            
⠹ |        1573 | spectra_subsetting                                            
⠧ |        1588 | spectra_subsetting                                            
⠸ |        1604 | spectra_subsetting                                            
⠧ |        1618 | spectra_subsetting                                            
⠸ |        1634 | spectra_subsetting                                            
⠧ |        1648 | spectra_subsetting                                            
⠸ |        1664 | spectra_subsetting                                            
⠋ |        1681 | spectra_subsetting                                            
⠴ |        1696 | spectra_subsetting                                            
⠋ |        1711 | spectra_subsetting                                            
⠹ |        1723 | spectra_subsetting                                            
⠧ |        1728 | spectra_subsetting                                            
⠏ |        1730 | spectra_subsetting                                            
⠙ |        1732 | spectra_subsetting                                            
⠸ |        1734 | spectra_subsetting                                            
⠦ |        1737 | spectra_subsetting                                            
⠇ |        1739 | spectra_subsetting                                            
⠙ |        1742 | spectra_subsetting                                            
⠸ |        1744 | spectra_subsetting                                            
⠦ |        1747 | spectra_subsetting                                            
⠏ |        1750 | spectra_subsetting                                            
⠙ |        1752 | spectra_subsetting                                            
⠼ |        1755 | spectra_subsetting                                            
⠦ |        1757 | spectra_subsetting                                            
⠏ |        1760 | spectra_subsetting                                            
⠙ |        1762 | spectra_subsetting                                            
⠼ |        1765 | spectra_subsetting                                            
⠧ |        1768 | spectra_subsetting                                            
⠏ |        1770 | spectra_subsetting                                            
⠹ |        1773 | spectra_subsetting                                            
⠼ |        1775 | spectra_subsetting                                            
⠧ |        1778 | spectra_subsetting                                            
⠏ |        1780 | spectra_subsetting                                            
⠹ |        1783 | spectra_subsetting                                            
⠴ |        1786 | spectra_subsetting                                            
⠧ |        1788 | spectra_subsetting                                            
⠏ |        1790 | spectra_subsetting                                            
⠙ |        1792 | spectra_subsetting                                            
⠸ |        1794 | spectra_subsetting                                            
⠴ |        1796 | spectra_subsetting                                            
⠧ |        1798 | spectra_subsetting                                            
⠏ |        1800 | spectra_subsetting                                            
⠙ |        1802 | spectra_subsetting                                            
⠼ |        1805 | spectra_subsetting                                            
⠧ |        1808 | spectra_subsetting                                            
⠏ |        1810 | spectra_subsetting                                            
⠹ |        1813 | spectra_subsetting                                            
⠼ |        1815 | spectra_subsetting                                            
⠦ |        1817 | spectra_subsetting                                            
⠇ |        1819 | spectra_subsetting                                            
⠙ |        1822 | spectra_subsetting                                            
⠸ |        1824 | spectra_subsetting                                            
⠦ |        1827 | spectra_subsetting                                            
⠏ |        1830 | spectra_subsetting                                            
⠙ |        1832 | spectra_subsetting                                            
⠼ |        1835 | spectra_subsetting                                            
⠦ |        1837 | spectra_subsetting                                            
⠏ |        1840 | spectra_subsetting                                            
⠙ |        1842 | spectra_subsetting                                            
⠸ |        1844 | spectra_subsetting                                            
⠴ |        1846 | spectra_subsetting                                            
⠇ |        1849 | spectra_subsetting                                            
⠙ |        1852 | spectra_subsetting                                            
⠸ |        1854 | spectra_subsetting                                            
⠦ |        1857 | spectra_subsetting                                            
⠇ |        1859 | spectra_subsetting                                            
⠙ |        1862 | spectra_subsetting                                            
⠼ |        1865 | spectra_subsetting                                            
⠦ |        1867 | spectra_subsetting                                            
⠏ |        1870 | spectra_subsetting                                            
⠙ |        1872 | spectra_subsetting                                            
⠼ |        1875 | spectra_subsetting                                            
⠦ |        1877 | spectra_subsetting                                            
⠏ |        1880 | spectra_subsetting                                            
⠹ |        1883 | spectra_subsetting                                            
⠼ |        1885 | spectra_subsetting                                            
⠧ |        1888 | spectra_subsetting                                            
⠇ |        1889 | spectra_subsetting                                            
⠙ |        1892 | spectra_subsetting                                            
⠼ |        1895 | spectra_subsetting                                            
⠧ |        1898 | spectra_subsetting                                            
⠋ |        1901 | spectra_subsetting                                            
⠸ |        1904 | spectra_subsetting                                            
⠦ |        1907 | spectra_subsetting                                            
⠏ |        1910 | spectra_subsetting                                            
⠹ |        1913 | spectra_subsetting                                            
⠴ |        1916 | spectra_subsetting                                            
⠇ |        1919 | spectra_subsetting                                            
⠙ |        1922 | spectra_subsetting                                            
⠼ |        1925 | spectra_subsetting                                            
⠧ |        1928 | spectra_subsetting                                            
⠋ |        1931 | spectra_subsetting                                            
⠸ |        1934 | spectra_subsetting                                            
⠦ |        1937 | spectra_subsetting                                            
⠏ |        1940 | spectra_subsetting                                            
⠹ |        1943 | spectra_subsetting                                            
⠴ |        1946 | spectra_subsetting                                            
⠇ |        1949 | spectra_subsetting                                            
⠙ |        1952 | spectra_subsetting                                            
⠼ |        1955 | spectra_subsetting                                            
⠧ |        1958 | spectra_subsetting                                            
⠋ |        1961 | spectra_subsetting                                            
⠸ |        1964 | spectra_subsetting                                            
⠦ |        1967 | spectra_subsetting                                            
⠏ |        1970 | spectra_subsetting                                            
⠹ |        1973 | spectra_subsetting                                            
⠼ |        1975 | spectra_subsetting                                            
⠧ |        1978 | spectra_subsetting                                            
⠋ |        1981 | spectra_subsetting                                            
⠸ |        1984 | spectra_subsetting                                            
⠦ |        1987 | spectra_subsetting                                            
⠏ |        1990 | spectra_subsetting                                            
⠹ |        1993 | spectra_subsetting                                            
⠴ |        1996 | spectra_subsetting                                            
⠇ |        1999 | spectra_subsetting                                            
⠙ |        2002 | spectra_subsetting                                            
⠼ |        2005 | spectra_subsetting                                            
⠧ |        2008 | spectra_subsetting                                            
⠋ |        2011 | spectra_subsetting                                            
⠹ |        2013 | spectra_subsetting                                            
⠴ |        2016 | spectra_subsetting                                            
⠇ |        2019 | spectra_subsetting                                            
⠋ |        2021 | spectra_subsetting                                            
⠸ |        2024 | spectra_subsetting                                            
⠦ |        2027 | spectra_subsetting                                            
⠏ |        2030 | spectra_subsetting                                            
⠹ |        2033 | spectra_subsetting                                            
⠴ |        2036 | spectra_subsetting                                            
⠇ |        2039 | spectra_subsetting                                            
⠙ |        2042 | spectra_subsetting                                            
⠼ |        2045 | spectra_subsetting                                            
⠧ |        2048 | spectra_subsetting                                            
⠋ |        2051 | spectra_subsetting                                            
⠸ |        2054 | spectra_subsetting                                            
⠦ |        2057 | spectra_subsetting                                            
⠏ |        2060 | spectra_subsetting                                            
⠹ |        2063 | spectra_subsetting                                            
⠴ |        2066 | spectra_subsetting                                            
⠇ |        2069 | spectra_subsetting                                            
⠙ |        2072 | spectra_subsetting                                            
⠼ |        2075 | spectra_subsetting                                            
⠧ |        2078 | spectra_subsetting                                            
⠋ |        2081 | spectra_subsetting                                            
⠸ |        2084 | spectra_subsetting                                            
⠦ |        2087 | spectra_subsetting                                            
⠏ |        2090 | spectra_subsetting                                            
⠹ |        2093 | spectra_subsetting                                            
⠴ |        2096 | spectra_subsetting                                            
⠇ |        2099 | spectra_subsetting                                            
⠙ |        2102 | spectra_subsetting                                            
⠼ |        2105 | spectra_subsetting                                            
⠧ |        2108 | spectra_subsetting                                            
⠋ |        2111 | spectra_subsetting                                            
⠸ |        2114 | spectra_subsetting                                            
⠦ |        2117 | spectra_subsetting                                            
⠏ |        2120 | spectra_subsetting                                            
⠙ |        2122 | spectra_subsetting                                            
⠼ |        2125 | spectra_subsetting                                            
⠧ |        2128 | spectra_subsetting                                            
⠋ |        2131 | spectra_subsetting                                            
⠸ |        2134 | spectra_subsetting                                            
⠦ |        2137 | spectra_subsetting                                            
⠏ |        2140 | spectra_subsetting                                            
⠹ |        2143 | spectra_subsetting                                            
⠴ |        2146 | spectra_subsetting                                            
⠇ |        2149 | spectra_subsetting                                            
⠙ |        2152 | spectra_subsetting                                            
⠼ |        2155 | spectra_subsetting                                            
⠧ |        2158 | spectra_subsetting                                            
⠋ |        2161 | spectra_subsetting                                            
⠸ |        2164 | spectra_subsetting                                            
⠦ |        2167 | spectra_subsetting                                            
⠏ |        2170 | spectra_subsetting                                            
⠹ |        2173 | spectra_subsetting                                            
⠴ |        2176 | spectra_subsetting                                            
⠇ |        2179 | spectra_subsetting                                            
⠙ |        2182 | spectra_subsetting                                            
⠼ |        2185 | spectra_subsetting                                            
⠧ |        2188 | spectra_subsetting                                            
⠋ |        2191 | spectra_subsetting                                            
⠸ |        2194 | spectra_subsetting                                            
⠦ |        2197 | spectra_subsetting                                            
⠏ |        2200 | spectra_subsetting                                            
⠙ |        2202 | spectra_subsetting                                            
⠸ |        2204 | spectra_subsetting                                            
⠦ |        2207 | spectra_subsetting                                            
⠏ |        2210 | spectra_subsetting                                            
⠹ |        2213 | spectra_subsetting                                            
⠴ |        2216 | spectra_subsetting                                            
⠇ |        2219 | spectra_subsetting                                            
⠙ |        2222 | spectra_subsetting                                            
⠼ |        2225 | spectra_subsetting                                            
⠧ |        2228 | spectra_subsetting                                            
⠋ |        2231 | spectra_subsetting                                            
⠸ |        2234 | spectra_subsetting                                            
⠦ |        2237 | spectra_subsetting                                            
⠏ |        2240 | spectra_subsetting                                            
⠹ |        2243 | spectra_subsetting                                            
⠴ |        2246 | spectra_subsetting                                            
⠇ |        2249 | spectra_subsetting                                            
⠙ |        2252 | spectra_subsetting                                            
⠼ |        2255 | spectra_subsetting                                            
⠧ |        2258 | spectra_subsetting                                            
⠋ |        2261 | spectra_subsetting                                            
⠸ |        2264 | spectra_subsetting                                            
⠦ |        2267 | spectra_subsetting                                            
⠏ |        2270 | spectra_subsetting                                            
⠙ |        2272 | spectra_subsetting                                            
⠼ |        2275 | spectra_subsetting                                            
⠧ |        2278 | spectra_subsetting                                            
⠋ |        2281 | spectra_subsetting                                            
⠸ |        2284 | spectra_subsetting                                            
⠦ |        2287 | spectra_subsetting                                            
⠏ |        2290 | spectra_subsetting                                            
⠹ |        2293 | spectra_subsetting                                            
⠴ |        2296 | spectra_subsetting                                            
⠇ |        2299 | spectra_subsetting                                            
⠹ |        2303 | spectra_subsetting                                            
⠋ |        2311 | spectra_subsetting                                            
⠧ |        2318 | spectra_subsetting                                            
⠦ |        2327 | spectra_subsetting                                            
⠸ |        2334 | spectra_subsetting                                            
✔ |        2342 | spectra_subsetting [40.9s]

⠏ |          0 | spectra_variables                                              
⠙ |         12 | spectra_variables                                              
⠸ |         14 | spectra_variables                                              
⠴ |         16 | spectra_variables                                              
⠦ |         27 | spectra_variables                                              
⠇ |         29 | spectra_variables                                              
⠋ |         31 | spectra_variables                                              
⠹ |         43 | spectra_variables                                              
⠙ |      1  61 | spectra_variables                                              
✔ |      1  62 | spectra_variables [14.1s]

══ Results ═════════════════════════════════════════════════════════════════════
Duration: 58.7 s

── Skipped tests (1) ───────────────────────────────────────────────────────────
• empty test (1): 'test_spectra_variables.R:262:1'

[ FAIL 0 | WARN 0 | SKIP 1 | PASS 2408 ]
> 
> proc.time()
   user  system elapsed 
 79.916   7.515  89.855 

Example timings

MsBackendRawFileReader.Rcheck/MsBackendRawFileReader-Ex.timings

nameusersystemelapsed
MsBackendRawFileReader-class2.9860.7944.103
MsBackendRawFileReader6.2812.0758.979
hidden_aliases2.0620.6712.907
ioBenchmark32.136 6.21811.537