Back to Multiple platform build/check report for BioC 3.23:   simplified   long
ABCDEFGHIJKL[M]NOPQRSTUVWXYZ

This page was generated on 2025-11-19 10:14 -0500 (Wed, 19 Nov 2025).

HostnameOSArch (*)R versionInstalled pkgs
nebbiolo1Linux (Ubuntu 24.04.3 LTS)x86_64R Under development (unstable) (2025-10-20 r88955) -- "Unsuffered Consequences" 4827
lconwaymacOS 12.7.6 Montereyx86_64R Under development (unstable) (2025-10-21 r88958) -- "Unsuffered Consequences" 4600
kjohnson3macOS 13.7.7 Venturaarm64R Under development (unstable) (2025-11-04 r88984) -- "Unsuffered Consequences" 4564
Click on any hostname to see more info about the system (e.g. compilers)      (*) as reported by 'uname -p', except on Windows and Mac OS X

Package 1356/2325HostnameOS / ArchINSTALLBUILDCHECKBUILD BIN
MsBackendMetaboLights 1.5.1  (landing page)
Johannes Rainer
Snapshot Date: 2025-11-18 13:40 -0500 (Tue, 18 Nov 2025)
git_url: https://git.bioconductor.org/packages/MsBackendMetaboLights
git_branch: devel
git_last_commit: d9f698a
git_last_commit_date: 2025-11-04 02:35:39 -0500 (Tue, 04 Nov 2025)
nebbiolo1Linux (Ubuntu 24.04.3 LTS) / x86_64  OK    OK    OK  UNNEEDED, same version is already published
lconwaymacOS 12.7.6 Monterey / x86_64  OK    OK    OK    OK  UNNEEDED, same version is already published
kjohnson3macOS 13.7.7 Ventura / arm64  OK    OK    OK    OK  UNNEEDED, same version is already published


CHECK results for MsBackendMetaboLights on kjohnson3

To the developers/maintainers of the MsBackendMetaboLights package:
- Allow up to 24 hours (and sometimes 48 hours) for your latest push to git@git.bioconductor.org:packages/MsBackendMetaboLights.git to reflect on this report. See Troubleshooting Build Report for more information.
- Use the following Renviron settings to reproduce errors and warnings.
- If 'R CMD check' started to fail recently on the Linux builder(s) over a missing dependency, add the missing dependency to 'Suggests:' in your DESCRIPTION file. See Renviron.bioc for more information.

raw results


Summary

Package: MsBackendMetaboLights
Version: 1.5.1
Command: /Library/Frameworks/R.framework/Resources/bin/R CMD check --install=check:MsBackendMetaboLights.install-out.txt --library=/Library/Frameworks/R.framework/Resources/library --no-vignettes --timings MsBackendMetaboLights_1.5.1.tar.gz
StartedAt: 2025-11-18 21:18:36 -0500 (Tue, 18 Nov 2025)
EndedAt: 2025-11-18 21:28:41 -0500 (Tue, 18 Nov 2025)
EllapsedTime: 605.0 seconds
RetCode: 0
Status:   OK  
CheckDir: MsBackendMetaboLights.Rcheck
Warnings: 0

Command output

##############################################################################
##############################################################################
###
### Running command:
###
###   /Library/Frameworks/R.framework/Resources/bin/R CMD check --install=check:MsBackendMetaboLights.install-out.txt --library=/Library/Frameworks/R.framework/Resources/library --no-vignettes --timings MsBackendMetaboLights_1.5.1.tar.gz
###
##############################################################################
##############################################################################


* using log directory ‘/Users/biocbuild/bbs-3.23-bioc/meat/MsBackendMetaboLights.Rcheck’
* using R Under development (unstable) (2025-11-04 r88984)
* using platform: aarch64-apple-darwin20
* R was compiled by
    Apple clang version 16.0.0 (clang-1600.0.26.6)
    GNU Fortran (GCC) 14.2.0
* running under: macOS Ventura 13.7.8
* using session charset: UTF-8
* using option ‘--no-vignettes’
* checking for file ‘MsBackendMetaboLights/DESCRIPTION’ ... OK
* this is package ‘MsBackendMetaboLights’ version ‘1.5.1’
* package encoding: UTF-8
* checking package namespace information ... OK
* checking package dependencies ... OK
* checking if this is a source package ... OK
* checking if there is a namespace ... OK
* checking for hidden files and directories ... OK
* checking for portable file names ... OK
* checking for sufficient/correct file permissions ... OK
* checking whether package ‘MsBackendMetaboLights’ can be installed ... OK
* checking installed package size ... OK
* checking package directory ... OK
* checking ‘build’ directory ... OK
* checking DESCRIPTION meta-information ... OK
* checking top-level files ... OK
* checking for left-over files ... OK
* checking index information ... OK
* checking package subdirectories ... OK
* checking code files for non-ASCII characters ... OK
* checking R files for syntax errors ... OK
* checking whether the package can be loaded ... OK
* checking whether the package can be loaded with stated dependencies ... OK
* checking whether the package can be unloaded cleanly ... OK
* checking whether the namespace can be loaded with stated dependencies ... OK
* checking whether the namespace can be unloaded cleanly ... OK
* checking dependencies in R code ... OK
* checking S3 generic/method consistency ... OK
* checking replacement functions ... OK
* checking foreign function calls ... OK
* checking R code for possible problems ... OK
* checking Rd files ... OK
* checking Rd metadata ... OK
* checking Rd cross-references ... OK
* checking for missing documentation entries ... OK
* checking for code/documentation mismatches ... OK
* checking Rd \usage sections ... OK
* checking Rd contents ... OK
* checking for unstated dependencies in examples ... OK
* checking files in ‘vignettes’ ... OK
* checking examples ... OK
Examples with CPU (user + system) or elapsed time > 5s
                       user system elapsed
MsBackendMetaboLights 3.179  0.571  17.625
MetaboLights-utils    0.143  0.018   8.130
* checking for unstated dependencies in ‘tests’ ... OK
* checking tests ...
  Running ‘testthat.R’
 OK
* checking for unstated dependencies in vignettes ... OK
* checking package vignettes ... OK
* checking running R code from vignettes ... SKIPPED
* checking re-building of vignette outputs ... SKIPPED
* checking PDF version of manual ... OK
* DONE

Status: OK


Installation output

MsBackendMetaboLights.Rcheck/00install.out

##############################################################################
##############################################################################
###
### Running command:
###
###   /Library/Frameworks/R.framework/Resources/bin/R CMD INSTALL MsBackendMetaboLights
###
##############################################################################
##############################################################################


* installing to library ‘/Library/Frameworks/R.framework/Versions/4.6-arm64/Resources/library’
* installing *source* package ‘MsBackendMetaboLights’ ...
** this is package ‘MsBackendMetaboLights’ version ‘1.5.1’
** using staged installation
** R
** byte-compile and prepare package for lazy loading
** help
*** installing help indices
*** copying figures
** building package indices
** installing vignettes
** testing if installed package can be loaded from temporary location
** testing if installed package can be loaded from final location
** testing if installed package keeps a record of temporary installation path
* DONE (MsBackendMetaboLights)

Tests output

MsBackendMetaboLights.Rcheck/tests/testthat.Rout


R Under development (unstable) (2025-11-04 r88984) -- "Unsuffered Consequences"
Copyright (C) 2025 The R Foundation for Statistical Computing
Platform: aarch64-apple-darwin20

R is free software and comes with ABSOLUTELY NO WARRANTY.
You are welcome to redistribute it under certain conditions.
Type 'license()' or 'licence()' for distribution details.

R is a collaborative project with many contributors.
Type 'contributors()' for more information and
'citation()' on how to cite R or R packages in publications.

Type 'demo()' for some demos, 'help()' for on-line help, or
'help.start()' for an HTML browser interface to help.
Type 'q()' to quit R.

> #' MetaboLights ID: MTBLS8735
> #' ftp://ftp.ebi.ac.uk/pub/databases/metabolights/studies/public/MTBLS8735
> 
> library(testthat)
> library(MsBackendMetaboLights)
Loading required package: Spectra
Loading required package: S4Vectors
Loading required package: stats4
Loading required package: BiocGenerics
Loading required package: generics

Attaching package: 'generics'

The following objects are masked from 'package:base':

    as.difftime, as.factor, as.ordered, intersect, is.element, setdiff,
    setequal, union


Attaching package: 'BiocGenerics'

The following objects are masked from 'package:stats':

    IQR, mad, sd, var, xtabs

The following objects are masked from 'package:base':

    Filter, Find, Map, Position, Reduce, anyDuplicated, aperm, append,
    as.data.frame, basename, cbind, colnames, dirname, do.call,
    duplicated, eval, evalq, get, grep, grepl, is.unsorted, lapply,
    mapply, match, mget, order, paste, pmax, pmax.int, pmin, pmin.int,
    rank, rbind, rownames, sapply, saveRDS, table, tapply, unique,
    unsplit, which.max, which.min


Attaching package: 'S4Vectors'

The following object is masked from 'package:utils':

    findMatches

The following objects are masked from 'package:base':

    I, expand.grid, unname

Loading required package: BiocParallel
> 
> test_check("MsBackendMetaboLights")
[ FAIL 0 | WARN 0 | SKIP 0 | PASS 78 ]
> 
> ## Run tests with the unit test suite defined in the Spectra package to ensure
> ## compliance with the definitions of the MsBackend interface/class.
> be <- backendInitialize(MsBackendMetaboLights(), mtblsId = "MTBLS39",
+                         filePattern = "63A.cdf")
Used data files from the assay's column "Raw Spectral Data File" since none were available in column "Derived Spectral Data File".
> 
> library(Spectra)
> test_suite <- system.file("test_backends", "test_MsBackend",
+                           package = "Spectra")
> res <- test_dir(test_suite, stop_on_failure = TRUE)
✔ | F W  S  OK | Context

⠏ |          0 | peaks_variables                                                
⠙ |          2 | peaks_variables                                                
⠸ |          4 | peaks_variables                                                
✔ |          4 | peaks_variables

⠏ |          0 | spectra_subsetting                                             
⠋ |          1 | spectra_subsetting                                             
⠸ |         34 | spectra_subsetting                                             
⠏ |         70 | spectra_subsetting                                             
⠹ |        103 | spectra_subsetting                                             
⠹ |        133 | spectra_subsetting                                             
⠹ |        163 | spectra_subsetting                                             
⠦ |        197 | spectra_subsetting                                             
⠙ |        232 | spectra_subsetting                                             
⠧ |        268 | spectra_subsetting                                             
⠋ |        301 | spectra_subsetting                                             
⠸ |        334 | spectra_subsetting                                             
⠧ |        368 | spectra_subsetting                                             
⠇ |        399 | spectra_subsetting                                             
⠏ |        430 | spectra_subsetting                                             
⠋ |        451 | spectra_subsetting                                             
⠸ |        484 | spectra_subsetting                                             
⠸ |        514 | spectra_subsetting                                             
⠏ |        550 | spectra_subsetting                                             
⠴ |        586 | spectra_subsetting                                             
⠇ |        619 | spectra_subsetting                                             
⠼ |        655 | spectra_subsetting                                             
⠧ |        688 | spectra_subsetting                                             
⠋ |        721 | spectra_subsetting                                             
⠼ |        755 | spectra_subsetting                                             
⠏ |        790 | spectra_subsetting                                             
⠏ |        820 | spectra_subsetting                                             
⠹ |        853 | spectra_subsetting                                             
⠹ |        883 | spectra_subsetting                                             
⠸ |        914 | spectra_subsetting                                             
⠴ |        946 | spectra_subsetting                                             
⠙ |        982 | spectra_subsetting                                             
⠼ |        1015 | spectra_subsetting                                            
⠋ |        1051 | spectra_subsetting                                            
⠼ |        1085 | spectra_subsetting                                            
⠦ |        1117 | spectra_subsetting                                            
⠦ |        1147 | spectra_subsetting                                            
⠇ |        1179 | spectra_subsetting                                            
⠹ |        1213 | spectra_subsetting                                            
⠙ |        1252 | spectra_subsetting                                            
⠴ |        1286 | spectra_subsetting                                            
⠧ |        1318 | spectra_subsetting                                            
⠸ |        1354 | spectra_subsetting                                            
⠴ |        1386 | spectra_subsetting                                            
⠏ |        1420 | spectra_subsetting                                            
⠸ |        1454 | spectra_subsetting                                            
⠴ |        1486 | spectra_subsetting                                            
⠇ |        1519 | spectra_subsetting                                            
⠸ |        1554 | spectra_subsetting                                            
⠙ |        1582 | spectra_subsetting                                            
⠼ |        1615 | spectra_subsetting                                            
⠏ |        1650 | spectra_subsetting                                            
⠋ |        1681 | spectra_subsetting                                            
⠸ |        1714 | spectra_subsetting                                            
⠋ |        1721 | spectra_subsetting                                            
⠴ |        1756 | spectra_subsetting                                            
⠇ |        1789 | spectra_subsetting                                            
⠼ |        1825 | spectra_subsetting                                            
⠋ |        1861 | spectra_subsetting                                            
⠼ |        1895 | spectra_subsetting                                            
⠦ |        1927 | spectra_subsetting                                            
⠏ |        1960 | spectra_subsetting                                            
⠦ |        1997 | spectra_subsetting                                            
⠦ |        2027 | spectra_subsetting                                            
⠇ |        2059 | spectra_subsetting                                            
⠼ |        2095 | spectra_subsetting                                            
⠧ |        2128 | spectra_subsetting                                            
⠹ |        2163 | spectra_subsetting                                            
⠦ |        2197 | spectra_subsetting                                            
⠹ |        2233 | spectra_subsetting                                            
⠴ |        2266 | spectra_subsetting                                            
⠏ |        2300 | spectra_subsetting                                            
⠹ |        2333 | spectra_subsetting                                            
⠧ |        2368 | spectra_subsetting                                            
⠋ |        2401 | spectra_subsetting                                            
⠸ |        2434 | spectra_subsetting                                            
⠧ |        2468 | spectra_subsetting                                            
⠹ |        2503 | spectra_subsetting                                            
⠹ |        2533 | spectra_subsetting                                            
⠇ |        2569 | spectra_subsetting                                            
⠏ |        2600 | spectra_subsetting                                            
⠼ |        2635 | spectra_subsetting                                            
⠧ |        2668 | spectra_subsetting                                            
⠋ |        2701 | spectra_subsetting                                            
⠸ |        2734 | spectra_subsetting                                            
⠧ |        2768 | spectra_subsetting                                            
⠏ |        2800 | spectra_subsetting                                            
⠴ |        2836 | spectra_subsetting                                            
⠇ |        2869 | spectra_subsetting                                            
⠙ |        2902 | spectra_subsetting                                            
⠼ |        2935 | spectra_subsetting                                            
⠧ |        2968 | spectra_subsetting                                            
⠧ |        2998 | spectra_subsetting                                            
⠇ |        3029 | spectra_subsetting                                            
⠧ |        3058 | spectra_subsetting                                            
⠸ |        3094 | spectra_subsetting                                            
⠴ |        3126 | spectra_subsetting                                            
⠏ |        3160 | spectra_subsetting                                            
⠦ |        3187 | spectra_subsetting                                            
⠹ |        3223 | spectra_subsetting                                            
⠙ |        3252 | spectra_subsetting                                            
⠹ |        3283 | spectra_subsetting                                            
⠹ |        3313 | spectra_subsetting                                            
⠇ |        3349 | spectra_subsetting                                            
⠇ |        3379 | spectra_subsetting                                            
⠼ |        3415 | spectra_subsetting                                            
⠼ |        3445 | spectra_subsetting                                            
⠇ |        3479 | spectra_subsetting                                            
⠼ |        3515 | spectra_subsetting                                            
⠏ |        3550 | spectra_subsetting                                            
⠹ |        3583 | spectra_subsetting                                            
⠇ |        3619 | spectra_subsetting                                            
⠙ |        3652 | spectra_subsetting                                            
⠦ |        3687 | spectra_subsetting                                            
⠋ |        3721 | spectra_subsetting                                            
⠸ |        3754 | spectra_subsetting                                            
⠸ |        3784 | spectra_subsetting                                            
⠦ |        3817 | spectra_subsetting                                            
⠏ |        3850 | spectra_subsetting                                            
⠹ |        3883 | spectra_subsetting                                            
⠹ |        3913 | spectra_subsetting                                            
⠹ |        3943 | spectra_subsetting                                            
⠹ |        3973 | spectra_subsetting                                            
⠇ |        4009 | spectra_subsetting                                            
⠇ |        4039 | spectra_subsetting                                            
⠙ |        4072 | spectra_subsetting                                            
⠼ |        4105 | spectra_subsetting                                            
⠋ |        4141 | spectra_subsetting                                            
⠸ |        4174 | spectra_subsetting                                            
⠦ |        4207 | spectra_subsetting                                            
⠹ |        4243 | spectra_subsetting                                            
⠹ |        4273 | spectra_subsetting                                            
⠸ |        4304 | spectra_subsetting                                            
⠦ |        4337 | spectra_subsetting                                            
⠙ |        4372 | spectra_subsetting                                            
⠼ |        4405 | spectra_subsetting                                            
⠧ |        4438 | spectra_subsetting                                            
⠇ |        4469 | spectra_subsetting                                            
⠦ |        4507 | spectra_subsetting                                            
⠏ |        4540 | spectra_subsetting                                            
⠋ |        4571 | spectra_subsetting                                            
⠦ |        4607 | spectra_subsetting                                            
⠇ |        4639 | spectra_subsetting                                            
⠼ |        4675 | spectra_subsetting                                            
⠧ |        4708 | spectra_subsetting                                            
⠋ |        4741 | spectra_subsetting                                            
⠸ |        4774 | spectra_subsetting                                            
⠦ |        4807 | spectra_subsetting                                            
⠦ |        4837 | spectra_subsetting                                            
⠏ |        4870 | spectra_subsetting                                            
⠹ |        4903 | spectra_subsetting                                            
⠹ |        4933 | spectra_subsetting                                            
⠇ |        4969 | spectra_subsetting                                            
⠦ |        4997 | spectra_subsetting                                            
⠇ |        4999 | spectra_subsetting                                            
⠋ |        5001 | spectra_subsetting                                            
⠹ |        5003 | spectra_subsetting                                            
⠼ |        5005 | spectra_subsetting                                            
⠦ |        5007 | spectra_subsetting                                            
⠇ |        5009 | spectra_subsetting                                            
⠋ |        5011 | spectra_subsetting                                            
⠹ |        5013 | spectra_subsetting                                            
⠼ |        5015 | spectra_subsetting                                            
⠦ |        5017 | spectra_subsetting                                            
⠇ |        5019 | spectra_subsetting                                            
⠏ |        5020 | spectra_subsetting                                            
⠙ |        5022 | spectra_subsetting                                            
⠸ |        5024 | spectra_subsetting                                            
⠴ |        5026 | spectra_subsetting                                            
⠧ |        5028 | spectra_subsetting                                            
⠏ |        5030 | spectra_subsetting                                            
⠙ |        5032 | spectra_subsetting                                            
⠸ |        5034 | spectra_subsetting                                            
⠴ |        5036 | spectra_subsetting                                            
⠧ |        5038 | spectra_subsetting                                            
⠏ |        5040 | spectra_subsetting                                            
⠙ |        5042 | spectra_subsetting                                            
⠹ |        5043 | spectra_subsetting                                            
⠼ |        5045 | spectra_subsetting                                            
⠦ |        5047 | spectra_subsetting                                            
⠇ |        5049 | spectra_subsetting                                            
⠋ |        5051 | spectra_subsetting                                            
⠹ |        5053 | spectra_subsetting                                            
⠼ |        5055 | spectra_subsetting                                            
⠦ |        5057 | spectra_subsetting                                            
⠧ |        5058 | spectra_subsetting                                            
⠇ |        5059 | spectra_subsetting                                            
⠋ |        5061 | spectra_subsetting                                            
⠹ |        5063 | spectra_subsetting                                            
⠸ |        5064 | spectra_subsetting                                            
⠴ |        5066 | spectra_subsetting                                            
⠧ |        5068 | spectra_subsetting                                            
⠏ |        5070 | spectra_subsetting                                            
⠙ |        5072 | spectra_subsetting                                            
⠸ |        5074 | spectra_subsetting                                            
⠴ |        5076 | spectra_subsetting                                            
⠧ |        5078 | spectra_subsetting                                            
⠏ |        5080 | spectra_subsetting                                            
⠙ |        5082 | spectra_subsetting                                            
⠸ |        5084 | spectra_subsetting                                            
⠴ |        5086 | spectra_subsetting                                            
⠧ |        5088 | spectra_subsetting                                            
⠏ |        5090 | spectra_subsetting                                            
⠙ |        5092 | spectra_subsetting                                            
⠸ |        5094 | spectra_subsetting                                            
⠴ |        5096 | spectra_subsetting                                            
⠧ |        5098 | spectra_subsetting                                            
⠏ |        5100 | spectra_subsetting                                            
⠙ |        5102 | spectra_subsetting                                            
⠸ |        5104 | spectra_subsetting                                            
⠴ |        5106 | spectra_subsetting                                            
⠧ |        5108 | spectra_subsetting                                            
⠏ |        5110 | spectra_subsetting                                            
⠙ |        5112 | spectra_subsetting                                            
⠹ |        5113 | spectra_subsetting                                            
⠼ |        5115 | spectra_subsetting                                            
⠦ |        5117 | spectra_subsetting                                            
⠇ |        5119 | spectra_subsetting                                            
⠋ |        5121 | spectra_subsetting                                            
⠹ |        5123 | spectra_subsetting                                            
⠸ |        5124 | spectra_subsetting                                            
⠴ |        5126 | spectra_subsetting                                            
⠧ |        5128 | spectra_subsetting                                            
⠇ |        5129 | spectra_subsetting                                            
⠋ |        5131 | spectra_subsetting                                            
⠹ |        5133 | spectra_subsetting                                            
⠼ |        5135 | spectra_subsetting                                            
⠦ |        5137 | spectra_subsetting                                            
⠇ |        5139 | spectra_subsetting                                            
⠏ |        5140 | spectra_subsetting                                            
⠋ |        5141 | spectra_subsetting                                            
⠹ |        5143 | spectra_subsetting                                            
⠼ |        5145 | spectra_subsetting                                            
⠦ |        5147 | spectra_subsetting                                            
⠇ |        5149 | spectra_subsetting                                            
⠏ |        5150 | spectra_subsetting                                            
⠙ |        5152 | spectra_subsetting                                            
⠹ |        5153 | spectra_subsetting                                            
⠼ |        5155 | spectra_subsetting                                            
⠦ |        5157 | spectra_subsetting                                            
⠇ |        5159 | spectra_subsetting                                            
⠋ |        5161 | spectra_subsetting                                            
⠹ |        5163 | spectra_subsetting                                            
⠼ |        5165 | spectra_subsetting                                            
⠦ |        5167 | spectra_subsetting                                            
⠇ |        5169 | spectra_subsetting                                            
⠋ |        5171 | spectra_subsetting                                            
⠹ |        5173 | spectra_subsetting                                            
⠼ |        5175 | spectra_subsetting                                            
⠦ |        5177 | spectra_subsetting                                            
⠧ |        5178 | spectra_subsetting                                            
⠏ |        5180 | spectra_subsetting                                            
⠋ |        5181 | spectra_subsetting                                            
⠹ |        5183 | spectra_subsetting                                            
⠼ |        5185 | spectra_subsetting                                            
⠦ |        5187 | spectra_subsetting                                            
⠇ |        5189 | spectra_subsetting                                            
⠋ |        5191 | spectra_subsetting                                            
⠹ |        5193 | spectra_subsetting                                            
⠸ |        5194 | spectra_subsetting                                            
⠴ |        5196 | spectra_subsetting                                            
⠧ |        5198 | spectra_subsetting                                            
⠏ |        5200 | spectra_subsetting                                            
⠙ |        5202 | spectra_subsetting                                            
⠸ |        5204 | spectra_subsetting                                            
⠴ |        5206 | spectra_subsetting                                            
⠧ |        5208 | spectra_subsetting                                            
⠏ |        5210 | spectra_subsetting                                            
⠙ |        5212 | spectra_subsetting                                            
⠸ |        5214 | spectra_subsetting                                            
⠴ |        5216 | spectra_subsetting                                            
⠧ |        5218 | spectra_subsetting                                            
⠏ |        5220 | spectra_subsetting                                            
⠙ |        5222 | spectra_subsetting                                            
⠸ |        5224 | spectra_subsetting                                            
⠴ |        5226 | spectra_subsetting                                            
⠧ |        5228 | spectra_subsetting                                            
⠏ |        5230 | spectra_subsetting                                            
⠋ |        5231 | spectra_subsetting                                            
⠹ |        5233 | spectra_subsetting                                            
⠼ |        5235 | spectra_subsetting                                            
⠦ |        5237 | spectra_subsetting                                            
⠇ |        5239 | spectra_subsetting                                            
⠋ |        5241 | spectra_subsetting                                            
⠹ |        5243 | spectra_subsetting                                            
⠼ |        5245 | spectra_subsetting                                            
⠦ |        5247 | spectra_subsetting                                            
⠇ |        5249 | spectra_subsetting                                            
⠋ |        5251 | spectra_subsetting                                            
⠹ |        5253 | spectra_subsetting                                            
⠼ |        5255 | spectra_subsetting                                            
⠦ |        5257 | spectra_subsetting                                            
⠇ |        5259 | spectra_subsetting                                            
⠋ |        5261 | spectra_subsetting                                            
⠹ |        5263 | spectra_subsetting                                            
⠼ |        5265 | spectra_subsetting                                            
⠦ |        5267 | spectra_subsetting                                            
⠇ |        5269 | spectra_subsetting                                            
⠋ |        5271 | spectra_subsetting                                            
⠹ |        5273 | spectra_subsetting                                            
⠼ |        5275 | spectra_subsetting                                            
⠦ |        5277 | spectra_subsetting                                            
⠇ |        5279 | spectra_subsetting                                            
⠋ |        5281 | spectra_subsetting                                            
⠙ |        5282 | spectra_subsetting                                            
⠸ |        5284 | spectra_subsetting                                            
⠴ |        5286 | spectra_subsetting                                            
⠧ |        5288 | spectra_subsetting                                            
⠏ |        5290 | spectra_subsetting                                            
⠙ |        5292 | spectra_subsetting                                            
⠸ |        5294 | spectra_subsetting                                            
⠴ |        5296 | spectra_subsetting                                            
⠧ |        5298 | spectra_subsetting                                            
⠇ |        5299 | spectra_subsetting                                            
⠋ |        5301 | spectra_subsetting                                            
⠹ |        5303 | spectra_subsetting                                            
⠼ |        5305 | spectra_subsetting                                            
⠦ |        5307 | spectra_subsetting                                            
⠇ |        5309 | spectra_subsetting                                            
⠋ |        5311 | spectra_subsetting                                            
⠹ |        5313 | spectra_subsetting                                            
⠼ |        5315 | spectra_subsetting                                            
⠦ |        5317 | spectra_subsetting                                            
⠇ |        5319 | spectra_subsetting                                            
⠋ |        5321 | spectra_subsetting                                            
⠹ |        5323 | spectra_subsetting                                            
⠼ |        5325 | spectra_subsetting                                            
⠦ |        5327 | spectra_subsetting                                            
⠇ |        5329 | spectra_subsetting                                            
⠋ |        5331 | spectra_subsetting                                            
⠹ |        5333 | spectra_subsetting                                            
⠼ |        5335 | spectra_subsetting                                            
⠦ |        5337 | spectra_subsetting                                            
⠇ |        5339 | spectra_subsetting                                            
⠋ |        5341 | spectra_subsetting                                            
⠹ |        5343 | spectra_subsetting                                            
⠼ |        5345 | spectra_subsetting                                            
⠦ |        5347 | spectra_subsetting                                            
⠇ |        5349 | spectra_subsetting                                            
⠋ |        5351 | spectra_subsetting                                            
⠹ |        5353 | spectra_subsetting                                            
⠼ |        5355 | spectra_subsetting                                            
⠦ |        5357 | spectra_subsetting                                            
⠇ |        5359 | spectra_subsetting                                            
⠏ |        5360 | spectra_subsetting                                            
⠙ |        5362 | spectra_subsetting                                            
⠸ |        5364 | spectra_subsetting                                            
⠴ |        5366 | spectra_subsetting                                            
⠧ |        5368 | spectra_subsetting                                            
⠏ |        5370 | spectra_subsetting                                            
⠙ |        5372 | spectra_subsetting                                            
⠸ |        5374 | spectra_subsetting                                            
⠴ |        5376 | spectra_subsetting                                            
⠧ |        5378 | spectra_subsetting                                            
⠏ |        5380 | spectra_subsetting                                            
⠋ |        5381 | spectra_subsetting                                            
⠹ |        5383 | spectra_subsetting                                            
⠼ |        5385 | spectra_subsetting                                            
⠦ |        5387 | spectra_subsetting                                            
⠇ |        5389 | spectra_subsetting                                            
⠋ |        5391 | spectra_subsetting                                            
⠹ |        5393 | spectra_subsetting                                            
⠼ |        5395 | spectra_subsetting                                            
⠦ |        5397 | spectra_subsetting                                            
⠇ |        5399 | spectra_subsetting                                            
⠋ |        5401 | spectra_subsetting                                            
⠙ |        5402 | spectra_subsetting                                            
⠸ |        5404 | spectra_subsetting                                            
⠴ |        5406 | spectra_subsetting                                            
⠧ |        5408 | spectra_subsetting                                            
⠏ |        5410 | spectra_subsetting                                            
⠙ |        5412 | spectra_subsetting                                            
⠸ |        5414 | spectra_subsetting                                            
⠴ |        5416 | spectra_subsetting                                            
⠧ |        5418 | spectra_subsetting                                            
⠇ |        5419 | spectra_subsetting                                            
⠋ |        5421 | spectra_subsetting                                            
⠹ |        5423 | spectra_subsetting                                            
⠼ |        5425 | spectra_subsetting                                            
⠦ |        5427 | spectra_subsetting                                            
⠇ |        5429 | spectra_subsetting                                            
⠋ |        5431 | spectra_subsetting                                            
⠙ |        5432 | spectra_subsetting                                            
⠸ |        5434 | spectra_subsetting                                            
⠴ |        5436 | spectra_subsetting                                            
⠧ |        5438 | spectra_subsetting                                            
⠏ |        5440 | spectra_subsetting                                            
⠙ |        5442 | spectra_subsetting                                            
⠸ |        5444 | spectra_subsetting                                            
⠴ |        5446 | spectra_subsetting                                            
⠧ |        5448 | spectra_subsetting                                            
⠏ |        5450 | spectra_subsetting                                            
⠙ |        5452 | spectra_subsetting                                            
⠸ |        5454 | spectra_subsetting                                            
⠴ |        5456 | spectra_subsetting                                            
⠧ |        5458 | spectra_subsetting                                            
⠏ |        5460 | spectra_subsetting                                            
⠋ |        5461 | spectra_subsetting                                            
⠹ |        5463 | spectra_subsetting                                            
⠼ |        5465 | spectra_subsetting                                            
⠦ |        5467 | spectra_subsetting                                            
⠇ |        5469 | spectra_subsetting                                            
⠋ |        5471 | spectra_subsetting                                            
⠹ |        5473 | spectra_subsetting                                            
⠼ |        5475 | spectra_subsetting                                            
⠦ |        5477 | spectra_subsetting                                            
⠇ |        5479 | spectra_subsetting                                            
⠋ |        5481 | spectra_subsetting                                            
⠹ |        5483 | spectra_subsetting                                            
⠼ |        5485 | spectra_subsetting                                            
⠦ |        5487 | spectra_subsetting                                            
⠇ |        5489 | spectra_subsetting                                            
⠋ |        5491 | spectra_subsetting                                            
⠹ |        5493 | spectra_subsetting                                            
⠼ |        5495 | spectra_subsetting                                            
⠦ |        5497 | spectra_subsetting                                            
⠇ |        5499 | spectra_subsetting                                            
⠋ |        5501 | spectra_subsetting                                            
⠹ |        5503 | spectra_subsetting                                            
⠼ |        5505 | spectra_subsetting                                            
⠦ |        5507 | spectra_subsetting                                            
⠇ |        5509 | spectra_subsetting                                            
⠋ |        5511 | spectra_subsetting                                            
⠹ |        5513 | spectra_subsetting                                            
⠼ |        5515 | spectra_subsetting                                            
⠦ |        5517 | spectra_subsetting                                            
⠇ |        5519 | spectra_subsetting                                            
⠋ |        5521 | spectra_subsetting                                            
⠙ |        5522 | spectra_subsetting                                            
⠹ |        5523 | spectra_subsetting                                            
⠼ |        5525 | spectra_subsetting                                            
⠦ |        5527 | spectra_subsetting                                            
⠇ |        5529 | spectra_subsetting                                            
⠋ |        5531 | spectra_subsetting                                            
⠹ |        5533 | spectra_subsetting                                            
⠼ |        5535 | spectra_subsetting                                            
⠦ |        5537 | spectra_subsetting                                            
⠇ |        5539 | spectra_subsetting                                            
⠋ |        5541 | spectra_subsetting                                            
⠹ |        5543 | spectra_subsetting                                            
⠼ |        5545 | spectra_subsetting                                            
⠦ |        5547 | spectra_subsetting                                            
⠇ |        5549 | spectra_subsetting                                            
⠋ |        5551 | spectra_subsetting                                            
⠹ |        5553 | spectra_subsetting                                            
⠸ |        5554 | spectra_subsetting                                            
⠴ |        5556 | spectra_subsetting                                            
⠧ |        5558 | spectra_subsetting                                            
⠇ |        5559 | spectra_subsetting                                            
⠋ |        5561 | spectra_subsetting                                            
⠹ |        5563 | spectra_subsetting                                            
⠼ |        5565 | spectra_subsetting                                            
⠦ |        5567 | spectra_subsetting                                            
⠇ |        5569 | spectra_subsetting                                            
⠋ |        5571 | spectra_subsetting                                            
⠹ |        5573 | spectra_subsetting                                            
⠼ |        5575 | spectra_subsetting                                            
⠦ |        5577 | spectra_subsetting                                            
⠇ |        5579 | spectra_subsetting                                            
⠋ |        5581 | spectra_subsetting                                            
⠹ |        5583 | spectra_subsetting                                            
⠼ |        5585 | spectra_subsetting                                            
⠦ |        5587 | spectra_subsetting                                            
⠇ |        5589 | spectra_subsetting                                            
⠋ |        5591 | spectra_subsetting                                            
⠹ |        5593 | spectra_subsetting                                            
⠼ |        5595 | spectra_subsetting                                            
⠦ |        5597 | spectra_subsetting                                            
⠇ |        5599 | spectra_subsetting                                            
⠋ |        5601 | spectra_subsetting                                            
⠙ |        5602 | spectra_subsetting                                            
⠸ |        5604 | spectra_subsetting                                            
⠼ |        5605 | spectra_subsetting                                            
⠦ |        5607 | spectra_subsetting                                            
⠇ |        5609 | spectra_subsetting                                            
⠋ |        5611 | spectra_subsetting                                            
⠙ |        5612 | spectra_subsetting                                            
⠸ |        5614 | spectra_subsetting                                            
⠴ |        5616 | spectra_subsetting                                            
⠧ |        5618 | spectra_subsetting                                            
⠏ |        5620 | spectra_subsetting                                            
⠙ |        5622 | spectra_subsetting                                            
⠹ |        5623 | spectra_subsetting                                            
⠼ |        5625 | spectra_subsetting                                            
⠦ |        5627 | spectra_subsetting                                            
⠧ |        5628 | spectra_subsetting                                            
⠏ |        5630 | spectra_subsetting                                            
⠙ |        5632 | spectra_subsetting                                            
⠸ |        5634 | spectra_subsetting                                            
⠴ |        5636 | spectra_subsetting                                            
⠧ |        5638 | spectra_subsetting                                            
⠏ |        5640 | spectra_subsetting                                            
⠙ |        5642 | spectra_subsetting                                            
⠹ |        5643 | spectra_subsetting                                            
⠼ |        5645 | spectra_subsetting                                            
⠦ |        5647 | spectra_subsetting                                            
⠧ |        5648 | spectra_subsetting                                            
⠏ |        5650 | spectra_subsetting                                            
⠙ |        5652 | spectra_subsetting                                            
⠸ |        5654 | spectra_subsetting                                            
⠴ |        5656 | spectra_subsetting                                            
⠧ |        5658 | spectra_subsetting                                            
⠏ |        5660 | spectra_subsetting                                            
⠙ |        5662 | spectra_subsetting                                            
⠸ |        5664 | spectra_subsetting                                            
⠴ |        5666 | spectra_subsetting                                            
⠧ |        5668 | spectra_subsetting                                            
⠏ |        5670 | spectra_subsetting                                            
⠙ |        5672 | spectra_subsetting                                            
⠸ |        5674 | spectra_subsetting                                            
⠴ |        5676 | spectra_subsetting                                            
⠧ |        5678 | spectra_subsetting                                            
⠏ |        5680 | spectra_subsetting                                            
⠙ |        5682 | spectra_subsetting                                            
⠸ |        5684 | spectra_subsetting                                            
⠴ |        5686 | spectra_subsetting                                            
⠧ |        5688 | spectra_subsetting                                            
⠏ |        5690 | spectra_subsetting                                            
⠙ |        5692 | spectra_subsetting                                            
⠸ |        5694 | spectra_subsetting                                            
⠴ |        5696 | spectra_subsetting                                            
⠧ |        5698 | spectra_subsetting                                            
⠏ |        5700 | spectra_subsetting                                            
⠙ |        5702 | spectra_subsetting                                            
⠸ |        5704 | spectra_subsetting                                            
⠴ |        5706 | spectra_subsetting                                            
⠧ |        5708 | spectra_subsetting                                            
⠏ |        5710 | spectra_subsetting                                            
⠙ |        5712 | spectra_subsetting                                            
⠸ |        5714 | spectra_subsetting                                            
⠴ |        5716 | spectra_subsetting                                            
⠧ |        5718 | spectra_subsetting                                            
⠇ |        5719 | spectra_subsetting                                            
⠋ |        5721 | spectra_subsetting                                            
⠹ |        5723 | spectra_subsetting                                            
⠸ |        5724 | spectra_subsetting                                            
⠴ |        5726 | spectra_subsetting                                            
⠧ |        5728 | spectra_subsetting                                            
⠏ |        5730 | spectra_subsetting                                            
⠙ |        5732 | spectra_subsetting                                            
⠸ |        5734 | spectra_subsetting                                            
⠴ |        5736 | spectra_subsetting                                            
⠧ |        5738 | spectra_subsetting                                            
⠏ |        5740 | spectra_subsetting                                            
⠙ |        5742 | spectra_subsetting                                            
⠹ |        5743 | spectra_subsetting                                            
⠼ |        5745 | spectra_subsetting                                            
⠦ |        5747 | spectra_subsetting                                            
⠧ |        5748 | spectra_subsetting                                            
⠏ |        5750 | spectra_subsetting                                            
⠙ |        5752 | spectra_subsetting                                            
⠸ |        5754 | spectra_subsetting                                            
⠼ |        5755 | spectra_subsetting                                            
⠦ |        5757 | spectra_subsetting                                            
⠇ |        5759 | spectra_subsetting                                            
⠋ |        5761 | spectra_subsetting                                            
⠹ |        5763 | spectra_subsetting                                            
⠼ |        5765 | spectra_subsetting                                            
⠦ |        5767 | spectra_subsetting                                            
⠇ |        5769 | spectra_subsetting                                            
⠋ |        5771 | spectra_subsetting                                            
⠹ |        5773 | spectra_subsetting                                            
⠼ |        5775 | spectra_subsetting                                            
⠴ |        5776 | spectra_subsetting                                            
⠦ |        5777 | spectra_subsetting                                            
⠇ |        5779 | spectra_subsetting                                            
⠏ |        5780 | spectra_subsetting                                            
⠙ |        5782 | spectra_subsetting                                            
⠸ |        5784 | spectra_subsetting                                            
⠴ |        5786 | spectra_subsetting                                            
⠧ |        5788 | spectra_subsetting                                            
⠇ |        5789 | spectra_subsetting                                            
⠋ |        5791 | spectra_subsetting                                            
⠙ |        5792 | spectra_subsetting                                            
⠸ |        5794 | spectra_subsetting                                            
⠴ |        5796 | spectra_subsetting                                            
⠧ |        5798 | spectra_subsetting                                            
⠏ |        5800 | spectra_subsetting                                            
⠙ |        5802 | spectra_subsetting                                            
⠹ |        5803 | spectra_subsetting                                            
⠸ |        5804 | spectra_subsetting                                            
⠴ |        5806 | spectra_subsetting                                            
⠧ |        5808 | spectra_subsetting                                            
⠇ |        5809 | spectra_subsetting                                            
⠋ |        5811 | spectra_subsetting                                            
⠹ |        5813 | spectra_subsetting                                            
⠼ |        5815 | spectra_subsetting                                            
⠦ |        5817 | spectra_subsetting                                            
⠧ |        5818 | spectra_subsetting                                            
⠏ |        5820 | spectra_subsetting                                            
⠙ |        5822 | spectra_subsetting                                            
⠸ |        5824 | spectra_subsetting                                            
⠴ |        5826 | spectra_subsetting                                            
⠧ |        5828 | spectra_subsetting                                            
⠏ |        5830 | spectra_subsetting                                            
⠙ |        5832 | spectra_subsetting                                            
⠸ |        5834 | spectra_subsetting                                            
⠴ |        5836 | spectra_subsetting                                            
⠧ |        5838 | spectra_subsetting                                            
⠏ |        5840 | spectra_subsetting                                            
⠙ |        5842 | spectra_subsetting                                            
⠸ |        5844 | spectra_subsetting                                            
⠴ |        5846 | spectra_subsetting                                            
⠧ |        5848 | spectra_subsetting                                            
⠏ |        5850 | spectra_subsetting                                            
⠙ |        5852 | spectra_subsetting                                            
⠸ |        5854 | spectra_subsetting                                            
⠼ |        5855 | spectra_subsetting                                            
⠦ |        5857 | spectra_subsetting                                            
⠇ |        5859 | spectra_subsetting                                            
⠏ |        5860 | spectra_subsetting                                            
⠙ |        5862 | spectra_subsetting                                            
⠸ |        5864 | spectra_subsetting                                            
⠼ |        5865 | spectra_subsetting                                            
⠦ |        5867 | spectra_subsetting                                            
⠇ |        5869 | spectra_subsetting                                            
⠏ |        5870 | spectra_subsetting                                            
⠙ |        5872 | spectra_subsetting                                            
⠸ |        5874 | spectra_subsetting                                            
⠼ |        5875 | spectra_subsetting                                            
⠦ |        5877 | spectra_subsetting                                            
⠇ |        5879 | spectra_subsetting                                            
⠏ |        5880 | spectra_subsetting                                            
⠙ |        5882 | spectra_subsetting                                            
⠸ |        5884 | spectra_subsetting                                            
⠴ |        5886 | spectra_subsetting                                            
⠧ |        5888 | spectra_subsetting                                            
⠏ |        5890 | spectra_subsetting                                            
⠋ |        5891 | spectra_subsetting                                            
⠹ |        5893 | spectra_subsetting                                            
⠼ |        5895 | spectra_subsetting                                            
⠦ |        5897 | spectra_subsetting                                            
⠧ |        5898 | spectra_subsetting                                            
⠏ |        5900 | spectra_subsetting                                            
⠋ |        5901 | spectra_subsetting                                            
⠹ |        5903 | spectra_subsetting                                            
⠼ |        5905 | spectra_subsetting                                            
⠦ |        5907 | spectra_subsetting                                            
⠇ |        5909 | spectra_subsetting                                            
⠋ |        5911 | spectra_subsetting                                            
⠹ |        5913 | spectra_subsetting                                            
⠼ |        5915 | spectra_subsetting                                            
⠦ |        5917 | spectra_subsetting                                            
⠇ |        5919 | spectra_subsetting                                            
⠏ |        5920 | spectra_subsetting                                            
⠙ |        5922 | spectra_subsetting                                            
⠸ |        5924 | spectra_subsetting                                            
⠴ |        5926 | spectra_subsetting                                            
⠧ |        5928 | spectra_subsetting                                            
⠇ |        5929 | spectra_subsetting                                            
⠏ |        5930 | spectra_subsetting                                            
⠙ |        5932 | spectra_subsetting                                            
⠸ |        5934 | spectra_subsetting                                            
⠴ |        5936 | spectra_subsetting                                            
⠧ |        5938 | spectra_subsetting                                            
⠏ |        5940 | spectra_subsetting                                            
⠋ |        5941 | spectra_subsetting                                            
⠹ |        5943 | spectra_subsetting                                            
⠸ |        5944 | spectra_subsetting                                            
⠴ |        5946 | spectra_subsetting                                            
⠧ |        5948 | spectra_subsetting                                            
⠏ |        5950 | spectra_subsetting                                            
⠙ |        5952 | spectra_subsetting                                            
⠹ |        5953 | spectra_subsetting                                            
⠼ |        5955 | spectra_subsetting                                            
⠦ |        5957 | spectra_subsetting                                            
⠧ |        5958 | spectra_subsetting                                            
⠏ |        5960 | spectra_subsetting                                            
⠙ |        5962 | spectra_subsetting                                            
⠹ |        5963 | spectra_subsetting                                            
⠼ |        5965 | spectra_subsetting                                            
⠦ |        5967 | spectra_subsetting                                            
⠇ |        5969 | spectra_subsetting                                            
⠋ |        5971 | spectra_subsetting                                            
⠹ |        5973 | spectra_subsetting                                            
⠼ |        5975 | spectra_subsetting                                            
⠦ |        5977 | spectra_subsetting                                            
⠧ |        5978 | spectra_subsetting                                            
⠏ |        5980 | spectra_subsetting                                            
⠙ |        5982 | spectra_subsetting                                            
⠹ |        5983 | spectra_subsetting                                            
⠼ |        5985 | spectra_subsetting                                            
⠦ |        5987 | spectra_subsetting                                            
⠧ |        5988 | spectra_subsetting                                            
⠏ |        5990 | spectra_subsetting                                            
⠋ |        5991 | spectra_subsetting                                            
⠹ |        5993 | spectra_subsetting                                            
⠼ |        5995 | spectra_subsetting                                            
⠦ |        5997 | spectra_subsetting                                            
⠇ |        5999 | spectra_subsetting                                            
⠋ |        6001 | spectra_subsetting                                            
⠹ |        6003 | spectra_subsetting                                            
⠸ |        6004 | spectra_subsetting                                            
⠼ |        6005 | spectra_subsetting                                            
⠦ |        6007 | spectra_subsetting                                            
⠇ |        6009 | spectra_subsetting                                            
⠋ |        6011 | spectra_subsetting                                            
⠹ |        6013 | spectra_subsetting                                            
⠼ |        6015 | spectra_subsetting                                            
⠦ |        6017 | spectra_subsetting                                            
⠇ |        6019 | spectra_subsetting                                            
⠋ |        6021 | spectra_subsetting                                            
⠹ |        6023 | spectra_subsetting                                            
⠼ |        6025 | spectra_subsetting                                            
⠴ |        6026 | spectra_subsetting                                            
⠧ |        6028 | spectra_subsetting                                            
⠏ |        6030 | spectra_subsetting                                            
⠋ |        6031 | spectra_subsetting                                            
⠹ |        6033 | spectra_subsetting                                            
⠼ |        6035 | spectra_subsetting                                            
⠦ |        6037 | spectra_subsetting                                            
⠇ |        6039 | spectra_subsetting                                            
⠋ |        6041 | spectra_subsetting                                            
⠹ |        6043 | spectra_subsetting                                            
⠼ |        6045 | spectra_subsetting                                            
⠦ |        6047 | spectra_subsetting                                            
⠇ |        6049 | spectra_subsetting                                            
⠋ |        6051 | spectra_subsetting                                            
⠙ |        6052 | spectra_subsetting                                            
⠸ |        6054 | spectra_subsetting                                            
⠴ |        6056 | spectra_subsetting                                            
⠧ |        6058 | spectra_subsetting                                            
⠏ |        6060 | spectra_subsetting                                            
⠙ |        6062 | spectra_subsetting                                            
⠸ |        6064 | spectra_subsetting                                            
⠴ |        6066 | spectra_subsetting                                            
⠧ |        6068 | spectra_subsetting                                            
⠏ |        6070 | spectra_subsetting                                            
⠋ |        6071 | spectra_subsetting                                            
⠹ |        6073 | spectra_subsetting                                            
⠼ |        6075 | spectra_subsetting                                            
⠦ |        6077 | spectra_subsetting                                            
⠇ |        6079 | spectra_subsetting                                            
⠋ |        6081 | spectra_subsetting                                            
⠹ |        6083 | spectra_subsetting                                            
⠼ |        6085 | spectra_subsetting                                            
⠴ |        6086 | spectra_subsetting                                            
⠧ |        6088 | spectra_subsetting                                            
⠏ |        6090 | spectra_subsetting                                            
⠙ |        6092 | spectra_subsetting                                            
⠸ |        6094 | spectra_subsetting                                            
⠴ |        6096 | spectra_subsetting                                            
⠦ |        6097 | spectra_subsetting                                            
⠇ |        6099 | spectra_subsetting                                            
⠋ |        6101 | spectra_subsetting                                            
⠹ |        6103 | spectra_subsetting                                            
⠼ |        6105 | spectra_subsetting                                            
⠦ |        6107 | spectra_subsetting                                            
⠇ |        6109 | spectra_subsetting                                            
⠋ |        6111 | spectra_subsetting                                            
⠹ |        6113 | spectra_subsetting                                            
⠼ |        6115 | spectra_subsetting                                            
⠦ |        6117 | spectra_subsetting                                            
⠇ |        6119 | spectra_subsetting                                            
⠋ |        6121 | spectra_subsetting                                            
⠹ |        6123 | spectra_subsetting                                            
⠼ |        6125 | spectra_subsetting                                            
⠦ |        6127 | spectra_subsetting                                            
⠧ |        6128 | spectra_subsetting                                            
⠏ |        6130 | spectra_subsetting                                            
⠋ |        6131 | spectra_subsetting                                            
⠹ |        6133 | spectra_subsetting                                            
⠼ |        6135 | spectra_subsetting                                            
⠦ |        6137 | spectra_subsetting                                            
⠧ |        6138 | spectra_subsetting                                            
⠏ |        6140 | spectra_subsetting                                            
⠙ |        6142 | spectra_subsetting                                            
⠹ |        6143 | spectra_subsetting                                            
⠼ |        6145 | spectra_subsetting                                            
⠦ |        6147 | spectra_subsetting                                            
⠇ |        6149 | spectra_subsetting                                            
⠋ |        6151 | spectra_subsetting                                            
⠹ |        6153 | spectra_subsetting                                            
⠼ |        6155 | spectra_subsetting                                            
⠦ |        6157 | spectra_subsetting                                            
⠇ |        6159 | spectra_subsetting                                            
⠋ |        6161 | spectra_subsetting                                            
⠹ |        6163 | spectra_subsetting                                            
⠼ |        6165 | spectra_subsetting                                            
⠦ |        6167 | spectra_subsetting                                            
⠧ |        6168 | spectra_subsetting                                            
⠏ |        6170 | spectra_subsetting                                            
⠙ |        6172 | spectra_subsetting                                            
⠸ |        6174 | spectra_subsetting                                            
⠴ |        6176 | spectra_subsetting                                            
⠧ |        6178 | spectra_subsetting                                            
⠏ |        6180 | spectra_subsetting                                            
⠙ |        6182 | spectra_subsetting                                            
⠸ |        6184 | spectra_subsetting                                            
⠴ |        6186 | spectra_subsetting                                            
⠧ |        6188 | spectra_subsetting                                            
⠏ |        6190 | spectra_subsetting                                            
⠙ |        6192 | spectra_subsetting                                            
⠸ |        6194 | spectra_subsetting                                            
⠴ |        6196 | spectra_subsetting                                            
⠧ |        6198 | spectra_subsetting                                            
⠏ |        6200 | spectra_subsetting                                            
⠙ |        6202 | spectra_subsetting                                            
⠸ |        6204 | spectra_subsetting                                            
⠴ |        6206 | spectra_subsetting                                            
⠧ |        6208 | spectra_subsetting                                            
⠏ |        6210 | spectra_subsetting                                            
⠙ |        6212 | spectra_subsetting                                            
⠹ |        6213 | spectra_subsetting                                            
⠼ |        6215 | spectra_subsetting                                            
⠦ |        6217 | spectra_subsetting                                            
⠇ |        6219 | spectra_subsetting                                            
⠋ |        6221 | spectra_subsetting                                            
⠹ |        6223 | spectra_subsetting                                            
⠼ |        6225 | spectra_subsetting                                            
⠴ |        6226 | spectra_subsetting                                            
⠧ |        6228 | spectra_subsetting                                            
⠏ |        6230 | spectra_subsetting                                            
⠙ |        6232 | spectra_subsetting                                            
⠸ |        6234 | spectra_subsetting                                            
⠴ |        6236 | spectra_subsetting                                            
⠧ |        6238 | spectra_subsetting                                            
⠏ |        6240 | spectra_subsetting                                            
⠙ |        6242 | spectra_subsetting                                            
⠹ |        6243 | spectra_subsetting                                            
⠼ |        6245 | spectra_subsetting                                            
⠦ |        6247 | spectra_subsetting                                            
⠧ |        6248 | spectra_subsetting                                            
⠏ |        6250 | spectra_subsetting                                            
⠋ |        6251 | spectra_subsetting                                            
⠹ |        6253 | spectra_subsetting                                            
⠼ |        6255 | spectra_subsetting                                            
⠦ |        6257 | spectra_subsetting                                            
⠇ |        6259 | spectra_subsetting                                            
⠋ |        6261 | spectra_subsetting                                            
⠹ |        6263 | spectra_subsetting                                            
⠼ |        6265 | spectra_subsetting                                            
⠦ |        6267 | spectra_subsetting                                            
⠇ |        6269 | spectra_subsetting                                            
⠏ |        6270 | spectra_subsetting                                            
⠙ |        6272 | spectra_subsetting                                            
⠸ |        6274 | spectra_subsetting                                            
⠴ |        6276 | spectra_subsetting                                            
⠧ |        6278 | spectra_subsetting                                            
⠏ |        6280 | spectra_subsetting                                            
⠙ |        6282 | spectra_subsetting                                            
⠸ |        6284 | spectra_subsetting                                            
⠴ |        6286 | spectra_subsetting                                            
⠧ |        6288 | spectra_subsetting                                            
⠏ |        6290 | spectra_subsetting                                            
⠙ |        6292 | spectra_subsetting                                            
⠸ |        6294 | spectra_subsetting                                            
⠴ |        6296 | spectra_subsetting                                            
⠦ |        6297 | spectra_subsetting                                            
⠇ |        6299 | spectra_subsetting                                            
⠋ |        6301 | spectra_subsetting                                            
⠹ |        6303 | spectra_subsetting                                            
⠼ |        6305 | spectra_subsetting                                            
⠦ |        6307 | spectra_subsetting                                            
⠧ |        6308 | spectra_subsetting                                            
⠏ |        6310 | spectra_subsetting                                            
⠙ |        6312 | spectra_subsetting                                            
⠸ |        6314 | spectra_subsetting                                            
⠴ |        6316 | spectra_subsetting                                            
⠧ |        6318 | spectra_subsetting                                            
⠇ |        6319 | spectra_subsetting                                            
⠏ |        6320 | spectra_subsetting                                            
⠙ |        6322 | spectra_subsetting                                            
⠸ |        6324 | spectra_subsetting                                            
⠼ |        6325 | spectra_subsetting                                            
⠦ |        6327 | spectra_subsetting                                            
⠇ |        6329 | spectra_subsetting                                            
⠏ |        6330 | spectra_subsetting                                            
⠙ |        6332 | spectra_subsetting                                            
⠸ |        6334 | spectra_subsetting                                            
⠴ |        6336 | spectra_subsetting                                            
⠧ |        6338 | spectra_subsetting                                            
⠏ |        6340 | spectra_subsetting                                            
⠋ |        6341 | spectra_subsetting                                            
⠹ |        6343 | spectra_subsetting                                            
⠼ |        6345 | spectra_subsetting                                            
⠦ |        6347 | spectra_subsetting                                            
⠇ |        6349 | spectra_subsetting                                            
⠋ |        6351 | spectra_subsetting                                            
⠹ |        6353 | spectra_subsetting                                            
⠼ |        6355 | spectra_subsetting                                            
⠦ |        6357 | spectra_subsetting                                            
⠇ |        6359 | spectra_subsetting                                            
⠋ |        6361 | spectra_subsetting                                            
⠹ |        6363 | spectra_subsetting                                            
⠸ |        6364 | spectra_subsetting                                            
⠴ |        6366 | spectra_subsetting                                            
⠧ |        6368 | spectra_subsetting                                            
⠏ |        6370 | spectra_subsetting                                            
⠙ |        6372 | spectra_subsetting                                            
⠸ |        6374 | spectra_subsetting                                            
⠴ |        6376 | spectra_subsetting                                            
⠧ |        6378 | spectra_subsetting                                            
⠏ |        6380 | spectra_subsetting                                            
⠋ |        6381 | spectra_subsetting                                            
⠹ |        6383 | spectra_subsetting                                            
⠼ |        6385 | spectra_subsetting                                            
⠦ |        6387 | spectra_subsetting                                            
⠇ |        6389 | spectra_subsetting                                            
⠋ |        6391 | spectra_subsetting                                            
⠹ |        6393 | spectra_subsetting                                            
⠸ |        6394 | spectra_subsetting                                            
⠴ |        6396 | spectra_subsetting                                            
⠧ |        6398 | spectra_subsetting                                            
⠏ |        6400 | spectra_subsetting                                            
⠙ |        6402 | spectra_subsetting                                            
⠸ |        6404 | spectra_subsetting                                            
⠴ |        6406 | spectra_subsetting                                            
⠧ |        6408 | spectra_subsetting                                            
⠏ |        6410 | spectra_subsetting                                            
⠙ |        6412 | spectra_subsetting                                            
⠸ |        6414 | spectra_subsetting                                            
⠴ |        6416 | spectra_subsetting                                            
⠧ |        6418 | spectra_subsetting                                            
⠏ |        6420 | spectra_subsetting                                            
⠙ |        6422 | spectra_subsetting                                            
⠸ |        6424 | spectra_subsetting                                            
⠴ |        6426 | spectra_subsetting                                            
⠧ |        6428 | spectra_subsetting                                            
⠏ |        6430 | spectra_subsetting                                            
⠙ |        6432 | spectra_subsetting                                            
⠸ |        6434 | spectra_subsetting                                            
⠴ |        6436 | spectra_subsetting                                            
⠧ |        6438 | spectra_subsetting                                            
⠏ |        6440 | spectra_subsetting                                            
⠙ |        6442 | spectra_subsetting                                            
⠸ |        6444 | spectra_subsetting                                            
⠴ |        6446 | spectra_subsetting                                            
⠧ |        6448 | spectra_subsetting                                            
⠇ |        6449 | spectra_subsetting                                            
⠋ |        6451 | spectra_subsetting                                            
⠹ |        6453 | spectra_subsetting                                            
⠸ |        6454 | spectra_subsetting                                            
⠴ |        6456 | spectra_subsetting                                            
⠧ |        6458 | spectra_subsetting                                            
⠇ |        6459 | spectra_subsetting                                            
⠋ |        6461 | spectra_subsetting                                            
⠹ |        6463 | spectra_subsetting                                            
⠼ |        6465 | spectra_subsetting                                            
⠦ |        6467 | spectra_subsetting                                            
⠧ |        6468 | spectra_subsetting                                            
⠏ |        6470 | spectra_subsetting                                            
⠙ |        6472 | spectra_subsetting                                            
⠸ |        6474 | spectra_subsetting                                            
⠴ |        6476 | spectra_subsetting                                            
⠧ |        6478 | spectra_subsetting                                            
⠏ |        6480 | spectra_subsetting                                            
⠙ |        6482 | spectra_subsetting                                            
⠸ |        6484 | spectra_subsetting                                            
⠴ |        6486 | spectra_subsetting                                            
⠧ |        6488 | spectra_subsetting                                            
⠏ |        6490 | spectra_subsetting                                            
⠙ |        6492 | spectra_subsetting                                            
⠸ |        6494 | spectra_subsetting                                            
⠴ |        6496 | spectra_subsetting                                            
⠧ |        6498 | spectra_subsetting                                            
⠏ |        6500 | spectra_subsetting                                            
⠙ |        6502 | spectra_subsetting                                            
⠸ |        6504 | spectra_subsetting                                            
⠴ |        6506 | spectra_subsetting                                            
⠧ |        6508 | spectra_subsetting                                            
⠏ |        6510 | spectra_subsetting                                            
⠙ |        6512 | spectra_subsetting                                            
⠸ |        6514 | spectra_subsetting                                            
⠴ |        6516 | spectra_subsetting                                            
⠧ |        6518 | spectra_subsetting                                            
⠏ |        6520 | spectra_subsetting                                            
⠙ |        6522 | spectra_subsetting                                            
⠸ |        6524 | spectra_subsetting                                            
⠴ |        6526 | spectra_subsetting                                            
⠦ |        6527 | spectra_subsetting                                            
⠇ |        6529 | spectra_subsetting                                            
⠋ |        6531 | spectra_subsetting                                            
⠹ |        6533 | spectra_subsetting                                            
⠼ |        6535 | spectra_subsetting                                            
⠦ |        6537 | spectra_subsetting                                            
⠧ |        6538 | spectra_subsetting                                            
⠏ |        6540 | spectra_subsetting                                            
⠙ |        6542 | spectra_subsetting                                            
⠹ |        6543 | spectra_subsetting                                            
⠼ |        6545 | spectra_subsetting                                            
⠦ |        6547 | spectra_subsetting                                            
⠧ |        6548 | spectra_subsetting                                            
⠏ |        6550 | spectra_subsetting                                            
⠙ |        6552 | spectra_subsetting                                            
⠸ |        6554 | spectra_subsetting                                            
⠴ |        6556 | spectra_subsetting                                            
⠧ |        6558 | spectra_subsetting                                            
⠇ |        6559 | spectra_subsetting                                            
⠋ |        6561 | spectra_subsetting                                            
⠹ |        6563 | spectra_subsetting                                            
⠼ |        6565 | spectra_subsetting                                            
⠦ |        6567 | spectra_subsetting                                            
⠇ |        6569 | spectra_subsetting                                            
⠏ |        6570 | spectra_subsetting                                            
⠙ |        6572 | spectra_subsetting                                            
⠸ |        6574 | spectra_subsetting                                            
⠴ |        6576 | spectra_subsetting                                            
⠧ |        6578 | spectra_subsetting                                            
⠏ |        6580 | spectra_subsetting                                            
⠋ |        6581 | spectra_subsetting                                            
⠹ |        6583 | spectra_subsetting                                            
⠼ |        6585 | spectra_subsetting                                            
⠴ |        6586 | spectra_subsetting                                            
⠧ |        6588 | spectra_subsetting                                            
⠏ |        6590 | spectra_subsetting                                            
⠋ |        6591 | spectra_subsetting                                            
⠹ |        6593 | spectra_subsetting                                            
⠼ |        6595 | spectra_subsetting                                            
⠦ |        6597 | spectra_subsetting                                            
⠇ |        6599 | spectra_subsetting                                            
⠋ |        6601 | spectra_subsetting                                            
⠹ |        6603 | spectra_subsetting                                            
⠼ |        6605 | spectra_subsetting                                            
⠦ |        6607 | spectra_subsetting                                            
⠇ |        6609 | spectra_subsetting                                            
⠋ |        6611 | spectra_subsetting                                            
⠹ |        6613 | spectra_subsetting                                            
⠼ |        6615 | spectra_subsetting                                            
⠦ |        6617 | spectra_subsetting                                            
⠇ |        6619 | spectra_subsetting                                            
⠋ |        6621 | spectra_subsetting                                            
⠙ |        6622 | spectra_subsetting                                            
⠸ |        6624 | spectra_subsetting                                            
⠼ |        6625 | spectra_subsetting                                            
⠦ |        6627 | spectra_subsetting                                            
⠇ |        6629 | spectra_subsetting                                            
⠋ |        6631 | spectra_subsetting                                            
⠹ |        6633 | spectra_subsetting                                            
⠼ |        6635 | spectra_subsetting                                            
⠴ |        6636 | spectra_subsetting                                            
⠧ |        6638 | spectra_subsetting                                            
⠏ |        6640 | spectra_subsetting                                            
⠙ |        6642 | spectra_subsetting                                            
⠸ |        6644 | spectra_subsetting                                            
⠴ |        6646 | spectra_subsetting                                            
⠧ |        6648 | spectra_subsetting                                            
⠏ |        6650 | spectra_subsetting                                            
⠙ |        6652 | spectra_subsetting                                            
⠹ |        6653 | spectra_subsetting                                            
⠼ |        6655 | spectra_subsetting                                            
⠦ |        6657 | spectra_subsetting                                            
⠇ |        6659 | spectra_subsetting                                            
⠹ |        6663 | spectra_subsetting                                            
⠇ |        6669 | spectra_subsetting                                            
⠹ |        6673 | spectra_subsetting                                            
⠇ |        6679 | spectra_subsetting                                            
⠸ |        6694 | spectra_subsetting                                            
✔ |        6702 | spectra_subsetting [171.4s]

⠏ |          0 | spectra_variables                                              
⠙ |         12 | spectra_variables                                              
⠸ |         14 | spectra_variables                                              
⠴ |         16 | spectra_variables                                              
⠦ |         27 | spectra_variables                                              
⠇ |         29 | spectra_variables                                              
⠋ |         31 | spectra_variables                                              
⠹ |         43 | spectra_variables                                              
⠸ |         54 | spectra_variables                                              
✔ |      1  62 | spectra_variables [1.9s]

══ Results ═════════════════════════════════════════════════════════════════════
Duration: 173.8 s

── Skipped tests (1) ───────────────────────────────────────────────────────────
• empty test (1): 'test_spectra_variables.R:262:1'

[ FAIL 0 | WARN 0 | SKIP 1 | PASS 6768 ]
> 
> proc.time()
   user  system elapsed 
160.810  14.218 539.425 

Example timings

MsBackendMetaboLights.Rcheck/MsBackendMetaboLights-Ex.timings

nameusersystemelapsed
MetaboLights-utils0.1430.0188.130
MsBackendMetaboLights 3.179 0.57117.625