| Back to Multiple platform build/check report for BioC 3.23: simplified long |
|
This page was generated on 2025-11-14 11:36 -0500 (Fri, 14 Nov 2025).
| Hostname | OS | Arch (*) | R version | Installed pkgs |
|---|---|---|---|---|
| nebbiolo1 | Linux (Ubuntu 24.04.3 LTS) | x86_64 | R Under development (unstable) (2025-10-20 r88955) -- "Unsuffered Consequences" | 4825 |
| kjohnson3 | macOS 13.7.7 Ventura | arm64 | R Under development (unstable) (2025-11-04 r88984) -- "Unsuffered Consequences" | 4547 |
| Click on any hostname to see more info about the system (e.g. compilers) (*) as reported by 'uname -p', except on Windows and Mac OS X | ||||
| Package 1279/2325 | Hostname | OS / Arch | INSTALL | BUILD | CHECK | BUILD BIN | ||||||||
| MicrobiomeProfiler 1.17.0 (landing page) Guangchuang Yu
| nebbiolo1 | Linux (Ubuntu 24.04.3 LTS) / x86_64 | OK | OK | OK | |||||||||
| kjohnson3 | macOS 13.7.7 Ventura / arm64 | OK | OK | OK | OK | |||||||||
|
To the developers/maintainers of the MicrobiomeProfiler package: - Allow up to 24 hours (and sometimes 48 hours) for your latest push to git@git.bioconductor.org:packages/MicrobiomeProfiler.git to reflect on this report. See Troubleshooting Build Report for more information. - Use the following Renviron settings to reproduce errors and warnings. - If 'R CMD check' started to fail recently on the Linux builder(s) over a missing dependency, add the missing dependency to 'Suggests:' in your DESCRIPTION file. See Renviron.bioc for more information. |
| Package: MicrobiomeProfiler |
| Version: 1.17.0 |
| Command: /Library/Frameworks/R.framework/Resources/bin/R CMD check --install=check:MicrobiomeProfiler.install-out.txt --library=/Library/Frameworks/R.framework/Resources/library --no-vignettes --timings MicrobiomeProfiler_1.17.0.tar.gz |
| StartedAt: 2025-11-13 21:01:13 -0500 (Thu, 13 Nov 2025) |
| EndedAt: 2025-11-13 21:02:31 -0500 (Thu, 13 Nov 2025) |
| EllapsedTime: 77.9 seconds |
| RetCode: 0 |
| Status: OK |
| CheckDir: MicrobiomeProfiler.Rcheck |
| Warnings: 0 |
##############################################################################
##############################################################################
###
### Running command:
###
### /Library/Frameworks/R.framework/Resources/bin/R CMD check --install=check:MicrobiomeProfiler.install-out.txt --library=/Library/Frameworks/R.framework/Resources/library --no-vignettes --timings MicrobiomeProfiler_1.17.0.tar.gz
###
##############################################################################
##############################################################################
* using log directory ‘/Users/biocbuild/bbs-3.23-bioc/meat/MicrobiomeProfiler.Rcheck’
* using R Under development (unstable) (2025-11-04 r88984)
* using platform: aarch64-apple-darwin20
* R was compiled by
Apple clang version 16.0.0 (clang-1600.0.26.6)
GNU Fortran (GCC) 14.2.0
* running under: macOS Ventura 13.7.8
* using session charset: UTF-8
* using option ‘--no-vignettes’
* checking for file ‘MicrobiomeProfiler/DESCRIPTION’ ... OK
* this is package ‘MicrobiomeProfiler’ version ‘1.17.0’
* package encoding: UTF-8
* checking package namespace information ... OK
* checking package dependencies ... OK
* checking if this is a source package ... OK
* checking if there is a namespace ... OK
* checking for hidden files and directories ... OK
* checking for portable file names ... OK
* checking for sufficient/correct file permissions ... OK
* checking whether package ‘MicrobiomeProfiler’ can be installed ... OK
* checking installed package size ... OK
* checking package directory ... OK
* checking ‘build’ directory ... OK
* checking DESCRIPTION meta-information ... OK
* checking top-level files ... OK
* checking for left-over files ... OK
* checking index information ... OK
* checking package subdirectories ... OK
* checking code files for non-ASCII characters ... OK
* checking R files for syntax errors ... OK
* checking whether the package can be loaded ... OK
* checking whether the package can be loaded with stated dependencies ... OK
* checking whether the package can be unloaded cleanly ... OK
* checking whether the namespace can be loaded with stated dependencies ... OK
* checking whether the namespace can be unloaded cleanly ... OK
* checking dependencies in R code ... OK
* checking S3 generic/method consistency ... OK
* checking replacement functions ... OK
* checking foreign function calls ... OK
* checking R code for possible problems ... OK
* checking Rd files ... OK
* checking Rd metadata ... OK
* checking Rd cross-references ... OK
* checking for missing documentation entries ... OK
* checking for code/documentation mismatches ... OK
* checking Rd \usage sections ... OK
* checking Rd contents ... OK
* checking for unstated dependencies in examples ... OK
* checking contents of ‘data’ directory ... OK
* checking data for non-ASCII characters ... OK
* checking data for ASCII and uncompressed saves ... OK
* checking R/sysdata.rda ... OK
* checking files in ‘vignettes’ ... OK
* checking examples ... OK
* checking for unstated dependencies in ‘tests’ ... OK
* checking tests ...
Running ‘testthat.R’
OK
* checking for unstated dependencies in vignettes ... OK
* checking package vignettes ... OK
* checking running R code from vignettes ... SKIPPED
* checking re-building of vignette outputs ... SKIPPED
* checking PDF version of manual ... OK
* DONE
Status: OK
MicrobiomeProfiler.Rcheck/00install.out
############################################################################## ############################################################################## ### ### Running command: ### ### /Library/Frameworks/R.framework/Resources/bin/R CMD INSTALL MicrobiomeProfiler ### ############################################################################## ############################################################################## * installing to library ‘/Library/Frameworks/R.framework/Versions/4.6-arm64/Resources/library’ * installing *source* package ‘MicrobiomeProfiler’ ... ** this is package ‘MicrobiomeProfiler’ version ‘1.17.0’ ** using staged installation ** R ** data ** inst ** byte-compile and prepare package for lazy loading ** help *** installing help indices ** building package indices ** installing vignettes ** testing if installed package can be loaded from temporary location ** testing if installed package can be loaded from final location ** testing if installed package keeps a record of temporary installation path * DONE (MicrobiomeProfiler)
MicrobiomeProfiler.Rcheck/tests/testthat.Rout
R Under development (unstable) (2025-11-04 r88984) -- "Unsuffered Consequences"
Copyright (C) 2025 The R Foundation for Statistical Computing
Platform: aarch64-apple-darwin20
R is free software and comes with ABSOLUTELY NO WARRANTY.
You are welcome to redistribute it under certain conditions.
Type 'license()' or 'licence()' for distribution details.
R is a collaborative project with many contributors.
Type 'contributors()' for more information and
'citation()' on how to cite R or R packages in publications.
Type 'demo()' for some demos, 'help()' for on-line help, or
'help.start()' for an HTML browser interface to help.
Type 'q()' to quit R.
> library(testthat)
> library(MicrobiomeProfiler)
> test_check("MicrobiomeProfiler")
--> No gene can be mapped....
--> Expected input gene ID: 2.7.1.11,1.3.5.1,2.3.3.1,1.1.1.388,1.1.1.27,5.4.2.2
--> return NULL...
--> No gene can be mapped....
--> Expected input gene ID: COG0036,COG0085,COG0008,COG0022,COG0029,COG0083
--> return NULL...
--> No gene can be mapped....
--> Expected input gene ID: 885,1338,706562,561,41200,40519
--> return NULL...
--> No gene can be mapped....
--> Expected input gene ID: PW_C000396,PW_C001065,PW_C000148,PW_C000662,PW_C001027,PW_C001847
--> return NULL...
--> No gene can be mapped....
--> Expected input gene ID: C16255,C00221,C01182,C05125,C00084,C00122
--> return NULL...
--> No gene can be mapped....
--> Expected input gene ID: HMDB0003362,HMDB0001128,HMDB0001397,HMDB0001967,HMDB0000148,HMDB0001206
--> return NULL...
[ FAIL 0 | WARN 0 | SKIP 0 | PASS 12 ]
>
>
> proc.time()
user system elapsed
3.725 0.256 4.375
MicrobiomeProfiler.Rcheck/MicrobiomeProfiler-Ex.timings
| name | user | system | elapsed | |
| Psoriasis_data | 0.001 | 0.001 | 0.001 | |
| Rat_data | 0.000 | 0.000 | 0.001 | |
| enrichCOG | 0.036 | 0.006 | 0.045 | |
| enrichHMDB | 0.014 | 0.002 | 0.016 | |
| enrichKO | 0.220 | 0.042 | 0.288 | |
| enrichMBKEGG | 0.059 | 0.015 | 0.083 | |
| enrichMDA | 0.079 | 0.013 | 0.102 | |
| enrichModule | 0.023 | 0.003 | 0.030 | |
| enrichSMPDB | 0.057 | 0.014 | 0.089 | |
| microbiota_taxlist | 0.000 | 0.001 | 0.001 | |
| run_MicrobiomeProfiler | 0 | 0 | 0 | |