Back to Multiple platform build/check report for BioC 3.22:   simplified   long
ABCDEFGHIJKL[M]NOPQRSTUVWXYZ

This page was generated on 2025-10-02 12:03 -0400 (Thu, 02 Oct 2025).

HostnameOSArch (*)R versionInstalled pkgs
nebbiolo2Linux (Ubuntu 24.04.3 LTS)x86_644.5.1 Patched (2025-08-23 r88802) -- "Great Square Root" 4844
lconwaymacOS 12.7.1 Montereyx86_644.5.1 Patched (2025-09-10 r88807) -- "Great Square Root" 4631
kjohnson3macOS 13.7.7 Venturaarm644.5.1 Patched (2025-09-10 r88807) -- "Great Square Root" 4576
taishanLinux (openEuler 24.03 LTS)aarch644.5.0 (2025-04-11) -- "How About a Twenty-Six" 4576
Click on any hostname to see more info about the system (e.g. compilers)      (*) as reported by 'uname -p', except on Windows and Mac OS X

Package 1344/2337HostnameOS / ArchINSTALLBUILDCHECKBUILD BIN
MOSClip 1.3.3  (landing page)
Paolo Martini
Snapshot Date: 2025-10-01 13:45 -0400 (Wed, 01 Oct 2025)
git_url: https://git.bioconductor.org/packages/MOSClip
git_branch: devel
git_last_commit: 440555e
git_last_commit_date: 2025-09-22 10:26:56 -0400 (Mon, 22 Sep 2025)
nebbiolo2Linux (Ubuntu 24.04.3 LTS) / x86_64  OK    OK    OK  UNNEEDED, same version is already published
lconwaymacOS 12.7.1 Monterey / x86_64  OK    OK    OK    OK  UNNEEDED, same version is already published
kjohnson3macOS 13.7.7 Ventura / arm64  OK    OK    OK    OK  UNNEEDED, same version is already published
taishanLinux (openEuler 24.03 LTS) / aarch64  OK    OK    OK  


CHECK results for MOSClip on nebbiolo2

To the developers/maintainers of the MOSClip package:
- Allow up to 24 hours (and sometimes 48 hours) for your latest push to git@git.bioconductor.org:packages/MOSClip.git to reflect on this report. See Troubleshooting Build Report for more information.
- Use the following Renviron settings to reproduce errors and warnings.
- If 'R CMD check' started to fail recently on the Linux builder(s) over a missing dependency, add the missing dependency to 'Suggests:' in your DESCRIPTION file. See Renviron.bioc for more information.

raw results


Summary

Package: MOSClip
Version: 1.3.3
Command: /home/biocbuild/bbs-3.22-bioc/R/bin/R CMD check --install=check:MOSClip.install-out.txt --library=/home/biocbuild/bbs-3.22-bioc/R/site-library --timings MOSClip_1.3.3.tar.gz
StartedAt: 2025-10-02 02:11:24 -0400 (Thu, 02 Oct 2025)
EndedAt: 2025-10-02 02:20:01 -0400 (Thu, 02 Oct 2025)
EllapsedTime: 516.5 seconds
RetCode: 0
Status:   OK  
CheckDir: MOSClip.Rcheck
Warnings: 0

Command output

##############################################################################
##############################################################################
###
### Running command:
###
###   /home/biocbuild/bbs-3.22-bioc/R/bin/R CMD check --install=check:MOSClip.install-out.txt --library=/home/biocbuild/bbs-3.22-bioc/R/site-library --timings MOSClip_1.3.3.tar.gz
###
##############################################################################
##############################################################################


* using log directory ‘/home/biocbuild/bbs-3.22-bioc/meat/MOSClip.Rcheck’
* using R version 4.5.1 Patched (2025-08-23 r88802)
* using platform: x86_64-pc-linux-gnu
* R was compiled by
    gcc (Ubuntu 13.3.0-6ubuntu2~24.04) 13.3.0
    GNU Fortran (Ubuntu 13.3.0-6ubuntu2~24.04) 13.3.0
* running under: Ubuntu 24.04.3 LTS
* using session charset: UTF-8
* checking for file ‘MOSClip/DESCRIPTION’ ... OK
* this is package ‘MOSClip’ version ‘1.3.3’
* package encoding: UTF-8
* checking package namespace information ... OK
* checking package dependencies ... INFO
Imports includes 27 non-default packages.
Importing from so many packages makes the package vulnerable to any of
them becoming unavailable.  Move as many as possible to Suggests and
use conditionally.
* checking if this is a source package ... OK
* checking if there is a namespace ... OK
* checking for hidden files and directories ... OK
* checking for portable file names ... OK
* checking for sufficient/correct file permissions ... OK
* checking whether package ‘MOSClip’ can be installed ... OK
* checking installed package size ... OK
* checking package directory ... OK
* checking ‘build’ directory ... OK
* checking DESCRIPTION meta-information ... OK
* checking top-level files ... OK
* checking for left-over files ... OK
* checking index information ... OK
* checking package subdirectories ... OK
* checking code files for non-ASCII characters ... OK
* checking R files for syntax errors ... OK
* checking whether the package can be loaded ... OK
* checking whether the package can be loaded with stated dependencies ... OK
* checking whether the package can be unloaded cleanly ... OK
* checking whether the namespace can be loaded with stated dependencies ... OK
* checking whether the namespace can be unloaded cleanly ... OK
* checking loading without being on the library search path ... OK
* checking dependencies in R code ... OK
* checking S3 generic/method consistency ... OK
* checking replacement functions ... OK
* checking foreign function calls ... OK
* checking R code for possible problems ... OK
* checking Rd files ... OK
* checking Rd metadata ... OK
* checking Rd cross-references ... NOTE
Found the following Rd file(s) with Rd \link{} targets missing package
anchors:
  makeOmics.Rd: ExperimentList, DataFrame-class
Please provide package anchors for all Rd \link{} targets not in the
package itself and the base packages.
* checking for missing documentation entries ... OK
* checking for code/documentation mismatches ... OK
* checking Rd \usage sections ... OK
* checking Rd contents ... OK
* checking for unstated dependencies in examples ... OK
* checking contents of ‘data’ directory ... OK
* checking data for non-ASCII characters ... OK
* checking data for ASCII and uncompressed saves ... OK
* checking files in ‘vignettes’ ... OK
* checking examples ... OK
Examples with CPU (user + system) or elapsed time > 5s
                       user system elapsed
evaluateResampling    6.168  0.144   6.313
annotePathwayToFather 5.908  0.181   6.158
* checking for unstated dependencies in ‘tests’ ... OK
* checking tests ...
  Running ‘testthat.R’
 OK
* checking for unstated dependencies in vignettes ... OK
* checking package vignettes ... OK
* checking re-building of vignette outputs ... OK
* checking PDF version of manual ... OK
* DONE

Status: 1 NOTE
See
  ‘/home/biocbuild/bbs-3.22-bioc/meat/MOSClip.Rcheck/00check.log’
for details.


Installation output

MOSClip.Rcheck/00install.out

##############################################################################
##############################################################################
###
### Running command:
###
###   /home/biocbuild/bbs-3.22-bioc/R/bin/R CMD INSTALL MOSClip
###
##############################################################################
##############################################################################


* installing to library ‘/home/biocbuild/bbs-3.22-bioc/R/site-library’
* installing *source* package ‘MOSClip’ ...
** this is package ‘MOSClip’ version ‘1.3.3’
** using staged installation
** R
** data
** inst
** byte-compile and prepare package for lazy loading
** help
*** installing help indices
*** copying figures
** building package indices
** installing vignettes
** testing if installed package can be loaded from temporary location
** testing if installed package can be loaded from final location
** testing if installed package keeps a record of temporary installation path
* DONE (MOSClip)

Tests output

MOSClip.Rcheck/tests/testthat.Rout


R version 4.5.1 Patched (2025-08-23 r88802) -- "Great Square Root"
Copyright (C) 2025 The R Foundation for Statistical Computing
Platform: x86_64-pc-linux-gnu

R is free software and comes with ABSOLUTELY NO WARRANTY.
You are welcome to redistribute it under certain conditions.
Type 'license()' or 'licence()' for distribution details.

R is a collaborative project with many contributors.
Type 'contributors()' for more information and
'citation()' on how to cite R or R packages in publications.

Type 'demo()' for some demos, 'help()' for on-line help, or
'help.start()' for an HTML browser interface to help.
Type 'q()' to quit R.

> library(testthat)
> library(MOSClip)

> 
> test_check("MOSClip")
[ FAIL 0 | WARN 1 | SKIP 0 | PASS 198 ]

[ FAIL 0 | WARN 1 | SKIP 0 | PASS 198 ]
> 
> proc.time()
   user  system elapsed 
 74.627   2.064  76.690 

Example timings

MOSClip.Rcheck/MOSClip-Ex.timings

nameusersystemelapsed
annotePathwayToFather5.9080.1816.158
availableOmicMethods000
computeFreqs0.0020.0000.002
computeOmicsIntersections0.0030.0000.003
downloadPathwayRelationFromReactome0.0500.0050.056
evaluateResampling6.1680.1446.313
makeOmics0.1990.0070.206
minOrNA0.0010.0000.000
multiOmicsSurvivalModuleTest1.5100.0151.525
multiOmicsSurvivalPathwayTest0.2910.0010.292
multiOmicsTwoClassModuleTest1.4040.0021.406
multiOmicsTwoClassPathwayTest0.3200.0230.342
multiPathwayModuleReport3.5680.0753.643
multiPathwayReport0.5710.0220.593
plotFrequencies0.4190.0060.425
plotModuleHeat4.2540.0264.284
plotModuleInGraph1.8600.0161.877
plotModuleKM3.1440.0103.154
plotModuleReport4.6210.0244.645
plotMultiPathwayReport1.2720.0211.293
plotPathwayHeat1.8780.0381.916
plotPathwayKM1.6810.0031.685
resampling-Survival4.4920.0104.502
resampling-TwoClass4.6850.0054.690
runSupertest0.1040.0010.105
showMOSpalette0.0130.0000.013
showModule1.5240.0021.527
showOmics0.0440.0010.045
showPathway0.3170.0010.318
stripModulesFromPathways000
summarizeOmicsResByMinPvalue000