| Back to Multiple platform build/check report for BioC 3.23: simplified long |
|
This page was generated on 2025-11-19 10:13 -0500 (Wed, 19 Nov 2025).
| Hostname | OS | Arch (*) | R version | Installed pkgs |
|---|---|---|---|---|
| nebbiolo1 | Linux (Ubuntu 24.04.3 LTS) | x86_64 | R Under development (unstable) (2025-10-20 r88955) -- "Unsuffered Consequences" | 4827 |
| lconway | macOS 12.7.6 Monterey | x86_64 | R Under development (unstable) (2025-10-21 r88958) -- "Unsuffered Consequences" | 4600 |
| kjohnson3 | macOS 13.7.7 Ventura | arm64 | R Under development (unstable) (2025-11-04 r88984) -- "Unsuffered Consequences" | 4564 |
| Click on any hostname to see more info about the system (e.g. compilers) (*) as reported by 'uname -p', except on Windows and Mac OS X | ||||
| Package 1156/2325 | Hostname | OS / Arch | INSTALL | BUILD | CHECK | BUILD BIN | ||||||||
| MACSr 1.19.0 (landing page) Qiang Hu
| nebbiolo1 | Linux (Ubuntu 24.04.3 LTS) / x86_64 | OK | OK | OK | |||||||||
| lconway | macOS 12.7.6 Monterey / x86_64 | OK | OK | OK | OK | |||||||||
| kjohnson3 | macOS 13.7.7 Ventura / arm64 | OK | OK | OK | OK | |||||||||
|
To the developers/maintainers of the MACSr package: - Allow up to 24 hours (and sometimes 48 hours) for your latest push to git@git.bioconductor.org:packages/MACSr.git to reflect on this report. See Troubleshooting Build Report for more information. - Use the following Renviron settings to reproduce errors and warnings. - If 'R CMD check' started to fail recently on the Linux builder(s) over a missing dependency, add the missing dependency to 'Suggests:' in your DESCRIPTION file. See Renviron.bioc for more information. |
| Package: MACSr |
| Version: 1.19.0 |
| Command: /Library/Frameworks/R.framework/Resources/bin/R CMD check --install=check:MACSr.install-out.txt --library=/Library/Frameworks/R.framework/Resources/library --no-vignettes --timings MACSr_1.19.0.tar.gz |
| StartedAt: 2025-11-18 22:01:32 -0500 (Tue, 18 Nov 2025) |
| EndedAt: 2025-11-18 22:05:08 -0500 (Tue, 18 Nov 2025) |
| EllapsedTime: 215.3 seconds |
| RetCode: 0 |
| Status: OK |
| CheckDir: MACSr.Rcheck |
| Warnings: 0 |
##############################################################################
##############################################################################
###
### Running command:
###
### /Library/Frameworks/R.framework/Resources/bin/R CMD check --install=check:MACSr.install-out.txt --library=/Library/Frameworks/R.framework/Resources/library --no-vignettes --timings MACSr_1.19.0.tar.gz
###
##############################################################################
##############################################################################
* using log directory ‘/Users/biocbuild/bbs-3.23-bioc/meat/MACSr.Rcheck’
* using R Under development (unstable) (2025-10-21 r88958)
* using platform: x86_64-apple-darwin20
* R was compiled by
Apple clang version 14.0.0 (clang-1400.0.29.202)
GNU Fortran (GCC) 14.2.0
* running under: macOS Ventura 13.7.8
* using session charset: UTF-8
* using option ‘--no-vignettes’
* checking for file ‘MACSr/DESCRIPTION’ ... OK
* this is package ‘MACSr’ version ‘1.19.0’
* package encoding: UTF-8
* checking package namespace information ... OK
* checking package dependencies ... OK
* checking if this is a source package ... OK
* checking if there is a namespace ... OK
* checking for hidden files and directories ... NOTE
Found the following hidden files and directories:
.BBSoptions
These were most likely included in error. See section ‘Package
structure’ in the ‘Writing R Extensions’ manual.
* checking for portable file names ... OK
* checking for sufficient/correct file permissions ... OK
* checking whether package ‘MACSr’ can be installed ... NOTE
Found the following notes/warnings:
Non-staged installation was used
See ‘/Users/biocbuild/bbs-3.23-bioc/meat/MACSr.Rcheck/00install.out’ for details.
* checking installed package size ... INFO
installed size is 18.6Mb
sub-directories of 1Mb or more:
extdata 18.2Mb
* checking package directory ... OK
* checking ‘build’ directory ... OK
* checking DESCRIPTION meta-information ... NOTE
License stub is invalid DCF.
* checking top-level files ... OK
* checking for left-over files ... OK
* checking index information ... OK
* checking package subdirectories ... OK
* checking code files for non-ASCII characters ... OK
* checking R files for syntax errors ... OK
* checking whether the package can be loaded ... OK
* checking whether the package can be loaded with stated dependencies ... OK
* checking whether the package can be unloaded cleanly ... OK
* checking whether the namespace can be loaded with stated dependencies ... OK
* checking whether the namespace can be unloaded cleanly ... OK
* checking dependencies in R code ... OK
* checking S3 generic/method consistency ... OK
* checking replacement functions ... OK
* checking foreign function calls ... OK
* checking R code for possible problems ... OK
* checking Rd files ... OK
* checking Rd metadata ... OK
* checking Rd cross-references ... OK
* checking for missing documentation entries ... OK
* checking for code/documentation mismatches ... OK
* checking Rd \usage sections ... OK
* checking Rd contents ... OK
* checking for unstated dependencies in examples ... OK
* checking line endings in shell scripts ... OK
* checking files in ‘vignettes’ ... OK
* checking examples ... OK
Examples with CPU (user + system) or elapsed time > 5s
user system elapsed
bdgbroadcall 6.111 0.940 8.352
bdgdiff 5.201 0.480 6.073
refinepeak 4.719 0.335 5.365
* checking for unstated dependencies in ‘tests’ ... OK
* checking tests ...
Running ‘testthat.R’
OK
* checking for unstated dependencies in vignettes ... OK
* checking package vignettes ... OK
* checking running R code from vignettes ... SKIPPED
* checking re-building of vignette outputs ... SKIPPED
* checking PDF version of manual ... OK
* DONE
Status: 3 NOTEs
See
‘/Users/biocbuild/bbs-3.23-bioc/meat/MACSr.Rcheck/00check.log’
for details.
MACSr.Rcheck/00install.out
############################################################################## ############################################################################## ### ### Running command: ### ### /Library/Frameworks/R.framework/Resources/bin/R CMD INSTALL MACSr ### ############################################################################## ############################################################################## * installing to library ‘/Library/Frameworks/R.framework/Versions/4.6-x86_64/Resources/library’ * installing *source* package ‘MACSr’ ... ** this is package ‘MACSr’ version ‘1.19.0’ ** using non-staged installation via StagedInstall field ** R ** inst ** byte-compile and prepare package for lazy loading ** help *** installing help indices ** building package indices ** installing vignettes ** testing if installed package can be loaded * DONE (MACSr)
MACSr.Rcheck/tests/testthat.Rout
R Under development (unstable) (2025-10-21 r88958) -- "Unsuffered Consequences"
Copyright (C) 2025 The R Foundation for Statistical Computing
Platform: x86_64-apple-darwin20
R is free software and comes with ABSOLUTELY NO WARRANTY.
You are welcome to redistribute it under certain conditions.
Type 'license()' or 'licence()' for distribution details.
R is a collaborative project with many contributors.
Type 'contributors()' for more information and
'citation()' on how to cite R or R packages in publications.
Type 'demo()' for some demos, 'help()' for on-line help, or
'help.start()' for an HTML browser interface to help.
Type 'q()' to quit R.
> library(testthat)
> library(MACSr)
>
> test_check("MACSr")
[ FAIL 0 | WARN 0 | SKIP 0 | PASS 9 ]
>
> proc.time()
user system elapsed
17.372 1.804 19.607
MACSr.Rcheck/MACSr-Ex.timings
| name | user | system | elapsed | |
| bdgbroadcall | 6.111 | 0.940 | 8.352 | |
| bdgcmp | 3.878 | 0.355 | 4.513 | |
| bdgdiff | 5.201 | 0.480 | 6.073 | |
| bdgopt | 3.150 | 0.335 | 3.726 | |
| bdgpeakcall | 0 | 0 | 0 | |
| callpeak | 3.157 | 0.330 | 3.733 | |
| callvar | 0.001 | 0.001 | 0.000 | |
| cmbreps | 3.951 | 0.385 | 4.585 | |
| filterdup | 1.348 | 0.183 | 1.739 | |
| pileup | 1.331 | 0.184 | 1.685 | |
| predictd | 1.442 | 0.191 | 1.801 | |
| randsample | 1.308 | 0.176 | 1.649 | |
| refinepeak | 4.719 | 0.335 | 5.365 | |