| Back to Multiple platform build/check report for BioC 3.23: simplified long |
|
This page was generated on 2025-11-20 11:38 -0500 (Thu, 20 Nov 2025).
| Hostname | OS | Arch (*) | R version | Installed pkgs |
|---|---|---|---|---|
| nebbiolo1 | Linux (Ubuntu 24.04.3 LTS) | x86_64 | R Under development (unstable) (2025-10-20 r88955) -- "Unsuffered Consequences" | 4827 |
| lconway | macOS 12.7.6 Monterey | x86_64 | R Under development (unstable) (2025-10-21 r88958) -- "Unsuffered Consequences" | 4600 |
| kjohnson3 | macOS 13.7.7 Ventura | arm64 | R Under development (unstable) (2025-11-04 r88984) -- "Unsuffered Consequences" | 4564 |
| Click on any hostname to see more info about the system (e.g. compilers) (*) as reported by 'uname -p', except on Windows and Mac OS X | ||||
| Package 1149/2325 | Hostname | OS / Arch | INSTALL | BUILD | CHECK | BUILD BIN | ||||||||
| M3Drop 1.37.0 (landing page) Tallulah Andrews
| nebbiolo1 | Linux (Ubuntu 24.04.3 LTS) / x86_64 | OK | OK | OK | |||||||||
| lconway | macOS 12.7.6 Monterey / x86_64 | OK | OK | OK | OK | |||||||||
| kjohnson3 | macOS 13.7.7 Ventura / arm64 | OK | OK | OK | OK | |||||||||
|
To the developers/maintainers of the M3Drop package: - Allow up to 24 hours (and sometimes 48 hours) for your latest push to git@git.bioconductor.org:packages/M3Drop.git to reflect on this report. See Troubleshooting Build Report for more information. - Use the following Renviron settings to reproduce errors and warnings. - If 'R CMD check' started to fail recently on the Linux builder(s) over a missing dependency, add the missing dependency to 'Suggests:' in your DESCRIPTION file. See Renviron.bioc for more information. |
| Package: M3Drop |
| Version: 1.37.0 |
| Command: /Library/Frameworks/R.framework/Resources/bin/R CMD check --install=check:M3Drop.install-out.txt --library=/Library/Frameworks/R.framework/Resources/library --no-vignettes --timings M3Drop_1.37.0.tar.gz |
| StartedAt: 2025-11-19 22:06:06 -0500 (Wed, 19 Nov 2025) |
| EndedAt: 2025-11-19 22:12:05 -0500 (Wed, 19 Nov 2025) |
| EllapsedTime: 358.5 seconds |
| RetCode: 0 |
| Status: OK |
| CheckDir: M3Drop.Rcheck |
| Warnings: 0 |
##############################################################################
##############################################################################
###
### Running command:
###
### /Library/Frameworks/R.framework/Resources/bin/R CMD check --install=check:M3Drop.install-out.txt --library=/Library/Frameworks/R.framework/Resources/library --no-vignettes --timings M3Drop_1.37.0.tar.gz
###
##############################################################################
##############################################################################
* using log directory ‘/Users/biocbuild/bbs-3.23-bioc/meat/M3Drop.Rcheck’
* using R Under development (unstable) (2025-10-21 r88958)
* using platform: x86_64-apple-darwin20
* R was compiled by
Apple clang version 14.0.0 (clang-1400.0.29.202)
GNU Fortran (GCC) 14.2.0
* running under: macOS Ventura 13.7.8
* using session charset: UTF-8
* using option ‘--no-vignettes’
* checking for file ‘M3Drop/DESCRIPTION’ ... OK
* this is package ‘M3Drop’ version ‘1.37.0’
* checking package namespace information ... OK
* checking package dependencies ... OK
* checking if this is a source package ... OK
* checking if there is a namespace ... OK
* checking for hidden files and directories ... OK
* checking for portable file names ... OK
* checking for sufficient/correct file permissions ... OK
* checking whether package ‘M3Drop’ can be installed ... OK
* checking installed package size ... OK
* checking package directory ... OK
* checking ‘build’ directory ... OK
* checking DESCRIPTION meta-information ... OK
* checking top-level files ... OK
* checking for left-over files ... OK
* checking index information ... OK
* checking package subdirectories ... OK
* checking code files for non-ASCII characters ... OK
* checking R files for syntax errors ... OK
* checking whether the package can be loaded ... OK
* checking whether the package can be loaded with stated dependencies ... OK
* checking whether the package can be unloaded cleanly ... OK
* checking whether the namespace can be loaded with stated dependencies ... OK
* checking whether the namespace can be unloaded cleanly ... OK
* checking dependencies in R code ... NOTE
Namespace in Imports field not imported from: ‘scater’
All declared Imports should be used.
* checking S3 generic/method consistency ... OK
* checking replacement functions ... OK
* checking foreign function calls ... OK
* checking R code for possible problems ... NOTE
M3DropConvertData: no visible global function definition for ‘assays’
NBumiConvertData: no visible global function definition for ‘assays’
bg__filter_cells: no visible binding for global variable ‘x’
bg__get_extreme_residuals: no visible binding for global variable ‘x’
Undefined global functions or variables:
assays x
* checking Rd files ... NOTE
prepare_Rd: NBumi_FSOther.Rd:8-10: Dropping empty section \usage
prepare_Rd: NBumi_TradDE.Rd:7-8: Dropping empty section \usage
* checking Rd metadata ... OK
* checking Rd cross-references ... OK
* checking for missing documentation entries ... OK
* checking for code/documentation mismatches ... OK
* checking Rd \usage sections ... OK
* checking Rd contents ... OK
* checking for unstated dependencies in examples ... OK
* checking sizes of PDF files under ‘inst/doc’ ... OK
* checking files in ‘vignettes’ ... OK
* checking examples ... OK
Examples with CPU (user + system) or elapsed time > 5s
user system elapsed
NewSimulations 114.037 1.631 116.568
Imputation 40.965 0.273 41.525
M3D_getmarkers 37.473 0.587 38.374
M3D_ConverData 5.768 0.256 6.069
* checking for unstated dependencies in vignettes ... OK
* checking package vignettes ... OK
* checking running R code from vignettes ... SKIPPED
* checking re-building of vignette outputs ... SKIPPED
* checking PDF version of manual ... OK
* DONE
Status: 3 NOTEs
See
‘/Users/biocbuild/bbs-3.23-bioc/meat/M3Drop.Rcheck/00check.log’
for details.
M3Drop.Rcheck/00install.out
############################################################################## ############################################################################## ### ### Running command: ### ### /Library/Frameworks/R.framework/Resources/bin/R CMD INSTALL M3Drop ### ############################################################################## ############################################################################## * installing to library ‘/Library/Frameworks/R.framework/Versions/4.6-x86_64/Resources/library’ * installing *source* package ‘M3Drop’ ... ** this is package ‘M3Drop’ version ‘1.37.0’ ** using staged installation ** R ** inst ** byte-compile and prepare package for lazy loading ** help *** installing help indices ** building package indices ** installing vignettes ** testing if installed package can be loaded from temporary location ** testing if installed package can be loaded from final location ** testing if installed package keeps a record of temporary installation path * DONE (M3Drop)
M3Drop.Rcheck/M3Drop-Ex.timings
| name | user | system | elapsed | |
| Brennecke_getVariableGenes | 3.280 | 0.178 | 3.485 | |
| Consensus_FS | 0.279 | 0.013 | 0.294 | |
| Fitting_Dropout_Models | 0 | 0 | 0 | |
| Imputation | 40.965 | 0.273 | 41.525 | |
| M3D_Clean_Data | 1.997 | 0.108 | 2.119 | |
| M3D_ConverData | 5.768 | 0.256 | 6.069 | |
| M3D_Differential_Expression | 2.097 | 0.071 | 2.181 | |
| M3D_Dropout_Models | 1.026 | 0.076 | 1.112 | |
| M3D_Expression_Heatmap | 0.553 | 0.019 | 0.576 | |
| M3D_Get_Extremes | 2.187 | 0.126 | 2.332 | |
| M3D_Get_Heatmap_Cell_Clusters | 0.490 | 0.010 | 0.503 | |
| M3D_Simulations | 0.000 | 0.000 | 0.001 | |
| M3D_Test_Shift | 0.505 | 0.049 | 0.560 | |
| M3D_ThreeSet_Venn | 0.360 | 0.008 | 0.371 | |
| M3D_TraditionalDE | 0.017 | 0.001 | 0.017 | |
| M3D_getmarkers | 37.473 | 0.587 | 38.374 | |
| M3D_horz_res | 0.000 | 0.001 | 0.001 | |
| NBumi_CheckFit | 2.100 | 0.110 | 2.228 | |
| NBumi_CoExpression | 0.741 | 0.039 | 0.784 | |
| NBumi_CompareModels | 2.654 | 0.143 | 2.883 | |
| NBumi_ConvertToInteger | 0.001 | 0.000 | 0.001 | |
| NBumi_ConvrtData | 0.321 | 0.022 | 0.347 | |
| NBumi_FSDrop | 0.930 | 0.047 | 0.984 | |
| NBumi_FSHighVar | 0.743 | 0.046 | 0.797 | |
| NBumi_FSOther | 0.015 | 0.001 | 0.015 | |
| NBumi_FitDisp | 0 | 0 | 0 | |
| NBumi_FitDispVsMean | 1.200 | 0.031 | 1.242 | |
| NBumi_FitModel | 0.742 | 0.064 | 0.812 | |
| NBumi_HVG | 0.823 | 0.064 | 0.895 | |
| NBumi_PearsonResiduals | 0.759 | 0.039 | 0.805 | |
| NBumi_TradDE | 0.000 | 0.000 | 0.001 | |
| NewSimulations | 114.037 | 1.631 | 116.568 | |
| Other_FS | 1.152 | 0.018 | 1.179 | |
| PoissonUMIFeatureSelectionDropouts | 0.690 | 0.044 | 0.739 | |
| bg__fit_gamma | 0.000 | 0.000 | 0.001 | |
| bg__get_stats | 0 | 0 | 0 | |
| bg__mean2disp | 0.000 | 0.000 | 0.001 | |
| bg__shift_size | 0 | 0 | 0 | |
| bg__var_vs_drop | 0.000 | 0.001 | 0.001 | |