| Back to Multiple platform build/check report for BioC 3.23: simplified long |
|
This page was generated on 2025-11-27 11:39 -0500 (Thu, 27 Nov 2025).
| Hostname | OS | Arch (*) | R version | Installed pkgs |
|---|---|---|---|---|
| nebbiolo1 | Linux (Ubuntu 24.04.3 LTS) | x86_64 | R Under development (unstable) (2025-10-20 r88955) -- "Unsuffered Consequences" | 4865 |
| lconway | macOS 12.7.6 Monterey | x86_64 | R Under development (unstable) (2025-10-21 r88958) -- "Unsuffered Consequences" | 4614 |
| kjohnson3 | macOS 13.7.7 Ventura | arm64 | R Under development (unstable) (2025-11-04 r88984) -- "Unsuffered Consequences" | 4571 |
| Click on any hostname to see more info about the system (e.g. compilers) (*) as reported by 'uname -p', except on Windows and Mac OS X | ||||
| Package 1150/2328 | Hostname | OS / Arch | INSTALL | BUILD | CHECK | BUILD BIN | ||||||||
| LymphoSeq 1.39.0 (landing page) David Coffey
| nebbiolo1 | Linux (Ubuntu 24.04.3 LTS) / x86_64 | OK | OK | OK | |||||||||
| lconway | macOS 12.7.6 Monterey / x86_64 | OK | OK | OK | OK | |||||||||
| kjohnson3 | macOS 13.7.7 Ventura / arm64 | OK | OK | OK | OK | |||||||||
|
To the developers/maintainers of the LymphoSeq package: - Allow up to 24 hours (and sometimes 48 hours) for your latest push to git@git.bioconductor.org:packages/LymphoSeq.git to reflect on this report. See Troubleshooting Build Report for more information. - Use the following Renviron settings to reproduce errors and warnings. - If 'R CMD check' started to fail recently on the Linux builder(s) over a missing dependency, add the missing dependency to 'Suggests:' in your DESCRIPTION file. See Renviron.bioc for more information. |
| Package: LymphoSeq |
| Version: 1.39.0 |
| Command: /Library/Frameworks/R.framework/Resources/bin/R CMD check --install=check:LymphoSeq.install-out.txt --library=/Library/Frameworks/R.framework/Resources/library --no-vignettes --timings LymphoSeq_1.39.0.tar.gz |
| StartedAt: 2025-11-26 20:43:13 -0500 (Wed, 26 Nov 2025) |
| EndedAt: 2025-11-26 20:44:45 -0500 (Wed, 26 Nov 2025) |
| EllapsedTime: 92.4 seconds |
| RetCode: 0 |
| Status: OK |
| CheckDir: LymphoSeq.Rcheck |
| Warnings: 0 |
##############################################################################
##############################################################################
###
### Running command:
###
### /Library/Frameworks/R.framework/Resources/bin/R CMD check --install=check:LymphoSeq.install-out.txt --library=/Library/Frameworks/R.framework/Resources/library --no-vignettes --timings LymphoSeq_1.39.0.tar.gz
###
##############################################################################
##############################################################################
* using log directory ‘/Users/biocbuild/bbs-3.23-bioc/meat/LymphoSeq.Rcheck’
* using R Under development (unstable) (2025-11-04 r88984)
* using platform: aarch64-apple-darwin20
* R was compiled by
Apple clang version 16.0.0 (clang-1600.0.26.6)
GNU Fortran (GCC) 14.2.0
* running under: macOS Ventura 13.7.8
* using session charset: UTF-8
* using option ‘--no-vignettes’
* checking for file ‘LymphoSeq/DESCRIPTION’ ... OK
* this is package ‘LymphoSeq’ version ‘1.39.0’
* checking package namespace information ... OK
* checking package dependencies ... OK
* checking if this is a source package ... OK
* checking if there is a namespace ... OK
* checking for hidden files and directories ... OK
* checking for portable file names ... OK
* checking for sufficient/correct file permissions ... OK
* checking whether package ‘LymphoSeq’ can be installed ... OK
* checking installed package size ... INFO
installed size is 5.7Mb
sub-directories of 1Mb or more:
extdata 5.5Mb
* checking package directory ... OK
* checking ‘build’ directory ... OK
* checking DESCRIPTION meta-information ... OK
* checking top-level files ... OK
* checking for left-over files ... OK
* checking index information ... OK
* checking package subdirectories ... OK
* checking code files for non-ASCII characters ... OK
* checking R files for syntax errors ... OK
* checking whether the package can be loaded ... OK
* checking whether the package can be loaded with stated dependencies ... OK
* checking whether the package can be unloaded cleanly ... OK
* checking whether the namespace can be loaded with stated dependencies ... OK
* checking whether the namespace can be unloaded cleanly ... OK
* checking dependencies in R code ... OK
* checking S3 generic/method consistency ... OK
* checking replacement functions ... OK
* checking foreign function calls ... OK
* checking R code for possible problems ... OK
* checking Rd files ... OK
* checking Rd metadata ... OK
* checking Rd cross-references ... OK
* checking for missing documentation entries ... OK
* checking for code/documentation mismatches ... OK
* checking Rd \usage sections ... OK
* checking Rd contents ... OK
* checking for unstated dependencies in examples ... OK
* checking files in ‘vignettes’ ... OK
* checking examples ... OK
Examples with CPU (user + system) or elapsed time > 5s
user system elapsed
cloneTrack 13.629 0.248 14.621
productiveSeq 6.514 0.239 7.123
* checking for unstated dependencies in vignettes ... OK
* checking package vignettes ... OK
* checking running R code from vignettes ... SKIPPED
* checking re-building of vignette outputs ... SKIPPED
* checking PDF version of manual ... OK
* DONE
Status: OK
LymphoSeq.Rcheck/00install.out
############################################################################## ############################################################################## ### ### Running command: ### ### /Library/Frameworks/R.framework/Resources/bin/R CMD INSTALL LymphoSeq ### ############################################################################## ############################################################################## * installing to library ‘/Library/Frameworks/R.framework/Versions/4.6-arm64/Resources/library’ * installing *source* package ‘LymphoSeq’ ... ** this is package ‘LymphoSeq’ version ‘1.39.0’ ** using staged installation ** R ** inst ** byte-compile and prepare package for lazy loading ** help *** installing help indices ** building package indices ** installing vignettes ** testing if installed package can be loaded from temporary location ** testing if installed package can be loaded from final location ** testing if installed package keeps a record of temporary installation path * DONE (LymphoSeq)
LymphoSeq.Rcheck/LymphoSeq-Ex.timings
| name | user | system | elapsed | |
| alignSeq | 0.440 | 0.008 | 0.479 | |
| bhattacharyyaCoefficient | 0.126 | 0.006 | 0.199 | |
| bhattacharyyaMatrix | 0.267 | 0.003 | 0.284 | |
| chordDiagramVDJ | 0.258 | 0.015 | 0.283 | |
| clonalRelatedness | 0.709 | 0.004 | 0.742 | |
| clonality | 0.024 | 0.002 | 0.028 | |
| cloneTrack | 13.629 | 0.248 | 14.621 | |
| commonSeqs | 0.062 | 0.005 | 0.067 | |
| commonSeqsBar | 0.409 | 0.037 | 0.467 | |
| commonSeqsPlot | 0.591 | 0.016 | 0.657 | |
| commonSeqsVenn | 0.257 | 0.011 | 0.313 | |
| differentialAbundance | 0.533 | 0.014 | 0.593 | |
| exportFasta | 0.090 | 0.009 | 0.099 | |
| geneFreq | 0.798 | 0.032 | 0.901 | |
| lorenzCurve | 0.415 | 0.010 | 0.449 | |
| mergeFiles | 0.032 | 0.001 | 0.036 | |
| pairwisePlot | 0.342 | 0.003 | 0.358 | |
| phyloTree | 1.449 | 0.011 | 1.589 | |
| productive | 0.025 | 0.001 | 0.029 | |
| productiveSeq | 6.514 | 0.239 | 7.123 | |
| readImmunoSeq | 0.019 | 0.001 | 0.020 | |
| removeSeq | 0.025 | 0.002 | 0.030 | |
| searchPublished | 0.065 | 0.004 | 0.069 | |
| searchSeq | 0.155 | 0.003 | 0.166 | |
| seqMatrix | 1.114 | 0.083 | 1.283 | |
| similarityMatrix | 0.069 | 0.001 | 0.079 | |
| similarityScore | 0.060 | 0.002 | 0.068 | |
| topFreq | 0.497 | 0.036 | 0.564 | |
| topSeqs | 0.063 | 0.003 | 0.067 | |
| topSeqsPlot | 0.226 | 0.020 | 0.264 | |
| uniqueSeqs | 0.079 | 0.008 | 0.088 | |