| Back to Multiple platform build/check report for BioC 3.23: simplified long |
|
This page was generated on 2025-11-20 11:38 -0500 (Thu, 20 Nov 2025).
| Hostname | OS | Arch (*) | R version | Installed pkgs |
|---|---|---|---|---|
| nebbiolo1 | Linux (Ubuntu 24.04.3 LTS) | x86_64 | R Under development (unstable) (2025-10-20 r88955) -- "Unsuffered Consequences" | 4827 |
| lconway | macOS 12.7.6 Monterey | x86_64 | R Under development (unstable) (2025-10-21 r88958) -- "Unsuffered Consequences" | 4600 |
| kjohnson3 | macOS 13.7.7 Ventura | arm64 | R Under development (unstable) (2025-11-04 r88984) -- "Unsuffered Consequences" | 4564 |
| Click on any hostname to see more info about the system (e.g. compilers) (*) as reported by 'uname -p', except on Windows and Mac OS X | ||||
| Package 1104/2325 | Hostname | OS / Arch | INSTALL | BUILD | CHECK | BUILD BIN | ||||||||
| KnowSeq 1.25.0 (landing page) Daniel Castillo-Secilla
| nebbiolo1 | Linux (Ubuntu 24.04.3 LTS) / x86_64 | OK | OK | OK | |||||||||
| lconway | macOS 12.7.6 Monterey / x86_64 | OK | OK | OK | OK | |||||||||
| kjohnson3 | macOS 13.7.7 Ventura / arm64 | OK | OK | OK | OK | |||||||||
|
To the developers/maintainers of the KnowSeq package: - Allow up to 24 hours (and sometimes 48 hours) for your latest push to git@git.bioconductor.org:packages/KnowSeq.git to reflect on this report. See Troubleshooting Build Report for more information. - Use the following Renviron settings to reproduce errors and warnings. - If 'R CMD check' started to fail recently on the Linux builder(s) over a missing dependency, add the missing dependency to 'Suggests:' in your DESCRIPTION file. See Renviron.bioc for more information. |
| Package: KnowSeq |
| Version: 1.25.0 |
| Command: /Library/Frameworks/R.framework/Resources/bin/R CMD check --install=check:KnowSeq.install-out.txt --library=/Library/Frameworks/R.framework/Resources/library --no-vignettes --timings KnowSeq_1.25.0.tar.gz |
| StartedAt: 2025-11-19 22:00:17 -0500 (Wed, 19 Nov 2025) |
| EndedAt: 2025-11-19 22:06:01 -0500 (Wed, 19 Nov 2025) |
| EllapsedTime: 344.0 seconds |
| RetCode: 0 |
| Status: OK |
| CheckDir: KnowSeq.Rcheck |
| Warnings: 0 |
##############################################################################
##############################################################################
###
### Running command:
###
### /Library/Frameworks/R.framework/Resources/bin/R CMD check --install=check:KnowSeq.install-out.txt --library=/Library/Frameworks/R.framework/Resources/library --no-vignettes --timings KnowSeq_1.25.0.tar.gz
###
##############################################################################
##############################################################################
* using log directory ‘/Users/biocbuild/bbs-3.23-bioc/meat/KnowSeq.Rcheck’
* using R Under development (unstable) (2025-10-21 r88958)
* using platform: x86_64-apple-darwin20
* R was compiled by
Apple clang version 14.0.0 (clang-1400.0.29.202)
GNU Fortran (GCC) 14.2.0
* running under: macOS Ventura 13.7.8
* using session charset: UTF-8
* using option ‘--no-vignettes’
* checking for file ‘KnowSeq/DESCRIPTION’ ... OK
* checking extension type ... Package
* this is package ‘KnowSeq’ version ‘1.25.0’
* package encoding: UTF-8
* checking package namespace information ... OK
* checking package dependencies ... OK
* checking if this is a source package ... OK
* checking if there is a namespace ... OK
* checking for hidden files and directories ... OK
* checking for portable file names ... OK
* checking for sufficient/correct file permissions ... OK
* checking whether package ‘KnowSeq’ can be installed ... OK
* checking installed package size ... INFO
installed size is 7.2Mb
sub-directories of 1Mb or more:
extdata 6.9Mb
* checking package directory ... OK
* checking ‘build’ directory ... OK
* checking DESCRIPTION meta-information ... OK
* checking top-level files ... OK
* checking for left-over files ... OK
* checking index information ... OK
* checking package subdirectories ... OK
* checking code files for non-ASCII characters ... OK
* checking R files for syntax errors ... OK
* checking whether the package can be loaded ... OK
* checking whether the package can be loaded with stated dependencies ... OK
* checking whether the package can be unloaded cleanly ... OK
* checking whether the namespace can be loaded with stated dependencies ... OK
* checking whether the namespace can be unloaded cleanly ... OK
* checking dependencies in R code ... OK
* checking S3 generic/method consistency ... OK
* checking replacement functions ... OK
* checking foreign function calls ... OK
* checking R code for possible problems ... NOTE
DEGsExtraction: warning in topTable(fit, number = number, coef = 2,
sort.by = "logFC", p.value = pvalue, adjust = "fdr", lfc = lfc):
partial argument match of 'adjust' to 'adjust.method'
RNAseqQA : outlierBarPlot: no visible binding for global variable ‘x’
RNAseqQA : outlierBarPlot: no visible binding for global variable ‘y’
RNAseqQA: no visible binding for global variable ‘Var1’
RNAseqQA: no visible binding for global variable ‘Var2’
RNAseqQA: no visible binding for global variable ‘value’
RNAseqQA: no visible binding for global variable ‘Expression’
RNAseqQA: no visible binding for global variable ‘Samples’
dataPlot: no visible binding for global variable ‘Var1’
dataPlot: no visible binding for global variable ‘Var2’
dataPlot: no visible binding for global variable ‘value’
dataPlot: no visible binding for global variable ‘Classes’
dataPlot: no visible binding for global variable ‘Value’
knn_trn: no visible global function definition for ‘knn.cv’
knowseqReport: no visible binding for global variable ‘target’
Undefined global functions or variables:
Classes Expression Samples Value Var1 Var2 knn.cv target value x y
* checking Rd files ... OK
* checking Rd metadata ... OK
* checking Rd cross-references ... OK
* checking for missing documentation entries ... OK
* checking for code/documentation mismatches ... OK
* checking Rd \usage sections ... OK
* checking Rd contents ... OK
* checking for unstated dependencies in examples ... OK
* checking files in ‘vignettes’ ... OK
* checking examples ... OK
Examples with CPU (user + system) or elapsed time > 5s
user system elapsed
dataPlot 22.151 0.242 22.562
rf_trn 17.978 0.472 18.580
svm_trn 17.427 0.140 17.699
svm_test 16.755 0.172 17.085
downloadPublicSeries 0.782 0.112 14.726
DEGsEvidences 0.462 0.023 8.791
* checking for unstated dependencies in vignettes ... OK
* checking package vignettes ... OK
* checking running R code from vignettes ... SKIPPED
* checking re-building of vignette outputs ... SKIPPED
* checking PDF version of manual ... OK
* DONE
Status: 1 NOTE
See
‘/Users/biocbuild/bbs-3.23-bioc/meat/KnowSeq.Rcheck/00check.log’
for details.
KnowSeq.Rcheck/00install.out
############################################################################## ############################################################################## ### ### Running command: ### ### /Library/Frameworks/R.framework/Resources/bin/R CMD INSTALL KnowSeq ### ############################################################################## ############################################################################## * installing to library ‘/Library/Frameworks/R.framework/Versions/4.6-x86_64/Resources/library’ * installing *source* package ‘KnowSeq’ ... ** this is package ‘KnowSeq’ version ‘1.25.0’ ** using staged installation ** R ** inst ** byte-compile and prepare package for lazy loading ** help *** installing help indices ** building package indices ** installing vignettes ** testing if installed package can be loaded from temporary location ** testing if installed package can be loaded from final location ** testing if installed package keeps a record of temporary installation path * DONE (KnowSeq)
KnowSeq.Rcheck/KnowSeq-Ex.timings
| name | user | system | elapsed | |
| DEGsEvidences | 0.462 | 0.023 | 8.791 | |
| DEGsExtraction | 1.397 | 0.042 | 1.449 | |
| DEGsToDiseases | 0.281 | 0.009 | 0.490 | |
| DEGsToPathways | 0.330 | 0.008 | 0.339 | |
| RNAseqQA | 2.868 | 0.117 | 3.008 | |
| batchEffectRemoval | 2.838 | 0.030 | 2.889 | |
| calculateGeneExpressionValues | 0.632 | 0.022 | 0.660 | |
| countsToMatrix | 0.051 | 0.008 | 0.061 | |
| dataPlot | 22.151 | 0.242 | 22.562 | |
| downloadPublicSeries | 0.782 | 0.112 | 14.726 | |
| featureSelection | 0.010 | 0.003 | 0.014 | |
| fileMove | 0 | 0 | 0 | |
| gdcClientDownload | 0.000 | 0.000 | 0.001 | |
| geneOntologyEnrichment | 0.001 | 0.000 | 0.000 | |
| getGenesAnnotation | 0.258 | 0.006 | 0.265 | |
| hisatAlignment | 0.002 | 0.001 | 0.003 | |
| knn_test | 0.049 | 0.002 | 0.053 | |
| knn_trn | 1.653 | 0.021 | 1.686 | |
| knowseqReport | 0.006 | 0.001 | 0.007 | |
| plotConfMatrix | 0.021 | 0.002 | 0.024 | |
| rawAlignment | 0.002 | 0.000 | 0.003 | |
| rf_test | 4.579 | 0.139 | 4.772 | |
| rf_trn | 17.978 | 0.472 | 18.580 | |
| sraToFastq | 0 | 0 | 0 | |
| svm_test | 16.755 | 0.172 | 17.085 | |
| svm_trn | 17.427 | 0.140 | 17.699 | |