Back to Multiple platform build/check report for BioC 3.23:   simplified   long
ABCDEFGH[I]JKLMNOPQRSTUVWXYZ

This page was generated on 2025-11-18 11:39 -0500 (Tue, 18 Nov 2025).

HostnameOSArch (*)R versionInstalled pkgs
nebbiolo1Linux (Ubuntu 24.04.3 LTS)x86_64R Under development (unstable) (2025-10-20 r88955) -- "Unsuffered Consequences" 4826
lconwaymacOS 12.7.6 Montereyx86_64R Under development (unstable) (2025-10-21 r88958) -- "Unsuffered Consequences" 4561
kjohnson3macOS 13.7.7 Venturaarm64R Under development (unstable) (2025-11-04 r88984) -- "Unsuffered Consequences" 4562
Click on any hostname to see more info about the system (e.g. compilers)      (*) as reported by 'uname -p', except on Windows and Mac OS X

Package 1064/2325HostnameOS / ArchINSTALLBUILDCHECKBUILD BIN
ISAnalytics 1.21.0  (landing page)
Francesco Gazzo
Snapshot Date: 2025-11-17 13:40 -0500 (Mon, 17 Nov 2025)
git_url: https://git.bioconductor.org/packages/ISAnalytics
git_branch: devel
git_last_commit: e37fd79
git_last_commit_date: 2025-10-29 11:01:52 -0500 (Wed, 29 Oct 2025)
nebbiolo1Linux (Ubuntu 24.04.3 LTS) / x86_64  OK    OK    OK  UNNEEDED, same version is already published
lconwaymacOS 12.7.6 Monterey / x86_64  OK    OK    OK    OK  UNNEEDED, same version is already published
kjohnson3macOS 13.7.7 Ventura / arm64  OK    OK    OK    OK  UNNEEDED, same version is already published


CHECK results for ISAnalytics on lconway

To the developers/maintainers of the ISAnalytics package:
- Allow up to 24 hours (and sometimes 48 hours) for your latest push to git@git.bioconductor.org:packages/ISAnalytics.git to reflect on this report. See Troubleshooting Build Report for more information.
- Use the following Renviron settings to reproduce errors and warnings.
- If 'R CMD check' started to fail recently on the Linux builder(s) over a missing dependency, add the missing dependency to 'Suggests:' in your DESCRIPTION file. See Renviron.bioc for more information.

raw results


Summary

Package: ISAnalytics
Version: 1.21.0
Command: /Library/Frameworks/R.framework/Resources/bin/R CMD check --install=check:ISAnalytics.install-out.txt --library=/Library/Frameworks/R.framework/Resources/library --no-vignettes --timings ISAnalytics_1.21.0.tar.gz
StartedAt: 2025-11-18 03:00:24 -0500 (Tue, 18 Nov 2025)
EndedAt: 2025-11-18 03:10:54 -0500 (Tue, 18 Nov 2025)
EllapsedTime: 630.5 seconds
RetCode: 0
Status:   OK  
CheckDir: ISAnalytics.Rcheck
Warnings: 0

Command output

##############################################################################
##############################################################################
###
### Running command:
###
###   /Library/Frameworks/R.framework/Resources/bin/R CMD check --install=check:ISAnalytics.install-out.txt --library=/Library/Frameworks/R.framework/Resources/library --no-vignettes --timings ISAnalytics_1.21.0.tar.gz
###
##############################################################################
##############################################################################


* using log directory ‘/Users/biocbuild/bbs-3.23-bioc/meat/ISAnalytics.Rcheck’
* using R Under development (unstable) (2025-10-21 r88958)
* using platform: x86_64-apple-darwin20
* R was compiled by
    Apple clang version 14.0.0 (clang-1400.0.29.202)
    GNU Fortran (GCC) 14.2.0
* running under: macOS Ventura 13.7.8
* using session charset: UTF-8
* using option ‘--no-vignettes’
* checking for file ‘ISAnalytics/DESCRIPTION’ ... OK
* this is package ‘ISAnalytics’ version ‘1.21.0’
* package encoding: UTF-8
* checking package namespace information ... OK
* checking package dependencies ... INFO
Imports includes 22 non-default packages.
Importing from so many packages makes the package vulnerable to any of
them becoming unavailable.  Move as many as possible to Suggests and
use conditionally.
* checking if this is a source package ... OK
* checking if there is a namespace ... OK
* checking for hidden files and directories ... OK
* checking for portable file names ... OK
* checking for sufficient/correct file permissions ... OK
* checking whether package ‘ISAnalytics’ can be installed ... OK
* checking installed package size ... INFO
  installed size is  8.3Mb
  sub-directories of 1Mb or more:
    data   5.8Mb
* checking package directory ... OK
* checking ‘build’ directory ... OK
* checking DESCRIPTION meta-information ... OK
* checking top-level files ... OK
* checking for left-over files ... OK
* checking index information ... OK
* checking package subdirectories ... OK
* checking code files for non-ASCII characters ... OK
* checking R files for syntax errors ... OK
* checking whether the package can be loaded ... OK
* checking whether the package can be loaded with stated dependencies ... OK
* checking whether the package can be unloaded cleanly ... OK
* checking whether the namespace can be loaded with stated dependencies ... OK
* checking whether the namespace can be unloaded cleanly ... OK
* checking whether startup messages can be suppressed ... OK
* checking dependencies in R code ... OK
* checking S3 generic/method consistency ... OK
* checking replacement functions ... OK
* checking foreign function calls ... OK
* checking R code for possible problems ... OK
* checking Rd files ... NOTE
checkRd: (-1) refGenes_hg19.Rd:21: Lost braces; missing escapes or markup?
    21 | \item Download from {http://hgdownload.soe.ucsc.edu/goldenPath/hg19/database/}
       |                     ^
* checking Rd metadata ... OK
* checking Rd cross-references ... OK
* checking for missing documentation entries ... OK
* checking for code/documentation mismatches ... OK
* checking Rd \usage sections ... OK
* checking Rd contents ... OK
* checking for unstated dependencies in examples ... OK
* checking contents of ‘data’ directory ... OK
* checking data for non-ASCII characters ... OK
* checking data for ASCII and uncompressed saves ... OK
* checking files in ‘vignettes’ ... OK
* checking examples ... OK
Examples with CPU (user + system) or elapsed time > 5s
                                user system elapsed
integration_alluvial_plot      3.129  0.123  10.037
import_parallel_Vispa2Matrices 2.422  0.154  16.579
sharing_venn                   1.788  0.118  28.934
CIS_grubbs_overtime            1.648  0.219   8.049
import_Vispa2_stats            1.490  0.134   7.802
sharing_heatmap                1.577  0.045   9.522
top_cis_overtime_heatmap       1.496  0.076   8.664
is_sharing                     1.167  0.053   8.725
iss_source                     1.171  0.028   8.721
HSC_population_plot            1.099  0.036   6.564
realign_after_collisions       1.052  0.042   6.757
remove_collisions              0.975  0.023   6.527
compute_near_integrations      0.830  0.038  10.346
HSC_population_size_estimate   0.814  0.028   6.074
* checking for unstated dependencies in ‘tests’ ... OK
* checking tests ...
  Running ‘testthat.R’
 OK
* checking for unstated dependencies in vignettes ... OK
* checking package vignettes ... OK
* checking running R code from vignettes ... SKIPPED
* checking re-building of vignette outputs ... SKIPPED
* checking PDF version of manual ... OK
* DONE

Status: 1 NOTE
See
  ‘/Users/biocbuild/bbs-3.23-bioc/meat/ISAnalytics.Rcheck/00check.log’
for details.


Installation output

ISAnalytics.Rcheck/00install.out

##############################################################################
##############################################################################
###
### Running command:
###
###   /Library/Frameworks/R.framework/Resources/bin/R CMD INSTALL ISAnalytics
###
##############################################################################
##############################################################################


* installing to library ‘/Library/Frameworks/R.framework/Versions/4.6-x86_64/Resources/library’
* installing *source* package ‘ISAnalytics’ ...
** this is package ‘ISAnalytics’ version ‘1.21.0’
** using staged installation
** R
** data
** inst
** byte-compile and prepare package for lazy loading
** help
*** installing help indices
*** copying figures
** building package indices
** installing vignettes
** testing if installed package can be loaded from temporary location
** testing if installed package can be loaded from final location
** testing if installed package keeps a record of temporary installation path
* DONE (ISAnalytics)

Tests output

ISAnalytics.Rcheck/tests/testthat.Rout


R Under development (unstable) (2025-10-21 r88958) -- "Unsuffered Consequences"
Copyright (C) 2025 The R Foundation for Statistical Computing
Platform: x86_64-apple-darwin20

R is free software and comes with ABSOLUTELY NO WARRANTY.
You are welcome to redistribute it under certain conditions.
Type 'license()' or 'licence()' for distribution details.

R is a collaborative project with many contributors.
Type 'contributors()' for more information and
'citation()' on how to cite R or R packages in publications.

Type 'demo()' for some demos, 'help()' for on-line help, or
'help.start()' for an HTML browser interface to help.
Type 'q()' to quit R.

> library(testthat)
> library(ISAnalytics)
> 
> test_check("ISAnalytics")
Loading required namespace: plotly
Loading required namespace: rmarkdown
2025-11-18 03:07:00.299 R[16448:20778791] XType: Using static font registry.
Report correctly saved
i Report saved to: /tmp/RtmpqiJ4rW/file404069ba361c/2025-11-18_collision_removal_report.html
Report correctly saved
i Report saved to: /tmp/RtmpqiJ4rW/file404046c48a5c/2025-11-18_outlier_test_pool_fragments_report.html
[ FAIL 0 | WARN 0 | SKIP 0 | PASS 834 ]
> 
> proc.time()
   user  system elapsed 
 84.346   4.668 284.580 

Example timings

ISAnalytics.Rcheck/ISAnalytics-Ex.timings

nameusersystemelapsed
CIS_grubbs0.7200.0370.759
CIS_grubbs_overtime1.6480.2198.049
CIS_volcano_plot1.3600.0421.411
HSC_population_plot1.0990.0366.564
HSC_population_size_estimate0.8140.0286.074
NGSdataExplorer000
aggregate_metadata0.0890.0020.090
aggregate_values_by_key0.0550.0030.058
annotation_issues0.0230.0020.025
as_sparse_matrix0.0530.0020.057
available_outlier_tests0.0000.0000.001
available_tags0.0210.0020.022
blood_lineages_default0.0270.0010.028
circos_genomic_density000
clinical_relevant_suspicious_genes0.0110.0000.011
comparison_matrix0.0250.0010.025
compute_abundance0.0320.0020.034
compute_near_integrations 0.830 0.03810.346
cumulative_count_union000
cumulative_is0.1380.0030.142
date_formats000
default_af_transform000
default_iss_file_prefixes0.0000.0010.000
default_meta_agg0.0150.0010.016
default_rec_agg_lambdas000
default_report_path0.0060.0010.007
default_stats1.0750.0381.127
enable_progress_bars0.0130.0020.016
export_ISA_settings0.0700.0040.075
fisher_scatterplot1.1180.0541.180
gene_frequency_fisher0.7220.0130.742
generate_Vispa2_launch_AF0.2070.0220.238
generate_blank_association_file0.0100.0010.011
generate_default_folder_structure0.3430.0760.372
import_ISA_settings0.0570.0050.062
import_Vispa2_stats1.4900.1347.802
import_association_file0.5420.1090.581
import_parallel_Vispa2Matrices 2.422 0.15416.579
import_single_Vispa2Matrix0.8060.1200.874
inspect_tags0.0110.0000.012
integration_alluvial_plot 3.129 0.12310.037
is_sharing1.1670.0538.725
iss_source1.1710.0288.721
known_clinical_oncogenes0.0090.0000.009
mandatory_IS_vars0.0770.0030.080
matching_options0.0000.0010.000
outlier_filter0.1290.0080.137
outliers_by_pool_fragments0.1310.0060.137
pcr_id_column0.0150.0000.016
purity_filter0.2890.0060.297
quantification_types000
realign_after_collisions1.0520.0426.757
reduced_AF_columns0.0350.0000.035
refGene_table_cols000
remove_collisions0.9750.0236.527
reset_mandatory_IS_vars0.0050.0000.004
sample_statistics0.2530.0290.283
separate_quant_matrices0.0120.0010.014
set_mandatory_IS_vars0.0720.0020.074
set_matrix_file_suffixes0.0170.0010.016
sharing_heatmap1.5770.0459.522
sharing_venn 1.788 0.11828.934
threshold_filter0.0000.0000.001
top_abund_tableGrob0.4780.0070.488
top_cis_overtime_heatmap1.4960.0768.664
top_integrations0.0240.0000.023
top_targeted_genes0.3660.0090.376
transform_columns0.0160.0000.017