Back to Multiple platform build/check report for BioC 3.23:   simplified   long
ABCDEFGH[I]JKLMNOPQRSTUVWXYZ

This page was generated on 2025-11-20 11:39 -0500 (Thu, 20 Nov 2025).

HostnameOSArch (*)R versionInstalled pkgs
nebbiolo1Linux (Ubuntu 24.04.3 LTS)x86_64R Under development (unstable) (2025-10-20 r88955) -- "Unsuffered Consequences" 4827
lconwaymacOS 12.7.6 Montereyx86_64R Under development (unstable) (2025-10-21 r88958) -- "Unsuffered Consequences" 4600
kjohnson3macOS 13.7.7 Venturaarm64R Under development (unstable) (2025-11-04 r88984) -- "Unsuffered Consequences" 4564
Click on any hostname to see more info about the system (e.g. compilers)      (*) as reported by 'uname -p', except on Windows and Mac OS X

Package 1049/2325HostnameOS / ArchINSTALLBUILDCHECKBUILD BIN
INSPEcT 1.41.0  (landing page)
Stefano de Pretis
Snapshot Date: 2025-11-19 13:40 -0500 (Wed, 19 Nov 2025)
git_url: https://git.bioconductor.org/packages/INSPEcT
git_branch: devel
git_last_commit: 54a4fbd
git_last_commit_date: 2025-10-29 10:26:37 -0500 (Wed, 29 Oct 2025)
nebbiolo1Linux (Ubuntu 24.04.3 LTS) / x86_64  OK    OK    OK  UNNEEDED, same version is already published
lconwaymacOS 12.7.6 Monterey / x86_64  OK    OK    OK    OK  NO, package depends on 'GenomicRanges' which is only available as a source package that needs compilation
kjohnson3macOS 13.7.7 Ventura / arm64  OK    OK    OK    OK  NO, package depends on 'GenomicRanges' which is only available as a source package that needs compilation


CHECK results for INSPEcT on kjohnson3

To the developers/maintainers of the INSPEcT package:
- Allow up to 24 hours (and sometimes 48 hours) for your latest push to git@git.bioconductor.org:packages/INSPEcT.git to reflect on this report. See Troubleshooting Build Report for more information.
- Use the following Renviron settings to reproduce errors and warnings.
- If 'R CMD check' started to fail recently on the Linux builder(s) over a missing dependency, add the missing dependency to 'Suggests:' in your DESCRIPTION file. See Renviron.bioc for more information.

raw results


Summary

Package: INSPEcT
Version: 1.41.0
Command: /Library/Frameworks/R.framework/Resources/bin/R CMD check --install=check:INSPEcT.install-out.txt --library=/Library/Frameworks/R.framework/Resources/library --no-vignettes --timings INSPEcT_1.41.0.tar.gz
StartedAt: 2025-11-19 20:31:35 -0500 (Wed, 19 Nov 2025)
EndedAt: 2025-11-19 20:36:35 -0500 (Wed, 19 Nov 2025)
EllapsedTime: 299.5 seconds
RetCode: 0
Status:   OK  
CheckDir: INSPEcT.Rcheck
Warnings: 0

Command output

##############################################################################
##############################################################################
###
### Running command:
###
###   /Library/Frameworks/R.framework/Resources/bin/R CMD check --install=check:INSPEcT.install-out.txt --library=/Library/Frameworks/R.framework/Resources/library --no-vignettes --timings INSPEcT_1.41.0.tar.gz
###
##############################################################################
##############################################################################


* using log directory ‘/Users/biocbuild/bbs-3.23-bioc/meat/INSPEcT.Rcheck’
* using R Under development (unstable) (2025-11-04 r88984)
* using platform: aarch64-apple-darwin20
* R was compiled by
    Apple clang version 16.0.0 (clang-1600.0.26.6)
    GNU Fortran (GCC) 14.2.0
* running under: macOS Ventura 13.7.8
* using session charset: UTF-8
* using option ‘--no-vignettes’
* checking for file ‘INSPEcT/DESCRIPTION’ ... OK
* checking extension type ... Package
* this is package ‘INSPEcT’ version ‘1.41.0’
* checking package namespace information ... OK
* checking package dependencies ... OK
* checking if this is a source package ... OK
* checking if there is a namespace ... OK
* checking for hidden files and directories ... OK
* checking for portable file names ... OK
* checking for sufficient/correct file permissions ... OK
* checking whether package ‘INSPEcT’ can be installed ... OK
* checking installed package size ... INFO
  installed size is  7.1Mb
  sub-directories of 1Mb or more:
    R      1.8Mb
    data   2.8Mb
* checking package directory ... OK
* checking ‘build’ directory ... OK
* checking DESCRIPTION meta-information ... OK
* checking top-level files ... OK
* checking for left-over files ... OK
* checking index information ... OK
* checking package subdirectories ... OK
* checking code files for non-ASCII characters ... OK
* checking R files for syntax errors ... OK
* checking whether the package can be loaded ... OK
* checking whether the package can be loaded with stated dependencies ... OK
* checking whether the package can be unloaded cleanly ... OK
* checking whether the namespace can be loaded with stated dependencies ... OK
* checking whether the namespace can be unloaded cleanly ... OK
* checking dependencies in R code ... OK
* checking S3 generic/method consistency ... OK
* checking replacement functions ... OK
* checking foreign function calls ... OK
* checking R code for possible problems ... NOTE
output_pars: no visible global function definition for ‘plot.new’
plotSingleRNADynamic: no visible global function definition for ‘lines’
Undefined global functions or variables:
  lines plot.new
Consider adding
  importFrom("graphics", "lines", "plot.new")
to your NAMESPACE file.
* checking Rd files ... OK
* checking Rd metadata ... OK
* checking Rd cross-references ... NOTE
Found the following Rd file(s) with Rd \link{} targets missing package
anchors:
  INSPEcT-class.Rd: featureNames
Please provide package anchors for all Rd \link{} targets not in the
package itself and the base packages.
* checking for missing documentation entries ... OK
* checking for code/documentation mismatches ... OK
* checking Rd \usage sections ... OK
* checking Rd contents ... OK
* checking for unstated dependencies in examples ... OK
* checking contents of ‘data’ directory ... OK
* checking data for non-ASCII characters ... OK
* checking data for ASCII and uncompressed saves ... OK
* checking files in ‘vignettes’ ... OK
* checking examples ... OK
Examples with CPU (user + system) or elapsed time > 5s
                                  user system elapsed
makeSimDataset                  28.719  0.145  29.927
quantifyExpressionsFromBAMs     13.429  4.049  18.515
INSPEcT_diffsteady-class        11.226  0.100  11.628
makeSimModel                    10.002  0.055  10.245
rocThresholds                    9.903  0.036  10.092
rocCurve                         9.775  0.072  10.007
compareSteady                    9.143  0.060   9.512
plotMA                           9.024  0.051   9.419
modelRates                       6.583  0.016   6.692
quantifyExpressionsFromTrCounts  5.907  0.053   6.210
newINSPEcT                       5.562  0.020   5.722
* checking for unstated dependencies in vignettes ... OK
* checking package vignettes ... OK
* checking running R code from vignettes ... SKIPPED
* checking re-building of vignette outputs ... SKIPPED
* checking PDF version of manual ... OK
* DONE

Status: 2 NOTEs
See
  ‘/Users/biocbuild/bbs-3.23-bioc/meat/INSPEcT.Rcheck/00check.log’
for details.


Installation output

INSPEcT.Rcheck/00install.out

##############################################################################
##############################################################################
###
### Running command:
###
###   /Library/Frameworks/R.framework/Resources/bin/R CMD INSTALL INSPEcT
###
##############################################################################
##############################################################################


* installing to library ‘/Library/Frameworks/R.framework/Versions/4.6-arm64/Resources/library’
* installing *source* package ‘INSPEcT’ ...
** this is package ‘INSPEcT’ version ‘1.41.0’
** using staged installation
** R
** data
** inst
** byte-compile and prepare package for lazy loading
** help
*** installing help indices
** building package indices
** installing vignettes
** testing if installed package can be loaded from temporary location
** testing if installed package can be loaded from final location
** testing if installed package keeps a record of temporary installation path
* DONE (INSPEcT)

Tests output


Example timings

INSPEcT.Rcheck/INSPEcT-Ex.timings

nameusersystemelapsed
AIC-INSPEcT-method0.0810.0030.083
Extract0.1620.0020.170
INSPEcT_diffsteady-class11.226 0.10011.628
calculateRatePvals0.1020.0020.105
chisqmodel0.0930.0020.098
chisqtest0.0950.0020.103
combine0.1420.0030.146
compareSteady9.1430.0609.512
compareSteadyNoNascent1.9160.0112.037
convergence0.0820.0020.088
geneClass0.1030.0020.104
inHeatmap0.1010.0020.104
inspectFromPCR1.3140.0101.352
labeledSF0.0990.0010.100
logLik0.0890.0020.090
makeModelRates0.0980.0020.100
makeOscillatorySimModel2.2490.0142.333
makeSimDataset28.719 0.14529.927
makeSimModel10.002 0.05510.245
modelRates6.5830.0166.692
modelRatesNF0.5520.0070.578
modelSelection0.0810.0010.090
modelingParams0.0890.0020.092
nGenes0.0990.0010.103
nTpts0.1170.0040.124
newINSPEcT5.5620.0205.722
plotGene0.0990.0020.101
plotMA9.0240.0519.419
processingDelay4.6810.0164.978
quantifyExpressionsFromBAMs13.429 4.04918.515
quantifyExpressionsFromTrCounts5.9070.0536.210
ratePvals0.0860.0010.088
ratesFirstGuess0.0820.0040.086
ratesFirstGuessVar0.0860.0020.088
removeModel0.1180.0010.118
rocCurve 9.775 0.07210.007
rocThresholds 9.903 0.03610.092
split0.1100.0010.115
tpts0.0830.0020.085
viewConfidenceIntervals0.0810.0030.083
viewModelRates0.0910.0020.094