Back to Multiple platform build/check report for BioC 3.23:   simplified   long
ABCDEFG[H]IJKLMNOPQRSTUVWXYZ

This page was generated on 2025-11-19 10:13 -0500 (Wed, 19 Nov 2025).

HostnameOSArch (*)R versionInstalled pkgs
nebbiolo1Linux (Ubuntu 24.04.3 LTS)x86_64R Under development (unstable) (2025-10-20 r88955) -- "Unsuffered Consequences" 4827
lconwaymacOS 12.7.6 Montereyx86_64R Under development (unstable) (2025-10-21 r88958) -- "Unsuffered Consequences" 4600
kjohnson3macOS 13.7.7 Venturaarm64R Under development (unstable) (2025-11-04 r88984) -- "Unsuffered Consequences" 4564
Click on any hostname to see more info about the system (e.g. compilers)      (*) as reported by 'uname -p', except on Windows and Mac OS X

Package 957/2325HostnameOS / ArchINSTALLBUILDCHECKBUILD BIN
HEM 1.83.0  (landing page)
HyungJun Cho
Snapshot Date: 2025-11-18 13:40 -0500 (Tue, 18 Nov 2025)
git_url: https://git.bioconductor.org/packages/HEM
git_branch: devel
git_last_commit: f81d7e9
git_last_commit_date: 2025-10-29 09:55:07 -0500 (Wed, 29 Oct 2025)
nebbiolo1Linux (Ubuntu 24.04.3 LTS) / x86_64  OK    OK    OK  UNNEEDED, same version is already published
lconwaymacOS 12.7.6 Monterey / x86_64  OK    OK    WARNINGS    OK  UNNEEDED, same version is already published
kjohnson3macOS 13.7.7 Ventura / arm64  ERROR    ERROR  skippedskipped


BUILD BIN results for HEM on lconway

To the developers/maintainers of the HEM package:
- Allow up to 24 hours (and sometimes 48 hours) for your latest push to git@git.bioconductor.org:packages/HEM.git to reflect on this report. See Troubleshooting Build Report for more information.
- Use the following Renviron settings to reproduce errors and warnings.
- If 'R CMD check' started to fail recently on the Linux builder(s) over a missing dependency, add the missing dependency to 'Suggests:' in your DESCRIPTION file. See Renviron.bioc for more information.

raw results


Summary

Package: HEM
Version: 1.83.0
Command: rm -rf HEM.buildbin-libdir && mkdir HEM.buildbin-libdir && /Users/biocbuild/BBS/utils/build-universal.sh HEM_1.83.0.tar.gz /Library/Frameworks/R.framework/Resources/bin/R HEM.buildbin-libdir
StartedAt: 2025-11-19 01:32:53 -0500 (Wed, 19 Nov 2025)
EndedAt: 2025-11-19 01:33:06 -0500 (Wed, 19 Nov 2025)
EllapsedTime: 12.7 seconds
RetCode: 0
Status:   OK  
PackageFile: HEM_1.83.0.tgz
PackageFileSize: 717.2 KiB

Command output

##############################################################################
##############################################################################
###
### Running command:
###
###   rm -rf HEM.buildbin-libdir && mkdir HEM.buildbin-libdir && /Users/biocbuild/BBS/utils/build-universal.sh HEM_1.83.0.tar.gz /Library/Frameworks/R.framework/Resources/bin/R HEM.buildbin-libdir
###
##############################################################################
##############################################################################


>>>>>>> 
>>>>>>> INSTALLATION WITH 'R CMD INSTALL --preclean --no-multiarch --library=HEM.buildbin-libdir HEM_1.83.0.tar.gz'
>>>>>>> 

* installing *source* package ‘HEM’ ...
** this is package ‘HEM’ version ‘1.83.0’
** using staged installation
** libs
using C compiler: ‘Apple clang version 14.0.3 (clang-1403.0.22.14.1)’
using SDK: ‘MacOSX11.3.1.sdk’
clang -arch x86_64 -I"/Library/Frameworks/R.framework/Resources/include" -DNDEBUG   -I/opt/R/x86_64/include    -fPIC  -falign-functions=64 -Wall -g -O2  -c hem.c -o hem.o
In file included from hem.c:17:
./random4f.h:126:8: warning: a function declaration without a prototype is deprecated in all versions of C and is not supported in C2x [-Wdeprecated-non-prototype]
double gammadist(alpha)
       ^
hem.c:980:44: warning: variable 'raccept' set but not used [-Wunused-but-set-variable]
        double temp, temp2, MHratio, U, old, new, raccept;
                                                  ^
hem.c:1079:44: warning: variable 'raccept' set but not used [-Wunused-but-set-variable]
        double temp, temp2, MHratio, U, old, new, raccept;
                                                  ^
hem.c:1390:12: warning: variable 'k' set but not used [-Wunused-but-set-variable]
        int i, j, k, m, n;
                  ^
hem.c:1593:16: warning: variable 'l' set but not used [-Wunused-but-set-variable]
  int i, j, k, l;
               ^
5 warnings generated.
clang -arch x86_64 -dynamiclib -Wl,-headerpad_max_install_names -undefined dynamic_lookup -L/Library/Frameworks/R.framework/Resources/lib -L/opt/R/x86_64/lib -o HEM.so hem.o -F/Library/Frameworks/R.framework/.. -framework R
installing to /Users/biocbuild/bbs-3.23-bioc/meat/HEM.buildbin-libdir/00LOCK-HEM/00new/HEM/libs
** R
** data
** inst
** byte-compile and prepare package for lazy loading
** help
*** installing help indices
** building package indices
** installing vignettes
** testing if installed package can be loaded from temporary location
** checking absolute paths in shared objects and dynamic libraries
** testing if installed package can be loaded from final location
** testing if installed package keeps a record of temporary installation path
* DONE (HEM)


>>>>>>> 
>>>>>>> FIXING PATHS TO DYNAMIC LIBRARIES FOR HEM.buildbin-libdir/HEM/libs/HEM.so
>>>>>>> 

>>>>>>> Paths before fix:
HEM.buildbin-libdir/HEM/libs/HEM.so:
	HEM.so (compatibility version 0.0.0, current version 0.0.0)
	/Library/Frameworks/R.framework/Versions/4.6-x86_64/Resources/lib/libR.dylib (compatibility version 4.6.0, current version 4.6.0)
	/usr/lib/libSystem.B.dylib (compatibility version 1.0.0, current version 1292.100.5)

>>>>>>> Fix with install_name_tool:
install_name_tool -change "/usr/local/lib/libgcc_s.1.1.dylib" "/Library/Frameworks/R.framework/Versions/4.6-x86_64/Resources/lib/libgcc_s.1.1.dylib" "HEM.buildbin-libdir/HEM/libs/HEM.so"
install_name_tool -change "/usr/local/lib/libgfortran.5.dylib" "/Library/Frameworks/R.framework/Versions/4.6-x86_64/Resources/lib/libgfortran.5.dylib" "HEM.buildbin-libdir/HEM/libs/HEM.so"
install_name_tool -change "/usr/local/lib/libquadmath.0.dylib" "/Library/Frameworks/R.framework/Versions/4.6-x86_64/Resources/lib/libquadmath.0.dylib" "HEM.buildbin-libdir/HEM/libs/HEM.so"

>>>>>>> Paths after fix:
HEM.buildbin-libdir/HEM/libs/HEM.so:
	HEM.so (compatibility version 0.0.0, current version 0.0.0)
	/Library/Frameworks/R.framework/Versions/4.6-x86_64/Resources/lib/libR.dylib (compatibility version 4.6.0, current version 4.6.0)
	/usr/lib/libSystem.B.dylib (compatibility version 1.0.0, current version 1292.100.5)