| Back to Multiple platform build/check report for BioC 3.22: simplified long |
|
This page was generated on 2025-10-21 12:07 -0400 (Tue, 21 Oct 2025).
| Hostname | OS | Arch (*) | R version | Installed pkgs |
|---|---|---|---|---|
| nebbiolo2 | Linux (Ubuntu 24.04.3 LTS) | x86_64 | 4.5.1 Patched (2025-08-23 r88802) -- "Great Square Root" | 4887 |
| lconway | macOS 12.7.6 Monterey | x86_64 | 4.5.1 Patched (2025-09-10 r88807) -- "Great Square Root" | 4677 |
| kjohnson3 | macOS 13.7.7 Ventura | arm64 | 4.5.1 Patched (2025-09-10 r88807) -- "Great Square Root" | 4622 |
| taishan | Linux (openEuler 24.03 LTS) | aarch64 | 4.5.0 (2025-04-11) -- "How About a Twenty-Six" | 4642 |
| Click on any hostname to see more info about the system (e.g. compilers) (*) as reported by 'uname -p', except on Windows and Mac OS X | ||||
| Package 854/2353 | Hostname | OS / Arch | INSTALL | BUILD | CHECK | BUILD BIN | ||||||||
| GeoDiff 1.15.0 (landing page) Nicole Ortogero
| nebbiolo2 | Linux (Ubuntu 24.04.3 LTS) / x86_64 | OK | OK | OK | |||||||||
| lconway | macOS 12.7.6 Monterey / x86_64 | OK | OK | OK | OK | |||||||||
| kjohnson3 | macOS 13.7.7 Ventura / arm64 | OK | OK | OK | OK | |||||||||
| taishan | Linux (openEuler 24.03 LTS) / aarch64 | OK | OK | OK | ||||||||||
|
To the developers/maintainers of the GeoDiff package: - Allow up to 24 hours (and sometimes 48 hours) for your latest push to git@git.bioconductor.org:packages/GeoDiff.git to reflect on this report. See Troubleshooting Build Report for more information. - Use the following Renviron settings to reproduce errors and warnings. - If 'R CMD check' started to fail recently on the Linux builder(s) over a missing dependency, add the missing dependency to 'Suggests:' in your DESCRIPTION file. See Renviron.bioc for more information. - See Martin Grigorov's blog post for how to debug Linux ARM64 related issues on a x86_64 host. |
| Package: GeoDiff |
| Version: 1.15.0 |
| Command: /home/biocbuild/R/R/bin/R CMD check --install=check:GeoDiff.install-out.txt --library=/home/biocbuild/R/R/site-library --no-vignettes --timings GeoDiff_1.15.0.tar.gz |
| StartedAt: 2025-10-17 09:28:20 -0000 (Fri, 17 Oct 2025) |
| EndedAt: 2025-10-17 09:34:06 -0000 (Fri, 17 Oct 2025) |
| EllapsedTime: 346.2 seconds |
| RetCode: 0 |
| Status: OK |
| CheckDir: GeoDiff.Rcheck |
| Warnings: 0 |
##############################################################################
##############################################################################
###
### Running command:
###
### /home/biocbuild/R/R/bin/R CMD check --install=check:GeoDiff.install-out.txt --library=/home/biocbuild/R/R/site-library --no-vignettes --timings GeoDiff_1.15.0.tar.gz
###
##############################################################################
##############################################################################
* using log directory ‘/home/biocbuild/bbs-3.22-bioc/meat/GeoDiff.Rcheck’
* using R version 4.5.0 (2025-04-11)
* using platform: aarch64-unknown-linux-gnu
* R was compiled by
aarch64-unknown-linux-gnu-gcc (GCC) 14.2.0
GNU Fortran (GCC) 14.2.0
* running under: openEuler 24.03 (LTS)
* using session charset: UTF-8
* using option ‘--no-vignettes’
* checking for file ‘GeoDiff/DESCRIPTION’ ... OK
* checking extension type ... Package
* this is package ‘GeoDiff’ version ‘1.15.0’
* package encoding: UTF-8
* checking package namespace information ... OK
* checking package dependencies ... OK
* checking if this is a source package ... OK
* checking if there is a namespace ... OK
* checking for hidden files and directories ... OK
* checking for portable file names ... OK
* checking for sufficient/correct file permissions ... OK
* checking whether package ‘GeoDiff’ can be installed ... OK
* used C++ compiler: ‘aarch64-unknown-linux-gnu-g++ (GCC) 14.2.0’
* checking C++ specification ... NOTE
Specified C++11: please drop specification unless essential
* checking installed package size ... INFO
installed size is 13.8Mb
sub-directories of 1Mb or more:
data 4.2Mb
libs 9.3Mb
* checking package directory ... OK
* checking ‘build’ directory ... OK
* checking DESCRIPTION meta-information ... NOTE
License stub is invalid DCF.
* checking top-level files ... OK
* checking for left-over files ... OK
* checking index information ... OK
* checking package subdirectories ... OK
* checking code files for non-ASCII characters ... OK
* checking R files for syntax errors ... OK
* checking whether the package can be loaded ... OK
* checking whether the package can be loaded with stated dependencies ... OK
* checking whether the package can be unloaded cleanly ... OK
* checking whether the namespace can be loaded with stated dependencies ... OK
* checking whether the namespace can be unloaded cleanly ... OK
* checking loading without being on the library search path ... OK
* checking dependencies in R code ... OK
* checking S3 generic/method consistency ... OK
* checking replacement functions ... OK
* checking foreign function calls ... OK
* checking R code for possible problems ... OK
* checking Rd files ... OK
* checking Rd metadata ... OK
* checking Rd cross-references ... OK
* checking for missing documentation entries ... OK
* checking for code/documentation mismatches ... OK
* checking Rd \usage sections ... OK
* checking Rd contents ... OK
* checking for unstated dependencies in examples ... OK
* checking contents of ‘data’ directory ... OK
* checking data for non-ASCII characters ... OK
* checking data for ASCII and uncompressed saves ... OK
* checking line endings in C/C++/Fortran sources/headers ... OK
* checking line endings in Makefiles ... OK
* checking compilation flags in Makevars ... OK
* checking for GNU extensions in Makefiles ... OK
* checking for portable use of $(BLAS_LIBS) and $(LAPACK_LIBS) ... OK
* checking use of PKG_*FLAGS in Makefiles ... OK
* checking compiled code ... NOTE
Note: information on .o files is not available
* checking files in ‘vignettes’ ... OK
* checking examples ... OK
Examples with CPU (user + system) or elapsed time > 5s
user system elapsed
fitPoisthNorm-methods 44.730 0.012 44.858
fitNBthmDE-methods 22.115 0.068 22.196
fitNBthDE-methods 19.443 0.110 19.608
fitNBth-methods 13.431 0.080 13.546
QuanRange-methods 8.074 0.104 8.197
BGScoreTest-methods 5.084 0.076 5.173
* checking for unstated dependencies in ‘tests’ ... OK
* checking tests ...
Running ‘testthat.R’
OK
* checking for unstated dependencies in vignettes ... OK
* checking package vignettes ... OK
* checking running R code from vignettes ... SKIPPED
* checking re-building of vignette outputs ... SKIPPED
* checking PDF version of manual ... OK
* DONE
Status: 3 NOTEs
See
‘/home/biocbuild/bbs-3.22-bioc/meat/GeoDiff.Rcheck/00check.log’
for details.
GeoDiff.Rcheck/00install.out
##############################################################################
##############################################################################
###
### Running command:
###
### /home/biocbuild/R/R/bin/R CMD INSTALL GeoDiff
###
##############################################################################
##############################################################################
* installing to library ‘/home/biocbuild/R/R-4.5.0/site-library’
* installing *source* package ‘GeoDiff’ ...
** this is package ‘GeoDiff’ version ‘1.15.0’
** using staged installation
** libs
using C++ compiler: ‘aarch64-unknown-linux-gnu-g++ (GCC) 14.2.0’
using C++11
/opt/ohpc/pub/compiler/gcc/14.2.0/bin/aarch64-unknown-linux-gnu-g++ -std=gnu++11 -I"/home/biocbuild/R/R-4.5.0/include" -DNDEBUG -I'/home/biocbuild/R/R-4.5.0/site-library/Rcpp/include' -I'/home/biocbuild/R/R-4.5.0/site-library/RcppArmadillo/include' -I'/home/biocbuild/R/R-4.5.0/site-library/roptim/include' -I/usr/local/include -fopenmp -fPIC -g -O2 -Wall -Werror=format-security -c NBthDEOptPara.cpp -o NBthDEOptPara.o
In file included from /home/biocbuild/R/R-4.5.0/site-library/RcppArmadillo/include/RcppArmadillo.h:29,
from GeoDiff.h:1,
from NBthDEOptPara.cpp:2:
/home/biocbuild/R/R-4.5.0/site-library/RcppArmadillo/include/RcppArmadillo/version/arma.h:66:199: note: ‘#pragma message: Using fallback compilation with Armadillo 14.6.3. Please consider defining -DARMA_USE_CURRENT and also removing C++11 compilation directive. See GitHub issue #475 for more.’
66 | #pragma message("Using fallback compilation with Armadillo 14.6.3. Please consider defining -DARMA_USE_CURRENT and also removing C++11 compilation directive. See GitHub issue #475 for more.")
| ^
NBthDEOptPara.cpp: In member function ‘virtual double NBthDE_paranll::operator()(const arma::vec&)’:
NBthDEOptPara.cpp:34:9: warning: unused variable ‘m’ [-Wunused-variable]
34 | int m = y.n_elem;
| ^
NBthDEOptPara.cpp: In member function ‘virtual void NBthDE_paranll::Gradient(const arma::vec&, arma::vec&)’:
NBthDEOptPara.cpp:85:22: warning: comparison of integer expressions of different signedness: ‘int’ and ‘const arma::uword’ {aka ‘const unsigned int’} [-Wsign-compare]
85 | for(int k = 0; k < y.n_elem; k++){
| ~~^~~~~~~~~~
NBthDEOptPara.cpp:58:9: warning: unused variable ‘m’ [-Wunused-variable]
58 | int m = y.n_elem;
| ^
/opt/ohpc/pub/compiler/gcc/14.2.0/bin/aarch64-unknown-linux-gnu-g++ -std=gnu++11 -I"/home/biocbuild/R/R-4.5.0/include" -DNDEBUG -I'/home/biocbuild/R/R-4.5.0/site-library/Rcpp/include' -I'/home/biocbuild/R/R-4.5.0/site-library/RcppArmadillo/include' -I'/home/biocbuild/R/R-4.5.0/site-library/roptim/include' -I/usr/local/include -fopenmp -fPIC -g -O2 -Wall -Werror=format-security -c NBthmDEGrad.cpp -o NBthmDEGrad.o
In file included from /home/biocbuild/R/R-4.5.0/site-library/RcppArmadillo/include/RcppArmadillo.h:29,
from NBthmDEGrad.cpp:3:
/home/biocbuild/R/R-4.5.0/site-library/RcppArmadillo/include/RcppArmadillo/version/arma.h:66:199: note: ‘#pragma message: Using fallback compilation with Armadillo 14.6.3. Please consider defining -DARMA_USE_CURRENT and also removing C++11 compilation directive. See GitHub issue #475 for more.’
66 | #pragma message("Using fallback compilation with Armadillo 14.6.3. Please consider defining -DARMA_USE_CURRENT and also removing C++11 compilation directive. See GitHub issue #475 for more.")
| ^
NBthmDEGrad.cpp: In function ‘arma::vec NBthmDE_grad(arma::vec&, arma::mat&, arma::mat&, arma::vec&, arma::vec&, arma::vec&, arma::vec&, arma::mat&, double, double)’:
NBthmDEGrad.cpp:34:20: warning: comparison of integer expressions of different signedness: ‘int’ and ‘const arma::uword’ {aka ‘const unsigned int’} [-Wsign-compare]
34 | for(int i = 0; i < y.n_elem; i++){
| ~~^~~~~~~~~~
NBthmDEGrad.cpp: In function ‘arma::mat NBthmDE_gradM(arma::vec&, arma::mat&, arma::mat&, arma::vec&, arma::mat&, arma::vec&, arma::vec&, arma::mat&, double, double)’:
NBthmDEGrad.cpp:90:24: warning: comparison of integer expressions of different signedness: ‘int’ and ‘const arma::uword’ {aka ‘const unsigned int’} [-Wsign-compare]
90 | for(int k = 0; k < y.n_elem; k++){
| ~~^~~~~~~~~~
/opt/ohpc/pub/compiler/gcc/14.2.0/bin/aarch64-unknown-linux-gnu-g++ -std=gnu++11 -I"/home/biocbuild/R/R-4.5.0/include" -DNDEBUG -I'/home/biocbuild/R/R-4.5.0/site-library/Rcpp/include' -I'/home/biocbuild/R/R-4.5.0/site-library/RcppArmadillo/include' -I'/home/biocbuild/R/R-4.5.0/site-library/roptim/include' -I/usr/local/include -fopenmp -fPIC -g -O2 -Wall -Werror=format-security -c NBthmDEMH.cpp -o NBthmDEMH.o
In file included from /home/biocbuild/R/R-4.5.0/site-library/RcppArmadillo/include/RcppArmadillo.h:29,
from GeoDiff.h:1,
from NBthmDEMH.cpp:2:
/home/biocbuild/R/R-4.5.0/site-library/RcppArmadillo/include/RcppArmadillo/version/arma.h:66:199: note: ‘#pragma message: Using fallback compilation with Armadillo 14.6.3. Please consider defining -DARMA_USE_CURRENT and also removing C++11 compilation directive. See GitHub issue #475 for more.’
66 | #pragma message("Using fallback compilation with Armadillo 14.6.3. Please consider defining -DARMA_USE_CURRENT and also removing C++11 compilation directive. See GitHub issue #475 for more.")
| ^
/opt/ohpc/pub/compiler/gcc/14.2.0/bin/aarch64-unknown-linux-gnu-g++ -std=gnu++11 -I"/home/biocbuild/R/R-4.5.0/include" -DNDEBUG -I'/home/biocbuild/R/R-4.5.0/site-library/Rcpp/include' -I'/home/biocbuild/R/R-4.5.0/site-library/RcppArmadillo/include' -I'/home/biocbuild/R/R-4.5.0/site-library/roptim/include' -I/usr/local/include -fopenmp -fPIC -g -O2 -Wall -Werror=format-security -c NBthmDEOptPara.cpp -o NBthmDEOptPara.o
In file included from /home/biocbuild/R/R-4.5.0/site-library/RcppArmadillo/include/RcppArmadillo.h:29,
from GeoDiff.h:1,
from NBthmDEOptPara.cpp:2:
/home/biocbuild/R/R-4.5.0/site-library/RcppArmadillo/include/RcppArmadillo/version/arma.h:66:199: note: ‘#pragma message: Using fallback compilation with Armadillo 14.6.3. Please consider defining -DARMA_USE_CURRENT and also removing C++11 compilation directive. See GitHub issue #475 for more.’
66 | #pragma message("Using fallback compilation with Armadillo 14.6.3. Please consider defining -DARMA_USE_CURRENT and also removing C++11 compilation directive. See GitHub issue #475 for more.")
| ^
NBthmDEOptPara.cpp: In member function ‘virtual void NBthmDE_fparanll::Gradient(const arma::vec&, arma::vec&)’:
NBthmDEOptPara.cpp:107:24: warning: comparison of integer expressions of different signedness: ‘int’ and ‘const arma::uword’ {aka ‘const unsigned int’} [-Wsign-compare]
107 | for(int k = 0; k < y.n_elem; k++){
| ~~^~~~~~~~~~
/opt/ohpc/pub/compiler/gcc/14.2.0/bin/aarch64-unknown-linux-gnu-g++ -std=gnu++11 -I"/home/biocbuild/R/R-4.5.0/include" -DNDEBUG -I'/home/biocbuild/R/R-4.5.0/site-library/Rcpp/include' -I'/home/biocbuild/R/R-4.5.0/site-library/RcppArmadillo/include' -I'/home/biocbuild/R/R-4.5.0/site-library/roptim/include' -I/usr/local/include -fopenmp -fPIC -g -O2 -Wall -Werror=format-security -c NBthmDEOptU.cpp -o NBthmDEOptU.o
In file included from /home/biocbuild/R/R-4.5.0/site-library/RcppArmadillo/include/RcppArmadillo.h:29,
from GeoDiff.h:1,
from NBthmDEOptU.cpp:2:
/home/biocbuild/R/R-4.5.0/site-library/RcppArmadillo/include/RcppArmadillo/version/arma.h:66:199: note: ‘#pragma message: Using fallback compilation with Armadillo 14.6.3. Please consider defining -DARMA_USE_CURRENT and also removing C++11 compilation directive. See GitHub issue #475 for more.’
66 | #pragma message("Using fallback compilation with Armadillo 14.6.3. Please consider defining -DARMA_USE_CURRENT and also removing C++11 compilation directive. See GitHub issue #475 for more.")
| ^
/opt/ohpc/pub/compiler/gcc/14.2.0/bin/aarch64-unknown-linux-gnu-g++ -std=gnu++11 -I"/home/biocbuild/R/R-4.5.0/include" -DNDEBUG -I'/home/biocbuild/R/R-4.5.0/site-library/Rcpp/include' -I'/home/biocbuild/R/R-4.5.0/site-library/RcppArmadillo/include' -I'/home/biocbuild/R/R-4.5.0/site-library/roptim/include' -I/usr/local/include -fopenmp -fPIC -g -O2 -Wall -Werror=format-security -c PoisthNormOptPara.cpp -o PoisthNormOptPara.o
In file included from /home/biocbuild/R/R-4.5.0/site-library/RcppArmadillo/include/RcppArmadillo.h:29,
from PoisthNormOptPara.cpp:3:
/home/biocbuild/R/R-4.5.0/site-library/RcppArmadillo/include/RcppArmadillo/version/arma.h:66:199: note: ‘#pragma message: Using fallback compilation with Armadillo 14.6.3. Please consider defining -DARMA_USE_CURRENT and also removing C++11 compilation directive. See GitHub issue #475 for more.’
66 | #pragma message("Using fallback compilation with Armadillo 14.6.3. Please consider defining -DARMA_USE_CURRENT and also removing C++11 compilation directive. See GitHub issue #475 for more.")
| ^
/opt/ohpc/pub/compiler/gcc/14.2.0/bin/aarch64-unknown-linux-gnu-g++ -std=gnu++11 -I"/home/biocbuild/R/R-4.5.0/include" -DNDEBUG -I'/home/biocbuild/R/R-4.5.0/site-library/Rcpp/include' -I'/home/biocbuild/R/R-4.5.0/site-library/RcppArmadillo/include' -I'/home/biocbuild/R/R-4.5.0/site-library/roptim/include' -I/usr/local/include -fopenmp -fPIC -g -O2 -Wall -Werror=format-security -c RcppExports.cpp -o RcppExports.o
In file included from /home/biocbuild/R/R-4.5.0/site-library/RcppArmadillo/include/RcppArmadillo.h:29,
from RcppExports.cpp:4:
/home/biocbuild/R/R-4.5.0/site-library/RcppArmadillo/include/RcppArmadillo/version/arma.h:66:199: note: ‘#pragma message: Using fallback compilation with Armadillo 14.6.3. Please consider defining -DARMA_USE_CURRENT and also removing C++11 compilation directive. See GitHub issue #475 for more.’
66 | #pragma message("Using fallback compilation with Armadillo 14.6.3. Please consider defining -DARMA_USE_CURRENT and also removing C++11 compilation directive. See GitHub issue #475 for more.")
| ^
/opt/ohpc/pub/compiler/gcc/14.2.0/bin/aarch64-unknown-linux-gnu-g++ -std=gnu++11 -I"/home/biocbuild/R/R-4.5.0/include" -DNDEBUG -I'/home/biocbuild/R/R-4.5.0/site-library/Rcpp/include' -I'/home/biocbuild/R/R-4.5.0/site-library/RcppArmadillo/include' -I'/home/biocbuild/R/R-4.5.0/site-library/roptim/include' -I/usr/local/include -fopenmp -fPIC -g -O2 -Wall -Werror=format-security -c dnbinom_mu_vec.cpp -o dnbinom_mu_vec.o
In file included from /home/biocbuild/R/R-4.5.0/site-library/RcppArmadillo/include/RcppArmadillo.h:29,
from dnbinom_mu_vec.cpp:1:
/home/biocbuild/R/R-4.5.0/site-library/RcppArmadillo/include/RcppArmadillo/version/arma.h:66:199: note: ‘#pragma message: Using fallback compilation with Armadillo 14.6.3. Please consider defining -DARMA_USE_CURRENT and also removing C++11 compilation directive. See GitHub issue #475 for more.’
66 | #pragma message("Using fallback compilation with Armadillo 14.6.3. Please consider defining -DARMA_USE_CURRENT and also removing C++11 compilation directive. See GitHub issue #475 for more.")
| ^
/opt/ohpc/pub/compiler/gcc/14.2.0/bin/aarch64-unknown-linux-gnu-g++ -std=gnu++11 -shared -L/home/biocbuild/R/R-4.5.0/lib -L/usr/local/lib -o GeoDiff.so NBthDEOptPara.o NBthmDEGrad.o NBthmDEMH.o NBthmDEOptPara.o NBthmDEOptU.o PoisthNormOptPara.o RcppExports.o dnbinom_mu_vec.o -fopenmp -lopenblas -lgfortran -lm -L/home/biocbuild/R/R-4.5.0/lib -lR
installing to /home/biocbuild/R/R-4.5.0/site-library/00LOCK-GeoDiff/00new/GeoDiff/libs
** R
** data
** byte-compile and prepare package for lazy loading
** help
*** installing help indices
** building package indices
** installing vignettes
** testing if installed package can be loaded from temporary location
** checking absolute paths in shared objects and dynamic libraries
** testing if installed package can be loaded from final location
** testing if installed package keeps a record of temporary installation path
* DONE (GeoDiff)
GeoDiff.Rcheck/tests/testthat.Rout
R version 4.5.0 (2025-04-11) -- "How About a Twenty-Six"
Copyright (C) 2025 The R Foundation for Statistical Computing
Platform: aarch64-unknown-linux-gnu
R is free software and comes with ABSOLUTELY NO WARRANTY.
You are welcome to redistribute it under certain conditions.
Type 'license()' or 'licence()' for distribution details.
R is a collaborative project with many contributors.
Type 'contributors()' for more information and
'citation()' on how to cite R or R packages in publications.
Type 'demo()' for some demos, 'help()' for on-line help, or
'help.start()' for an HTML browser interface to help.
Type 'q()' to quit R.
> library(testthat)
> library(GeoDiff)
Loading required package: Biobase
Loading required package: BiocGenerics
Loading required package: generics
Attaching package: 'generics'
The following objects are masked from 'package:base':
as.difftime, as.factor, as.ordered, intersect, is.element, setdiff,
setequal, union
Attaching package: 'BiocGenerics'
The following objects are masked from 'package:stats':
IQR, mad, sd, var, xtabs
The following objects are masked from 'package:base':
Filter, Find, Map, Position, Reduce, anyDuplicated, aperm, append,
as.data.frame, basename, cbind, colnames, dirname, do.call,
duplicated, eval, evalq, get, grep, grepl, is.unsorted, lapply,
mapply, match, mget, order, paste, pmax, pmax.int, pmin, pmin.int,
rank, rbind, rownames, sapply, saveRDS, table, tapply, unique,
unsplit, which.max, which.min
Welcome to Bioconductor
Vignettes contain introductory material; view with
'browseVignettes()'. To cite Bioconductor, see
'citation("Biobase")', and for packages 'citation("pkgname")'.
> library(Biobase)
>
> proc.time()
user system elapsed
9.340 0.359 9.717
GeoDiff.Rcheck/GeoDiff-Ex.timings
| name | user | system | elapsed | |
| BGScoreTest-methods | 5.084 | 0.076 | 5.173 | |
| DENBth-methods | 0.004 | 0.004 | 0.008 | |
| NBthDEmod2 | 0.056 | 0.000 | 0.055 | |
| NBthmDEmod2 | 0.005 | 0.000 | 0.004 | |
| NBthmDEmod2slope | 0.005 | 0.000 | 0.005 | |
| QuanRange-methods | 8.074 | 0.104 | 8.197 | |
| aggreprobe-methods | 2.749 | 0.016 | 2.772 | |
| coefNBth-methods | 0.04 | 0.00 | 0.04 | |
| contrastNBth-methods | 0.006 | 0.000 | 0.005 | |
| demoData | 0.324 | 0.003 | 0.328 | |
| diagPoisBG-methods | 1.451 | 0.091 | 1.545 | |
| fitNBth-methods | 13.431 | 0.080 | 13.546 | |
| fitNBthDE-methods | 19.443 | 0.110 | 19.608 | |
| fitNBthmDE-methods | 22.115 | 0.068 | 22.196 | |
| fitPoisBG-methods | 0.834 | 0.000 | 0.835 | |
| fitPoisthNorm-methods | 44.730 | 0.012 | 44.858 | |
| kidney | 0.393 | 0.019 | 0.414 | |