| Back to Multiple platform build/check report for BioC 3.22: simplified long |
|
This page was generated on 2025-10-23 12:06 -0400 (Thu, 23 Oct 2025).
| Hostname | OS | Arch (*) | R version | Installed pkgs |
|---|---|---|---|---|
| nebbiolo2 | Linux (Ubuntu 24.04.3 LTS) | x86_64 | 4.5.1 Patched (2025-08-23 r88802) -- "Great Square Root" | 4894 |
| lconway | macOS 12.7.6 Monterey | x86_64 | 4.5.1 Patched (2025-09-10 r88807) -- "Great Square Root" | 4684 |
| kjohnson3 | macOS 13.7.7 Ventura | arm64 | 4.5.1 Patched (2025-09-10 r88807) -- "Great Square Root" | 4629 |
| taishan | Linux (openEuler 24.03 LTS) | aarch64 | 4.5.0 (2025-04-11) -- "How About a Twenty-Six" | 4642 |
| Click on any hostname to see more info about the system (e.g. compilers) (*) as reported by 'uname -p', except on Windows and Mac OS X | ||||
| Package 855/2355 | Hostname | OS / Arch | INSTALL | BUILD | CHECK | BUILD BIN | ||||||||
| GeoDiff 1.15.0 (landing page) Nicole Ortogero
| nebbiolo2 | Linux (Ubuntu 24.04.3 LTS) / x86_64 | OK | OK | OK | |||||||||
| lconway | macOS 12.7.6 Monterey / x86_64 | OK | OK | OK | OK | |||||||||
| kjohnson3 | macOS 13.7.7 Ventura / arm64 | OK | OK | OK | OK | |||||||||
| taishan | Linux (openEuler 24.03 LTS) / aarch64 | OK | OK | NA | ||||||||||
|
To the developers/maintainers of the GeoDiff package: - Allow up to 24 hours (and sometimes 48 hours) for your latest push to git@git.bioconductor.org:packages/GeoDiff.git to reflect on this report. See Troubleshooting Build Report for more information. - Use the following Renviron settings to reproduce errors and warnings. - If 'R CMD check' started to fail recently on the Linux builder(s) over a missing dependency, add the missing dependency to 'Suggests:' in your DESCRIPTION file. See Renviron.bioc for more information. |
| Package: GeoDiff |
| Version: 1.15.0 |
| Command: /Library/Frameworks/R.framework/Resources/bin/R CMD check --install=check:GeoDiff.install-out.txt --library=/Library/Frameworks/R.framework/Resources/library --no-vignettes --timings GeoDiff_1.15.0.tar.gz |
| StartedAt: 2025-10-22 19:59:09 -0400 (Wed, 22 Oct 2025) |
| EndedAt: 2025-10-22 20:01:05 -0400 (Wed, 22 Oct 2025) |
| EllapsedTime: 115.3 seconds |
| RetCode: 0 |
| Status: OK |
| CheckDir: GeoDiff.Rcheck |
| Warnings: 0 |
##############################################################################
##############################################################################
###
### Running command:
###
### /Library/Frameworks/R.framework/Resources/bin/R CMD check --install=check:GeoDiff.install-out.txt --library=/Library/Frameworks/R.framework/Resources/library --no-vignettes --timings GeoDiff_1.15.0.tar.gz
###
##############################################################################
##############################################################################
* using log directory ‘/Users/biocbuild/bbs-3.22-bioc/meat/GeoDiff.Rcheck’
* using R version 4.5.1 Patched (2025-09-10 r88807)
* using platform: aarch64-apple-darwin20
* R was compiled by
Apple clang version 16.0.0 (clang-1600.0.26.6)
GNU Fortran (GCC) 14.2.0
* running under: macOS Ventura 13.7.7
* using session charset: UTF-8
* using option ‘--no-vignettes’
* checking for file ‘GeoDiff/DESCRIPTION’ ... OK
* checking extension type ... Package
* this is package ‘GeoDiff’ version ‘1.15.0’
* package encoding: UTF-8
* checking package namespace information ... OK
* checking package dependencies ... OK
* checking if this is a source package ... OK
* checking if there is a namespace ... OK
* checking for hidden files and directories ... OK
* checking for portable file names ... OK
* checking for sufficient/correct file permissions ... OK
* checking whether package ‘GeoDiff’ can be installed ... OK
* used C++ compiler: ‘Apple clang version 15.0.0 (clang-1500.1.0.2.5)’
* used SDK: ‘MacOSX11.3.1.sdk’
* checking C++ specification ... NOTE
Specified C++11: please drop specification unless essential
* checking installed package size ... OK
* checking package directory ... OK
* checking ‘build’ directory ... OK
* checking DESCRIPTION meta-information ... NOTE
License stub is invalid DCF.
* checking top-level files ... OK
* checking for left-over files ... OK
* checking index information ... OK
* checking package subdirectories ... OK
* checking code files for non-ASCII characters ... OK
* checking R files for syntax errors ... OK
* checking whether the package can be loaded ... OK
* checking whether the package can be loaded with stated dependencies ... OK
* checking whether the package can be unloaded cleanly ... OK
* checking whether the namespace can be loaded with stated dependencies ... OK
* checking whether the namespace can be unloaded cleanly ... OK
* checking dependencies in R code ... OK
* checking S3 generic/method consistency ... OK
* checking replacement functions ... OK
* checking foreign function calls ... OK
* checking R code for possible problems ... OK
* checking Rd files ... OK
* checking Rd metadata ... OK
* checking Rd cross-references ... OK
* checking for missing documentation entries ... OK
* checking for code/documentation mismatches ... OK
* checking Rd \usage sections ... OK
* checking Rd contents ... OK
* checking for unstated dependencies in examples ... OK
* checking contents of ‘data’ directory ... OK
* checking data for non-ASCII characters ... OK
* checking data for ASCII and uncompressed saves ... OK
* checking line endings in C/C++/Fortran sources/headers ... OK
* checking line endings in Makefiles ... OK
* checking compilation flags in Makevars ... OK
* checking for GNU extensions in Makefiles ... OK
* checking for portable use of $(BLAS_LIBS) and $(LAPACK_LIBS) ... OK
* checking use of PKG_*FLAGS in Makefiles ... OK
* checking compiled code ... NOTE
Note: information on .o files is not available
* checking files in ‘vignettes’ ... OK
* checking examples ... OK
Examples with CPU (user + system) or elapsed time > 5s
user system elapsed
fitPoisthNorm-methods 22.605 0.684 23.364
fitNBthmDE-methods 5.703 0.208 5.915
fitNBthDE-methods 5.337 0.204 5.546
* checking for unstated dependencies in ‘tests’ ... OK
* checking tests ...
Running ‘testthat.R’
OK
* checking for unstated dependencies in vignettes ... OK
* checking package vignettes ... OK
* checking running R code from vignettes ... SKIPPED
* checking re-building of vignette outputs ... SKIPPED
* checking PDF version of manual ... OK
* DONE
Status: 3 NOTEs
See
‘/Users/biocbuild/bbs-3.22-bioc/meat/GeoDiff.Rcheck/00check.log’
for details.
GeoDiff.Rcheck/00install.out
##############################################################################
##############################################################################
###
### Running command:
###
### /Library/Frameworks/R.framework/Resources/bin/R CMD INSTALL GeoDiff
###
##############################################################################
##############################################################################
* installing to library ‘/Library/Frameworks/R.framework/Versions/4.5-arm64/Resources/library’
* installing *source* package ‘GeoDiff’ ...
** this is package ‘GeoDiff’ version ‘1.15.0’
** using staged installation
** libs
using C++ compiler: ‘Apple clang version 15.0.0 (clang-1500.1.0.2.5)’
using C++11
using SDK: ‘MacOSX11.3.1.sdk’
clang++ -arch arm64 -std=gnu++11 -I"/Library/Frameworks/R.framework/Resources/include" -DNDEBUG -I'/Library/Frameworks/R.framework/Versions/4.5-arm64/Resources/library/Rcpp/include' -I'/Library/Frameworks/R.framework/Versions/4.5-arm64/Resources/library/RcppArmadillo/include' -I'/Library/Frameworks/R.framework/Versions/4.5-arm64/Resources/library/roptim/include' -I/opt/R/arm64/include -fPIC -falign-functions=64 -Wall -g -O2 -c NBthDEOptPara.cpp -o NBthDEOptPara.o
In file included from NBthDEOptPara.cpp:2:
In file included from ./GeoDiff.h:1:
In file included from /Library/Frameworks/R.framework/Versions/4.5-arm64/Resources/library/RcppArmadillo/include/RcppArmadillo.h:29:
/Library/Frameworks/R.framework/Versions/4.5-arm64/Resources/library/RcppArmadillo/include/RcppArmadillo/version/arma.h:66:17: warning: Using fallback compilation with Armadillo 14.6.3. Please consider defining -DARMA_USE_CURRENT and also removing C++11 compilation directive. See GitHub issue #475 for more. [-W#pragma-messages]
#pragma message("Using fallback compilation with Armadillo 14.6.3. Please consider defining -DARMA_USE_CURRENT and also removing C++11 compilation directive. See GitHub issue #475 for more.")
^
NBthDEOptPara.cpp:34:9: warning: unused variable 'm' [-Wunused-variable]
int m = y.n_elem;
^
NBthDEOptPara.cpp:58:9: warning: unused variable 'm' [-Wunused-variable]
int m = y.n_elem;
^
3 warnings generated.
clang++ -arch arm64 -std=gnu++11 -I"/Library/Frameworks/R.framework/Resources/include" -DNDEBUG -I'/Library/Frameworks/R.framework/Versions/4.5-arm64/Resources/library/Rcpp/include' -I'/Library/Frameworks/R.framework/Versions/4.5-arm64/Resources/library/RcppArmadillo/include' -I'/Library/Frameworks/R.framework/Versions/4.5-arm64/Resources/library/roptim/include' -I/opt/R/arm64/include -fPIC -falign-functions=64 -Wall -g -O2 -c NBthmDEGrad.cpp -o NBthmDEGrad.o
In file included from NBthmDEGrad.cpp:3:
In file included from /Library/Frameworks/R.framework/Versions/4.5-arm64/Resources/library/RcppArmadillo/include/RcppArmadillo.h:29:
/Library/Frameworks/R.framework/Versions/4.5-arm64/Resources/library/RcppArmadillo/include/RcppArmadillo/version/arma.h:66:17: warning: Using fallback compilation with Armadillo 14.6.3. Please consider defining -DARMA_USE_CURRENT and also removing C++11 compilation directive. See GitHub issue #475 for more. [-W#pragma-messages]
#pragma message("Using fallback compilation with Armadillo 14.6.3. Please consider defining -DARMA_USE_CURRENT and also removing C++11 compilation directive. See GitHub issue #475 for more.")
^
1 warning generated.
clang++ -arch arm64 -std=gnu++11 -I"/Library/Frameworks/R.framework/Resources/include" -DNDEBUG -I'/Library/Frameworks/R.framework/Versions/4.5-arm64/Resources/library/Rcpp/include' -I'/Library/Frameworks/R.framework/Versions/4.5-arm64/Resources/library/RcppArmadillo/include' -I'/Library/Frameworks/R.framework/Versions/4.5-arm64/Resources/library/roptim/include' -I/opt/R/arm64/include -fPIC -falign-functions=64 -Wall -g -O2 -c NBthmDEMH.cpp -o NBthmDEMH.o
In file included from NBthmDEMH.cpp:2:
In file included from ./GeoDiff.h:1:
In file included from /Library/Frameworks/R.framework/Versions/4.5-arm64/Resources/library/RcppArmadillo/include/RcppArmadillo.h:29:
/Library/Frameworks/R.framework/Versions/4.5-arm64/Resources/library/RcppArmadillo/include/RcppArmadillo/version/arma.h:66:17: warning: Using fallback compilation with Armadillo 14.6.3. Please consider defining -DARMA_USE_CURRENT and also removing C++11 compilation directive. See GitHub issue #475 for more. [-W#pragma-messages]
#pragma message("Using fallback compilation with Armadillo 14.6.3. Please consider defining -DARMA_USE_CURRENT and also removing C++11 compilation directive. See GitHub issue #475 for more.")
^
1 warning generated.
clang++ -arch arm64 -std=gnu++11 -I"/Library/Frameworks/R.framework/Resources/include" -DNDEBUG -I'/Library/Frameworks/R.framework/Versions/4.5-arm64/Resources/library/Rcpp/include' -I'/Library/Frameworks/R.framework/Versions/4.5-arm64/Resources/library/RcppArmadillo/include' -I'/Library/Frameworks/R.framework/Versions/4.5-arm64/Resources/library/roptim/include' -I/opt/R/arm64/include -fPIC -falign-functions=64 -Wall -g -O2 -c NBthmDEOptPara.cpp -o NBthmDEOptPara.o
In file included from NBthmDEOptPara.cpp:2:
In file included from ./GeoDiff.h:1:
In file included from /Library/Frameworks/R.framework/Versions/4.5-arm64/Resources/library/RcppArmadillo/include/RcppArmadillo.h:29:
/Library/Frameworks/R.framework/Versions/4.5-arm64/Resources/library/RcppArmadillo/include/RcppArmadillo/version/arma.h:66:17: warning: Using fallback compilation with Armadillo 14.6.3. Please consider defining -DARMA_USE_CURRENT and also removing C++11 compilation directive. See GitHub issue #475 for more. [-W#pragma-messages]
#pragma message("Using fallback compilation with Armadillo 14.6.3. Please consider defining -DARMA_USE_CURRENT and also removing C++11 compilation directive. See GitHub issue #475 for more.")
^
1 warning generated.
clang++ -arch arm64 -std=gnu++11 -I"/Library/Frameworks/R.framework/Resources/include" -DNDEBUG -I'/Library/Frameworks/R.framework/Versions/4.5-arm64/Resources/library/Rcpp/include' -I'/Library/Frameworks/R.framework/Versions/4.5-arm64/Resources/library/RcppArmadillo/include' -I'/Library/Frameworks/R.framework/Versions/4.5-arm64/Resources/library/roptim/include' -I/opt/R/arm64/include -fPIC -falign-functions=64 -Wall -g -O2 -c NBthmDEOptU.cpp -o NBthmDEOptU.o
In file included from NBthmDEOptU.cpp:2:
In file included from ./GeoDiff.h:1:
In file included from /Library/Frameworks/R.framework/Versions/4.5-arm64/Resources/library/RcppArmadillo/include/RcppArmadillo.h:29:
/Library/Frameworks/R.framework/Versions/4.5-arm64/Resources/library/RcppArmadillo/include/RcppArmadillo/version/arma.h:66:17: warning: Using fallback compilation with Armadillo 14.6.3. Please consider defining -DARMA_USE_CURRENT and also removing C++11 compilation directive. See GitHub issue #475 for more. [-W#pragma-messages]
#pragma message("Using fallback compilation with Armadillo 14.6.3. Please consider defining -DARMA_USE_CURRENT and also removing C++11 compilation directive. See GitHub issue #475 for more.")
^
1 warning generated.
clang++ -arch arm64 -std=gnu++11 -I"/Library/Frameworks/R.framework/Resources/include" -DNDEBUG -I'/Library/Frameworks/R.framework/Versions/4.5-arm64/Resources/library/Rcpp/include' -I'/Library/Frameworks/R.framework/Versions/4.5-arm64/Resources/library/RcppArmadillo/include' -I'/Library/Frameworks/R.framework/Versions/4.5-arm64/Resources/library/roptim/include' -I/opt/R/arm64/include -fPIC -falign-functions=64 -Wall -g -O2 -c PoisthNormOptPara.cpp -o PoisthNormOptPara.o
In file included from PoisthNormOptPara.cpp:3:
In file included from /Library/Frameworks/R.framework/Versions/4.5-arm64/Resources/library/RcppArmadillo/include/RcppArmadillo.h:29:
/Library/Frameworks/R.framework/Versions/4.5-arm64/Resources/library/RcppArmadillo/include/RcppArmadillo/version/arma.h:66:17: warning: Using fallback compilation with Armadillo 14.6.3. Please consider defining -DARMA_USE_CURRENT and also removing C++11 compilation directive. See GitHub issue #475 for more. [-W#pragma-messages]
#pragma message("Using fallback compilation with Armadillo 14.6.3. Please consider defining -DARMA_USE_CURRENT and also removing C++11 compilation directive. See GitHub issue #475 for more.")
^
1 warning generated.
clang++ -arch arm64 -std=gnu++11 -I"/Library/Frameworks/R.framework/Resources/include" -DNDEBUG -I'/Library/Frameworks/R.framework/Versions/4.5-arm64/Resources/library/Rcpp/include' -I'/Library/Frameworks/R.framework/Versions/4.5-arm64/Resources/library/RcppArmadillo/include' -I'/Library/Frameworks/R.framework/Versions/4.5-arm64/Resources/library/roptim/include' -I/opt/R/arm64/include -fPIC -falign-functions=64 -Wall -g -O2 -c RcppExports.cpp -o RcppExports.o
In file included from RcppExports.cpp:4:
In file included from /Library/Frameworks/R.framework/Versions/4.5-arm64/Resources/library/RcppArmadillo/include/RcppArmadillo.h:29:
/Library/Frameworks/R.framework/Versions/4.5-arm64/Resources/library/RcppArmadillo/include/RcppArmadillo/version/arma.h:66:17: warning: Using fallback compilation with Armadillo 14.6.3. Please consider defining -DARMA_USE_CURRENT and also removing C++11 compilation directive. See GitHub issue #475 for more. [-W#pragma-messages]
#pragma message("Using fallback compilation with Armadillo 14.6.3. Please consider defining -DARMA_USE_CURRENT and also removing C++11 compilation directive. See GitHub issue #475 for more.")
^
1 warning generated.
clang++ -arch arm64 -std=gnu++11 -I"/Library/Frameworks/R.framework/Resources/include" -DNDEBUG -I'/Library/Frameworks/R.framework/Versions/4.5-arm64/Resources/library/Rcpp/include' -I'/Library/Frameworks/R.framework/Versions/4.5-arm64/Resources/library/RcppArmadillo/include' -I'/Library/Frameworks/R.framework/Versions/4.5-arm64/Resources/library/roptim/include' -I/opt/R/arm64/include -fPIC -falign-functions=64 -Wall -g -O2 -c dnbinom_mu_vec.cpp -o dnbinom_mu_vec.o
In file included from dnbinom_mu_vec.cpp:1:
In file included from /Library/Frameworks/R.framework/Versions/4.5-arm64/Resources/library/RcppArmadillo/include/RcppArmadillo.h:29:
/Library/Frameworks/R.framework/Versions/4.5-arm64/Resources/library/RcppArmadillo/include/RcppArmadillo/version/arma.h:66:17: warning: Using fallback compilation with Armadillo 14.6.3. Please consider defining -DARMA_USE_CURRENT and also removing C++11 compilation directive. See GitHub issue #475 for more. [-W#pragma-messages]
#pragma message("Using fallback compilation with Armadillo 14.6.3. Please consider defining -DARMA_USE_CURRENT and also removing C++11 compilation directive. See GitHub issue #475 for more.")
^
1 warning generated.
clang++ -arch arm64 -std=gnu++11 -dynamiclib -Wl,-headerpad_max_install_names -undefined dynamic_lookup -L/Library/Frameworks/R.framework/Resources/lib -L/opt/R/arm64/lib -o GeoDiff.so NBthDEOptPara.o NBthmDEGrad.o NBthmDEMH.o NBthmDEOptPara.o NBthmDEOptU.o PoisthNormOptPara.o RcppExports.o dnbinom_mu_vec.o -L/Library/Frameworks/R.framework/Resources/lib -lRlapack -L/Library/Frameworks/R.framework/Resources/lib -lRblas -L/opt/gfortran/lib/gcc/aarch64-apple-darwin20.0/14.2.0 -L/opt/gfortran/lib -lemutls_w -lheapt_w -lgfortran -lquadmath -F/Library/Frameworks/R.framework/.. -framework R
installing to /Library/Frameworks/R.framework/Versions/4.5-arm64/Resources/library/00LOCK-GeoDiff/00new/GeoDiff/libs
** R
** data
** byte-compile and prepare package for lazy loading
** help
*** installing help indices
** building package indices
** installing vignettes
** testing if installed package can be loaded from temporary location
** checking absolute paths in shared objects and dynamic libraries
** testing if installed package can be loaded from final location
** testing if installed package keeps a record of temporary installation path
* DONE (GeoDiff)
GeoDiff.Rcheck/tests/testthat.Rout
R version 4.5.1 Patched (2025-09-10 r88807) -- "Great Square Root"
Copyright (C) 2025 The R Foundation for Statistical Computing
Platform: aarch64-apple-darwin20
R is free software and comes with ABSOLUTELY NO WARRANTY.
You are welcome to redistribute it under certain conditions.
Type 'license()' or 'licence()' for distribution details.
R is a collaborative project with many contributors.
Type 'contributors()' for more information and
'citation()' on how to cite R or R packages in publications.
Type 'demo()' for some demos, 'help()' for on-line help, or
'help.start()' for an HTML browser interface to help.
Type 'q()' to quit R.
> library(testthat)
> library(GeoDiff)
Loading required package: Biobase
Loading required package: BiocGenerics
Loading required package: generics
Attaching package: 'generics'
The following objects are masked from 'package:base':
as.difftime, as.factor, as.ordered, intersect, is.element, setdiff,
setequal, union
Attaching package: 'BiocGenerics'
The following objects are masked from 'package:stats':
IQR, mad, sd, var, xtabs
The following objects are masked from 'package:base':
Filter, Find, Map, Position, Reduce, anyDuplicated, aperm, append,
as.data.frame, basename, cbind, colnames, dirname, do.call,
duplicated, eval, evalq, get, grep, grepl, is.unsorted, lapply,
mapply, match, mget, order, paste, pmax, pmax.int, pmin, pmin.int,
rank, rbind, rownames, sapply, saveRDS, table, tapply, unique,
unsplit, which.max, which.min
Welcome to Bioconductor
Vignettes contain introductory material; view with
'browseVignettes()'. To cite Bioconductor, see
'citation("Biobase")', and for packages 'citation("pkgname")'.
> library(Biobase)
>
> proc.time()
user system elapsed
2.884 0.130 3.020
GeoDiff.Rcheck/GeoDiff-Ex.timings
| name | user | system | elapsed | |
| BGScoreTest-methods | 1.450 | 0.143 | 1.598 | |
| DENBth-methods | 0.003 | 0.002 | 0.005 | |
| NBthDEmod2 | 0.025 | 0.002 | 0.027 | |
| NBthmDEmod2 | 0.002 | 0.001 | 0.002 | |
| NBthmDEmod2slope | 0.002 | 0.001 | 0.002 | |
| QuanRange-methods | 2.408 | 0.290 | 2.701 | |
| aggreprobe-methods | 0.544 | 0.125 | 0.671 | |
| coefNBth-methods | 0.009 | 0.002 | 0.011 | |
| contrastNBth-methods | 0.002 | 0.002 | 0.004 | |
| demoData | 0.104 | 0.004 | 0.107 | |
| diagPoisBG-methods | 0.377 | 0.026 | 0.405 | |
| fitNBth-methods | 2.960 | 0.205 | 3.175 | |
| fitNBthDE-methods | 5.337 | 0.204 | 5.546 | |
| fitNBthmDE-methods | 5.703 | 0.208 | 5.915 | |
| fitPoisBG-methods | 0.229 | 0.006 | 0.235 | |
| fitPoisthNorm-methods | 22.605 | 0.684 | 23.364 | |
| kidney | 0.229 | 0.008 | 0.238 | |