Back to Multiple platform build/check report for BioC 3.22:   simplified   long
ABCDEF[G]HIJKLMNOPQRSTUVWXYZ

This page was generated on 2025-10-15 12:03 -0400 (Wed, 15 Oct 2025).

HostnameOSArch (*)R versionInstalled pkgs
nebbiolo2Linux (Ubuntu 24.04.3 LTS)x86_644.5.1 Patched (2025-08-23 r88802) -- "Great Square Root" 4866
lconwaymacOS 12.7.6 Montereyx86_644.5.1 Patched (2025-09-10 r88807) -- "Great Square Root" 4653
kjohnson3macOS 13.7.7 Venturaarm644.5.1 Patched (2025-09-10 r88807) -- "Great Square Root" 4598
taishanLinux (openEuler 24.03 LTS)aarch644.5.0 (2025-04-11) -- "How About a Twenty-Six" 4610
Click on any hostname to see more info about the system (e.g. compilers)      (*) as reported by 'uname -p', except on Windows and Mac OS X

Package 831/2346HostnameOS / ArchINSTALLBUILDCHECKBUILD BIN
GenomAutomorphism 1.11.2  (landing page)
Robersy Sanchez
Snapshot Date: 2025-10-14 13:45 -0400 (Tue, 14 Oct 2025)
git_url: https://git.bioconductor.org/packages/GenomAutomorphism
git_branch: devel
git_last_commit: 85d32ad
git_last_commit_date: 2025-07-28 14:45:12 -0400 (Mon, 28 Jul 2025)
nebbiolo2Linux (Ubuntu 24.04.3 LTS) / x86_64  OK    OK    OK  UNNEEDED, same version is already published
lconwaymacOS 12.7.6 Monterey / x86_64  OK    OK    OK    OK  UNNEEDED, same version is already published
kjohnson3macOS 13.7.7 Ventura / arm64  OK    OK    OK    OK  UNNEEDED, same version is already published
taishanLinux (openEuler 24.03 LTS) / aarch64  OK    OK    OK  


CHECK results for GenomAutomorphism on nebbiolo2

To the developers/maintainers of the GenomAutomorphism package:
- Allow up to 24 hours (and sometimes 48 hours) for your latest push to git@git.bioconductor.org:packages/GenomAutomorphism.git to reflect on this report. See Troubleshooting Build Report for more information.
- Use the following Renviron settings to reproduce errors and warnings.
- If 'R CMD check' started to fail recently on the Linux builder(s) over a missing dependency, add the missing dependency to 'Suggests:' in your DESCRIPTION file. See Renviron.bioc for more information.

raw results


Summary

Package: GenomAutomorphism
Version: 1.11.2
Command: /home/biocbuild/bbs-3.22-bioc/R/bin/R CMD check --install=check:GenomAutomorphism.install-out.txt --library=/home/biocbuild/bbs-3.22-bioc/R/site-library --timings GenomAutomorphism_1.11.2.tar.gz
StartedAt: 2025-10-15 00:12:59 -0400 (Wed, 15 Oct 2025)
EndedAt: 2025-10-15 00:17:12 -0400 (Wed, 15 Oct 2025)
EllapsedTime: 253.2 seconds
RetCode: 0
Status:   OK  
CheckDir: GenomAutomorphism.Rcheck
Warnings: 0

Command output

##############################################################################
##############################################################################
###
### Running command:
###
###   /home/biocbuild/bbs-3.22-bioc/R/bin/R CMD check --install=check:GenomAutomorphism.install-out.txt --library=/home/biocbuild/bbs-3.22-bioc/R/site-library --timings GenomAutomorphism_1.11.2.tar.gz
###
##############################################################################
##############################################################################


* using log directory ‘/home/biocbuild/bbs-3.22-bioc/meat/GenomAutomorphism.Rcheck’
* using R version 4.5.1 Patched (2025-08-23 r88802)
* using platform: x86_64-pc-linux-gnu
* R was compiled by
    gcc (Ubuntu 13.3.0-6ubuntu2~24.04) 13.3.0
    GNU Fortran (Ubuntu 13.3.0-6ubuntu2~24.04) 13.3.0
* running under: Ubuntu 24.04.3 LTS
* using session charset: UTF-8
* checking for file ‘GenomAutomorphism/DESCRIPTION’ ... OK
* this is package ‘GenomAutomorphism’ version ‘1.11.2’
* package encoding: UTF-8
* checking package namespace information ... OK
* checking package dependencies ... OK
* checking if this is a source package ... OK
* checking if there is a namespace ... OK
* checking for hidden files and directories ... OK
* checking for portable file names ... OK
* checking for sufficient/correct file permissions ... OK
* checking whether package ‘GenomAutomorphism’ can be installed ... OK
* checking installed package size ... OK
* checking package directory ... OK
* checking ‘build’ directory ... OK
* checking DESCRIPTION meta-information ... OK
* checking top-level files ... OK
* checking for left-over files ... OK
* checking index information ... OK
* checking package subdirectories ... OK
* checking code files for non-ASCII characters ... OK
* checking R files for syntax errors ... OK
* checking whether the package can be loaded ... OK
* checking whether the package can be loaded with stated dependencies ... OK
* checking whether the package can be unloaded cleanly ... OK
* checking whether the namespace can be loaded with stated dependencies ... OK
* checking whether the namespace can be unloaded cleanly ... OK
* checking loading without being on the library search path ... OK
* checking dependencies in R code ... OK
* checking S3 generic/method consistency ... OK
* checking replacement functions ... OK
* checking foreign function calls ... OK
* checking R code for possible problems ... OK
* checking Rd files ... OK
* checking Rd metadata ... OK
* checking Rd cross-references ... NOTE
Non-topic package-anchored link(s) in Rd file 'reexports.Rd':
  ‘[S4Vectors:S4Vectors-internals]{setValidity2}’

See section 'Cross-references' in the 'Writing R Extensions' manual.
* checking for missing documentation entries ... OK
* checking for code/documentation mismatches ... OK
* checking Rd \usage sections ... OK
* checking Rd contents ... OK
* checking for unstated dependencies in examples ... OK
* checking contents of ‘data’ directory ... OK
* checking data for non-ASCII characters ... OK
* checking data for ASCII and uncompressed saves ... OK
* checking files in ‘vignettes’ ... OK
* checking examples ... OK
Examples with CPU (user + system) or elapsed time > 5s
                user system elapsed
aminoacid_dist 4.936  1.080   5.453
automorphisms  4.669  0.877   4.922
* checking for unstated dependencies in ‘tests’ ... OK
* checking tests ...
  Running ‘spelling.R’
  Running ‘testthat.R’
 OK
* checking for unstated dependencies in vignettes ... OK
* checking package vignettes ... OK
* checking re-building of vignette outputs ... OK
* checking PDF version of manual ... OK
* DONE

Status: 1 NOTE
See
  ‘/home/biocbuild/bbs-3.22-bioc/meat/GenomAutomorphism.Rcheck/00check.log’
for details.


Installation output

GenomAutomorphism.Rcheck/00install.out

##############################################################################
##############################################################################
###
### Running command:
###
###   /home/biocbuild/bbs-3.22-bioc/R/bin/R CMD INSTALL GenomAutomorphism
###
##############################################################################
##############################################################################


* installing to library ‘/home/biocbuild/bbs-3.22-bioc/R/site-library’
* installing *source* package ‘GenomAutomorphism’ ...
** this is package ‘GenomAutomorphism’ version ‘1.11.2’
** using staged installation
** R
** data
** inst
** byte-compile and prepare package for lazy loading
** help
*** installing help indices
*** copying figures
** building package indices
** installing vignettes
** testing if installed package can be loaded from temporary location
** testing if installed package can be loaded from final location
** testing if installed package keeps a record of temporary installation path
* DONE (GenomAutomorphism)

Tests output

GenomAutomorphism.Rcheck/tests/spelling.Rout


R version 4.5.1 Patched (2025-08-23 r88802) -- "Great Square Root"
Copyright (C) 2025 The R Foundation for Statistical Computing
Platform: x86_64-pc-linux-gnu

R is free software and comes with ABSOLUTELY NO WARRANTY.
You are welcome to redistribute it under certain conditions.
Type 'license()' or 'licence()' for distribution details.

R is a collaborative project with many contributors.
Type 'contributors()' for more information and
'citation()' on how to cite R or R packages in publications.

Type 'demo()' for some demos, 'help()' for on-line help, or
'help.start()' for an HTML browser interface to help.
Type 'q()' to quit R.

> if (requireNamespace("spelling", quietly = TRUE)) {
+     spelling::spell_check_test(
+         vignettes = TRUE, error = FALSE,
+         skip_on_cran = TRUE
+     )
+ }
All Done!
> 
> proc.time()
   user  system elapsed 
  0.137   0.036   0.164 

GenomAutomorphism.Rcheck/tests/testthat.Rout


R version 4.5.1 Patched (2025-08-23 r88802) -- "Great Square Root"
Copyright (C) 2025 The R Foundation for Statistical Computing
Platform: x86_64-pc-linux-gnu

R is free software and comes with ABSOLUTELY NO WARRANTY.
You are welcome to redistribute it under certain conditions.
Type 'license()' or 'licence()' for distribution details.

R is a collaborative project with many contributors.
Type 'contributors()' for more information and
'citation()' on how to cite R or R packages in publications.

Type 'demo()' for some demos, 'help()' for on-line help, or
'help.start()' for an HTML browser interface to help.
Type 'q()' to quit R.

> library(testthat)
> library(GenomAutomorphism)
> 
> test_check("GenomAutomorphism")
[ FAIL 0 | WARN 0 | SKIP 0 | PASS 34 ]
> 
> proc.time()
   user  system elapsed 
 22.607   2.682  25.030 

Example timings

GenomAutomorphism.Rcheck/GenomAutomorphism-Ex.timings

nameusersystemelapsed
AutomorphismByCoef0.4200.0040.424
AutomorphismList2.3480.1032.451
CodonMatrix0.1600.0080.167
CodonSeq0.3240.0110.334
GRangesMatrixSeq0.1810.0170.199
ListCodonMatrix0.1990.0050.205
MatrixSeq0.1000.0040.105
aa_phychem_index0.0880.0050.093
aaindex10.0330.0010.034
aaindex20.0160.0080.024
aaindex30.0090.0020.010
aln0.0570.0030.060
aminoacid_dist4.9361.0805.453
as.AutomorphismList0.5950.1740.636
aut3D1.5300.4961.826
autZ1252.4770.7372.411
autZ51.0710.3261.201
autZ641.9060.3072.021
autby_coef0.2950.0110.305
autm0.0380.0010.039
autm_3d0.0490.0030.052
autm_z1250.0410.0070.047
automorphismByRanges0.1000.0130.113
automorphism_bycoef0.0930.0020.095
automorphism_prob1.0690.0551.124
automorphisms4.6690.8774.922
base2codon0.0530.0010.054
base2int0.0050.0020.007
base_methods0.3800.0360.417
brca1_aln0.0560.0050.061
brca1_aln20.0580.0020.060
brca1_autm0.4100.0100.421
cdm_z640.1190.0500.169
codon_coord0.8240.0330.857
codon_dist0.2860.0030.317
codon_dist_matrix2.0690.2512.318
codon_matrix0.6420.0460.689
conserved_regions0.3350.0020.338
covid_aln0.0560.0010.057
covid_autm0.0410.0030.045
cyc_aln0.0780.0000.078
cyc_autm0.0650.0020.067
dna_phyche0.0060.0000.006
dna_phychem0.0010.0010.002
extract-methods0.4860.0090.495
getAutomorphisms0.1990.0210.228
get_coord0.5490.0670.620
get_mutscore0.1580.0020.164
matrices0.4530.0320.501
mod0.0010.0000.002
modeq0.0000.0010.001
modlineq0.0010.0010.002
mut_type0.0010.0010.001
peptide_phychem_index0.1070.0020.108
reexports0.0610.0010.062
seqranges0.5170.0010.517
slapply0.0010.0010.001
sortByChromAndStart0.0540.0000.055
str2chr000
str2dig000
translation0.7140.0020.720