Back to Multiple platform build/check report for BioC 3.22:   simplified   long
ABCDEF[G]HIJKLMNOPQRSTUVWXYZ

This page was generated on 2025-10-04 12:04 -0400 (Sat, 04 Oct 2025).

HostnameOSArch (*)R versionInstalled pkgs
nebbiolo2Linux (Ubuntu 24.04.3 LTS)x86_644.5.1 Patched (2025-08-23 r88802) -- "Great Square Root" 4853
lconwaymacOS 12.7.1 Montereyx86_644.5.1 Patched (2025-09-10 r88807) -- "Great Square Root" 4640
kjohnson3macOS 13.7.7 Venturaarm644.5.1 Patched (2025-09-10 r88807) -- "Great Square Root" 4585
taishanLinux (openEuler 24.03 LTS)aarch644.5.0 (2025-04-11) -- "How About a Twenty-Six" 4576
Click on any hostname to see more info about the system (e.g. compilers)      (*) as reported by 'uname -p', except on Windows and Mac OS X

Package 831/2341HostnameOS / ArchINSTALLBUILDCHECKBUILD BIN
GenomAutomorphism 1.11.2  (landing page)
Robersy Sanchez
Snapshot Date: 2025-10-03 13:45 -0400 (Fri, 03 Oct 2025)
git_url: https://git.bioconductor.org/packages/GenomAutomorphism
git_branch: devel
git_last_commit: 85d32ad
git_last_commit_date: 2025-07-28 14:45:12 -0400 (Mon, 28 Jul 2025)
nebbiolo2Linux (Ubuntu 24.04.3 LTS) / x86_64  OK    OK    OK  UNNEEDED, same version is already published
lconwaymacOS 12.7.1 Monterey / x86_64  OK    OK    OK    OK  UNNEEDED, same version is already published
kjohnson3macOS 13.7.7 Ventura / arm64  OK    OK    OK    OK  UNNEEDED, same version is already published
taishanLinux (openEuler 24.03 LTS) / aarch64  OK    OK    OK  


CHECK results for GenomAutomorphism on lconway

To the developers/maintainers of the GenomAutomorphism package:
- Allow up to 24 hours (and sometimes 48 hours) for your latest push to git@git.bioconductor.org:packages/GenomAutomorphism.git to reflect on this report. See Troubleshooting Build Report for more information.
- Use the following Renviron settings to reproduce errors and warnings.
- If 'R CMD check' started to fail recently on the Linux builder(s) over a missing dependency, add the missing dependency to 'Suggests:' in your DESCRIPTION file. See Renviron.bioc for more information.

raw results


Summary

Package: GenomAutomorphism
Version: 1.11.2
Command: /Library/Frameworks/R.framework/Resources/bin/R CMD check --install=check:GenomAutomorphism.install-out.txt --library=/Library/Frameworks/R.framework/Resources/library --no-vignettes --timings GenomAutomorphism_1.11.2.tar.gz
StartedAt: 2025-10-03 21:46:04 -0400 (Fri, 03 Oct 2025)
EndedAt: 2025-10-03 21:53:19 -0400 (Fri, 03 Oct 2025)
EllapsedTime: 435.0 seconds
RetCode: 0
Status:   OK  
CheckDir: GenomAutomorphism.Rcheck
Warnings: 0

Command output

##############################################################################
##############################################################################
###
### Running command:
###
###   /Library/Frameworks/R.framework/Resources/bin/R CMD check --install=check:GenomAutomorphism.install-out.txt --library=/Library/Frameworks/R.framework/Resources/library --no-vignettes --timings GenomAutomorphism_1.11.2.tar.gz
###
##############################################################################
##############################################################################


* using log directory ‘/Users/biocbuild/bbs-3.22-bioc/meat/GenomAutomorphism.Rcheck’
* using R version 4.5.1 Patched (2025-09-10 r88807)
* using platform: x86_64-apple-darwin20
* R was compiled by
    Apple clang version 14.0.0 (clang-1400.0.29.202)
    GNU Fortran (GCC) 14.2.0
* running under: macOS Monterey 12.7.6
* using session charset: UTF-8
* using option ‘--no-vignettes’
* checking for file ‘GenomAutomorphism/DESCRIPTION’ ... OK
* this is package ‘GenomAutomorphism’ version ‘1.11.2’
* package encoding: UTF-8
* checking package namespace information ... OK
* checking package dependencies ... OK
* checking if this is a source package ... OK
* checking if there is a namespace ... OK
* checking for hidden files and directories ... OK
* checking for portable file names ... OK
* checking for sufficient/correct file permissions ... OK
* checking whether package ‘GenomAutomorphism’ can be installed ... OK
* checking installed package size ... OK
* checking package directory ... OK
* checking ‘build’ directory ... OK
* checking DESCRIPTION meta-information ... OK
* checking top-level files ... OK
* checking for left-over files ... OK
* checking index information ... OK
* checking package subdirectories ... OK
* checking code files for non-ASCII characters ... OK
* checking R files for syntax errors ... OK
* checking whether the package can be loaded ... OK
* checking whether the package can be loaded with stated dependencies ... OK
* checking whether the package can be unloaded cleanly ... OK
* checking whether the namespace can be loaded with stated dependencies ... OK
* checking whether the namespace can be unloaded cleanly ... OK
* checking dependencies in R code ... OK
* checking S3 generic/method consistency ... OK
* checking replacement functions ... OK
* checking foreign function calls ... OK
* checking R code for possible problems ... OK
* checking Rd files ... OK
* checking Rd metadata ... OK
* checking Rd cross-references ... NOTE
Non-topic package-anchored link(s) in Rd file 'reexports.Rd':
  ‘[S4Vectors:S4Vectors-internals]{setValidity2}’

See section 'Cross-references' in the 'Writing R Extensions' manual.
* checking for missing documentation entries ... OK
* checking for code/documentation mismatches ... OK
* checking Rd \usage sections ... OK
* checking Rd contents ... OK
* checking for unstated dependencies in examples ... OK
* checking contents of ‘data’ directory ... OK
* checking data for non-ASCII characters ... OK
* checking data for ASCII and uncompressed saves ... OK
* checking files in ‘vignettes’ ... OK
* checking examples ... OK
Examples with CPU (user + system) or elapsed time > 5s
                   user system elapsed
automorphisms     6.484  0.155  65.496
aminoacid_dist    3.510  1.007  11.422
autZ64            2.192  0.076  21.327
aut3D             1.894  0.118  21.610
autZ125           1.796  0.050  17.093
autZ5             1.553  0.067  21.081
codon_dist_matrix 0.045  0.009   7.663
* checking for unstated dependencies in ‘tests’ ... OK
* checking tests ...
  Running ‘spelling.R’
  Running ‘testthat.R’
 OK
* checking for unstated dependencies in vignettes ... OK
* checking package vignettes ... OK
* checking running R code from vignettes ... SKIPPED
* checking re-building of vignette outputs ... SKIPPED
* checking PDF version of manual ... OK
* DONE

Status: 1 NOTE
See
  ‘/Users/biocbuild/bbs-3.22-bioc/meat/GenomAutomorphism.Rcheck/00check.log’
for details.


Installation output

GenomAutomorphism.Rcheck/00install.out

##############################################################################
##############################################################################
###
### Running command:
###
###   /Library/Frameworks/R.framework/Resources/bin/R CMD INSTALL GenomAutomorphism
###
##############################################################################
##############################################################################


* installing to library ‘/Library/Frameworks/R.framework/Versions/4.5-x86_64/Resources/library’
* installing *source* package ‘GenomAutomorphism’ ...
** this is package ‘GenomAutomorphism’ version ‘1.11.2’
** using staged installation
** R
** data
** inst
** byte-compile and prepare package for lazy loading
** help
*** installing help indices
*** copying figures
** building package indices
** installing vignettes
** testing if installed package can be loaded from temporary location
** testing if installed package can be loaded from final location
** testing if installed package keeps a record of temporary installation path
* DONE (GenomAutomorphism)

Tests output

GenomAutomorphism.Rcheck/tests/spelling.Rout


R version 4.5.1 Patched (2025-09-10 r88807) -- "Great Square Root"
Copyright (C) 2025 The R Foundation for Statistical Computing
Platform: x86_64-apple-darwin20

R is free software and comes with ABSOLUTELY NO WARRANTY.
You are welcome to redistribute it under certain conditions.
Type 'license()' or 'licence()' for distribution details.

R is a collaborative project with many contributors.
Type 'contributors()' for more information and
'citation()' on how to cite R or R packages in publications.

Type 'demo()' for some demos, 'help()' for on-line help, or
'help.start()' for an HTML browser interface to help.
Type 'q()' to quit R.

> if (requireNamespace("spelling", quietly = TRUE)) {
+     spelling::spell_check_test(
+         vignettes = TRUE, error = FALSE,
+         skip_on_cran = TRUE
+     )
+ }
All Done!
> 
> proc.time()
   user  system elapsed 
  0.216   0.089   0.294 

GenomAutomorphism.Rcheck/tests/testthat.Rout


R version 4.5.1 Patched (2025-09-10 r88807) -- "Great Square Root"
Copyright (C) 2025 The R Foundation for Statistical Computing
Platform: x86_64-apple-darwin20

R is free software and comes with ABSOLUTELY NO WARRANTY.
You are welcome to redistribute it under certain conditions.
Type 'license()' or 'licence()' for distribution details.

R is a collaborative project with many contributors.
Type 'contributors()' for more information and
'citation()' on how to cite R or R packages in publications.

Type 'demo()' for some demos, 'help()' for on-line help, or
'help.start()' for an HTML browser interface to help.
Type 'q()' to quit R.

> library(testthat)
> library(GenomAutomorphism)
> 
> test_check("GenomAutomorphism")
[ FAIL 0 | WARN 0 | SKIP 0 | PASS 34 ]
> 
> proc.time()
   user  system elapsed 
 25.317   1.234  78.254 

Example timings

GenomAutomorphism.Rcheck/GenomAutomorphism-Ex.timings

nameusersystemelapsed
AutomorphismByCoef0.4980.0150.518
AutomorphismList2.8040.0502.880
CodonMatrix0.2110.0030.214
CodonSeq0.5110.0250.539
GRangesMatrixSeq0.2200.0210.243
ListCodonMatrix0.2810.0070.291
MatrixSeq0.1150.0070.127
aa_phychem_index0.1030.0140.120
aaindex10.0350.0020.037
aaindex20.0130.0020.015
aaindex30.0090.0020.010
aln0.1170.0060.123
aminoacid_dist 3.510 1.00711.422
as.AutomorphismList0.6910.0400.739
aut3D 1.894 0.11821.610
autZ125 1.796 0.05017.093
autZ5 1.553 0.06721.081
autZ64 2.192 0.07621.327
autby_coef0.3620.0070.376
autm0.0400.0040.045
autm_3d0.0620.0030.065
autm_z1250.0560.0040.062
automorphismByRanges0.1140.0060.121
automorphism_bycoef0.1070.0060.113
automorphism_prob1.1250.0411.174
automorphisms 6.484 0.15565.496
base2codon0.1010.0140.132
base2int0.0050.0010.007
base_methods0.4670.0250.499
brca1_aln0.0710.0050.077
brca1_aln20.0840.0050.092
brca1_autm0.5070.0060.518
cdm_z640.2180.4460.672
codon_coord0.9490.0140.966
codon_dist0.3410.0090.352
codon_dist_matrix0.0450.0097.663
codon_matrix0.7050.0140.722
conserved_regions0.4040.0080.416
covid_aln0.1180.0060.126
covid_autm0.0540.0040.059
cyc_aln0.1550.0060.163
cyc_autm0.0790.0040.083
dna_phyche0.0070.0030.008
dna_phychem0.0020.0010.003
extract-methods0.5870.0120.602
getAutomorphisms0.2130.0090.223
get_coord0.6390.0100.652
get_mutscore0.1960.0110.209
matrices0.5820.0120.596
mod0.0020.0020.004
modeq0.0010.0010.002
modlineq0.0020.0020.004
mut_type0.0020.0010.002
peptide_phychem_index0.1200.0100.131
reexports0.0650.0050.070
seqranges0.6260.0080.635
slapply0.0010.0010.002
sortByChromAndStart0.0750.0010.077
str2chr0.0000.0010.001
str2dig0.0000.0000.001
translation0.9890.0101.004