| Back to Multiple platform build/check report for BioC 3.22: simplified long |
|
This page was generated on 2025-10-21 12:07 -0400 (Tue, 21 Oct 2025).
| Hostname | OS | Arch (*) | R version | Installed pkgs |
|---|---|---|---|---|
| nebbiolo2 | Linux (Ubuntu 24.04.3 LTS) | x86_64 | 4.5.1 Patched (2025-08-23 r88802) -- "Great Square Root" | 4887 |
| lconway | macOS 12.7.6 Monterey | x86_64 | 4.5.1 Patched (2025-09-10 r88807) -- "Great Square Root" | 4677 |
| kjohnson3 | macOS 13.7.7 Ventura | arm64 | 4.5.1 Patched (2025-09-10 r88807) -- "Great Square Root" | 4622 |
| taishan | Linux (openEuler 24.03 LTS) | aarch64 | 4.5.0 (2025-04-11) -- "How About a Twenty-Six" | 4642 |
| Click on any hostname to see more info about the system (e.g. compilers) (*) as reported by 'uname -p', except on Windows and Mac OS X | ||||
| Package 667/2353 | Hostname | OS / Arch | INSTALL | BUILD | CHECK | BUILD BIN | ||||||||
| EnrichmentBrowser 2.39.2 (landing page) Ludwig Geistlinger
| nebbiolo2 | Linux (Ubuntu 24.04.3 LTS) / x86_64 | OK | OK | OK | |||||||||
| lconway | macOS 12.7.6 Monterey / x86_64 | OK | OK | OK | OK | |||||||||
| kjohnson3 | macOS 13.7.7 Ventura / arm64 | OK | OK | OK | OK | |||||||||
| taishan | Linux (openEuler 24.03 LTS) / aarch64 | OK | OK | OK | ||||||||||
|
To the developers/maintainers of the EnrichmentBrowser package: - Allow up to 24 hours (and sometimes 48 hours) for your latest push to git@git.bioconductor.org:packages/EnrichmentBrowser.git to reflect on this report. See Troubleshooting Build Report for more information. - Use the following Renviron settings to reproduce errors and warnings. - If 'R CMD check' started to fail recently on the Linux builder(s) over a missing dependency, add the missing dependency to 'Suggests:' in your DESCRIPTION file. See Renviron.bioc for more information. - See Martin Grigorov's blog post for how to debug Linux ARM64 related issues on a x86_64 host. |
| Package: EnrichmentBrowser |
| Version: 2.39.2 |
| Command: /home/biocbuild/R/R/bin/R CMD check --install=check:EnrichmentBrowser.install-out.txt --library=/home/biocbuild/R/R/site-library --no-vignettes --timings EnrichmentBrowser_2.39.2.tar.gz |
| StartedAt: 2025-10-17 08:39:15 -0000 (Fri, 17 Oct 2025) |
| EndedAt: 2025-10-17 08:57:35 -0000 (Fri, 17 Oct 2025) |
| EllapsedTime: 1100.2 seconds |
| RetCode: 0 |
| Status: OK |
| CheckDir: EnrichmentBrowser.Rcheck |
| Warnings: 0 |
##############################################################################
##############################################################################
###
### Running command:
###
### /home/biocbuild/R/R/bin/R CMD check --install=check:EnrichmentBrowser.install-out.txt --library=/home/biocbuild/R/R/site-library --no-vignettes --timings EnrichmentBrowser_2.39.2.tar.gz
###
##############################################################################
##############################################################################
* using log directory ‘/home/biocbuild/bbs-3.22-bioc/meat/EnrichmentBrowser.Rcheck’
* using R version 4.5.0 (2025-04-11)
* using platform: aarch64-unknown-linux-gnu
* R was compiled by
aarch64-unknown-linux-gnu-gcc (GCC) 14.2.0
GNU Fortran (GCC) 14.2.0
* running under: openEuler 24.03 (LTS)
* using session charset: UTF-8
* using option ‘--no-vignettes’
* checking for file ‘EnrichmentBrowser/DESCRIPTION’ ... OK
* this is package ‘EnrichmentBrowser’ version ‘2.39.2’
* package encoding: UTF-8
* checking package namespace information ... OK
* checking package dependencies ... OK
* checking if this is a source package ... OK
* checking if there is a namespace ... OK
* checking for hidden files and directories ... OK
* checking for portable file names ... OK
* checking for sufficient/correct file permissions ... OK
* checking whether package ‘EnrichmentBrowser’ can be installed ... OK
* checking installed package size ... OK
* checking package directory ... OK
* checking ‘build’ directory ... OK
* checking DESCRIPTION meta-information ... OK
* checking top-level files ... OK
* checking for left-over files ... OK
* checking index information ... OK
* checking package subdirectories ... OK
* checking code files for non-ASCII characters ... OK
* checking R files for syntax errors ... OK
* checking whether the package can be loaded ... OK
* checking whether the package can be loaded with stated dependencies ... OK
* checking whether the package can be unloaded cleanly ... OK
* checking whether the namespace can be loaded with stated dependencies ... OK
* checking whether the namespace can be unloaded cleanly ... OK
* checking loading without being on the library search path ... OK
* checking whether startup messages can be suppressed ... OK
* checking dependencies in R code ... NOTE
Unexported object imported by a ':::' call: 'pathview:::parseKGML2Graph2'
See the note in ?`:::` about the use of this operator.
* checking S3 generic/method consistency ... OK
* checking replacement functions ... OK
* checking foreign function calls ... OK
* checking R code for possible problems ... NOTE
.getGOFromBiomart: no visible binding for global variable
‘go_linkage_type’
Undefined global functions or variables:
go_linkage_type
* checking Rd files ... OK
* checking Rd metadata ... OK
* checking Rd cross-references ... NOTE
Found the following Rd file(s) with Rd \link{} targets missing package
anchors:
compileGRN.Rd: KEGGPathway-class, pathwayDatabases, pathways,
parseKGML
deAna.Rd: SummarizedExperiment-class, colData, filterByExpr, rowData,
voom, eBayes, glmQLFit
downloadPathways.Rd: keggList, keggGet, KEGGPathway-class, parseKGML
eaBrowse.Rd: DataFrame-class
ebrowser.Rd: SummarizedExperiment-class, assays, colData, rowData,
kegg.species.code, normalizeBetweenArrays, lmFit,
normalizeWithinArrays
getGenesets.Rd: GeneSetCollection-class, DataFrame-class, keggList,
keggLink
ggeaGraph.Rd: SummarizedExperiment-class
idMap.Rd: SummarizedExperiment-class, GeneSetCollection-class,
rowData, mapIds, keytypes
import.Rd: SummarizedExperiment-class, EList-class, DGEList-class,
TopTags-class, voom, eBayes, glmQLFit
isAvailable.Rd: install
nbea.Rd: SummarizedExperiment-class
normalize.Rd: SummarizedExperiment-class, normalizeBetweenArrays,
filterByExpr, normalizeWithinArrays, cpm, estimateDisp, voom
probe2gene.Rd: SummarizedExperiment-class, metadata, rowData, mapIds
readSE.Rd: SummarizedExperiment-class
sbea.Rd: SummarizedExperiment-class
Please provide package anchors for all Rd \link{} targets not in the
package itself and the base packages.
* checking for missing documentation entries ... OK
* checking for code/documentation mismatches ... OK
* checking Rd \usage sections ... OK
* checking Rd contents ... OK
* checking for unstated dependencies in examples ... OK
* checking files in ‘vignettes’ ... OK
* checking examples ... OK
Examples with CPU (user + system) or elapsed time > 5s
user system elapsed
ebrowser 690.370 28.476 762.042
getGenesets 19.273 1.279 27.328
eaBrowse 9.098 0.424 9.782
import 5.445 0.367 5.834
* checking for unstated dependencies in vignettes ... OK
* checking package vignettes ... OK
* checking running R code from vignettes ... SKIPPED
* checking re-building of vignette outputs ... SKIPPED
* checking PDF version of manual ... OK
* DONE
Status: 3 NOTEs
See
‘/home/biocbuild/bbs-3.22-bioc/meat/EnrichmentBrowser.Rcheck/00check.log’
for details.
EnrichmentBrowser.Rcheck/00install.out
############################################################################## ############################################################################## ### ### Running command: ### ### /home/biocbuild/R/R/bin/R CMD INSTALL EnrichmentBrowser ### ############################################################################## ############################################################################## * installing to library ‘/home/biocbuild/R/R-4.5.0/site-library’ * installing *source* package ‘EnrichmentBrowser’ ... ** this is package ‘EnrichmentBrowser’ version ‘2.39.2’ ** using staged installation ** R ** inst ** byte-compile and prepare package for lazy loading ** help *** installing help indices ** building package indices ** installing vignettes ** testing if installed package can be loaded from temporary location ** testing if installed package can be loaded from final location ** testing if installed package keeps a record of temporary installation path * DONE (EnrichmentBrowser)
EnrichmentBrowser.Rcheck/EnrichmentBrowser-Ex.timings
| name | user | system | elapsed | |
| combResults | 1.235 | 0.024 | 1.262 | |
| compileGRN | 3.458 | 0.136 | 3.603 | |
| configEBrowser | 0.001 | 0.000 | 0.001 | |
| deAna | 4.813 | 0.052 | 4.876 | |
| downloadPathways | 0 | 0 | 0 | |
| eaBrowse | 9.098 | 0.424 | 9.782 | |
| ebrowser | 690.370 | 28.476 | 762.042 | |
| getGenesets | 19.273 | 1.279 | 27.328 | |
| ggeaGraph | 1.588 | 0.136 | 1.734 | |
| idMap | 1.116 | 0.091 | 1.214 | |
| import | 5.445 | 0.367 | 5.834 | |
| isAvailable | 0 | 0 | 0 | |
| makeExampleData | 0.039 | 0.000 | 0.039 | |
| nbea | 0.376 | 0.008 | 0.386 | |
| normalize | 0.543 | 0.000 | 0.545 | |
| plots | 1.655 | 0.084 | 1.747 | |
| probe2gene | 0.091 | 0.000 | 0.091 | |
| readSE | 0.234 | 0.024 | 0.259 | |
| sbea | 0.232 | 0.000 | 0.233 | |