| Back to Multiple platform build/check report for BioC 3.23: simplified long |
|
This page was generated on 2025-11-20 11:38 -0500 (Thu, 20 Nov 2025).
| Hostname | OS | Arch (*) | R version | Installed pkgs |
|---|---|---|---|---|
| nebbiolo1 | Linux (Ubuntu 24.04.3 LTS) | x86_64 | R Under development (unstable) (2025-10-20 r88955) -- "Unsuffered Consequences" | 4827 |
| lconway | macOS 12.7.6 Monterey | x86_64 | R Under development (unstable) (2025-10-21 r88958) -- "Unsuffered Consequences" | 4600 |
| kjohnson3 | macOS 13.7.7 Ventura | arm64 | R Under development (unstable) (2025-11-04 r88984) -- "Unsuffered Consequences" | 4564 |
| Click on any hostname to see more info about the system (e.g. compilers) (*) as reported by 'uname -p', except on Windows and Mac OS X | ||||
| Package 622/2325 | Hostname | OS / Arch | INSTALL | BUILD | CHECK | BUILD BIN | ||||||||
| DspikeIn 1.1.0 (landing page) Mitra Ghotbi
| nebbiolo1 | Linux (Ubuntu 24.04.3 LTS) / x86_64 | OK | OK | OK | |||||||||
| lconway | macOS 12.7.6 Monterey / x86_64 | OK | OK | OK | OK | |||||||||
| kjohnson3 | macOS 13.7.7 Ventura / arm64 | OK | OK | OK | OK | |||||||||
|
To the developers/maintainers of the DspikeIn package: - Allow up to 24 hours (and sometimes 48 hours) for your latest push to git@git.bioconductor.org:packages/DspikeIn.git to reflect on this report. See Troubleshooting Build Report for more information. - Use the following Renviron settings to reproduce errors and warnings. - If 'R CMD check' started to fail recently on the Linux builder(s) over a missing dependency, add the missing dependency to 'Suggests:' in your DESCRIPTION file. See Renviron.bioc for more information. |
| Package: DspikeIn |
| Version: 1.1.0 |
| Command: /Library/Frameworks/R.framework/Resources/bin/R CMD check --install=check:DspikeIn.install-out.txt --library=/Library/Frameworks/R.framework/Resources/library --no-vignettes --timings DspikeIn_1.1.0.tar.gz |
| StartedAt: 2025-11-19 20:53:03 -0500 (Wed, 19 Nov 2025) |
| EndedAt: 2025-11-19 21:03:09 -0500 (Wed, 19 Nov 2025) |
| EllapsedTime: 606.4 seconds |
| RetCode: 0 |
| Status: OK |
| CheckDir: DspikeIn.Rcheck |
| Warnings: 0 |
##############################################################################
##############################################################################
###
### Running command:
###
### /Library/Frameworks/R.framework/Resources/bin/R CMD check --install=check:DspikeIn.install-out.txt --library=/Library/Frameworks/R.framework/Resources/library --no-vignettes --timings DspikeIn_1.1.0.tar.gz
###
##############################################################################
##############################################################################
* using log directory ‘/Users/biocbuild/bbs-3.23-bioc/meat/DspikeIn.Rcheck’
* using R Under development (unstable) (2025-10-21 r88958)
* using platform: x86_64-apple-darwin20
* R was compiled by
Apple clang version 14.0.0 (clang-1400.0.29.202)
GNU Fortran (GCC) 14.2.0
* running under: macOS Ventura 13.7.8
* using session charset: UTF-8
* using option ‘--no-vignettes’
* checking for file ‘DspikeIn/DESCRIPTION’ ... OK
* checking extension type ... Package
* this is package ‘DspikeIn’ version ‘1.1.0’
* package encoding: UTF-8
* checking package namespace information ... OK
* checking package dependencies ... INFO
Imports includes 38 non-default packages.
Importing from so many packages makes the package vulnerable to any of
them becoming unavailable. Move as many as possible to Suggests and
use conditionally.
* checking if this is a source package ... OK
* checking if there is a namespace ... OK
* checking for hidden files and directories ... OK
* checking for portable file names ... OK
* checking for sufficient/correct file permissions ... OK
* checking whether package ‘DspikeIn’ can be installed ... OK
* checking installed package size ... OK
* checking package directory ... OK
* checking ‘build’ directory ... OK
* checking DESCRIPTION meta-information ... OK
* checking top-level files ... OK
* checking for left-over files ... OK
* checking index information ... OK
* checking package subdirectories ... OK
* checking code files for non-ASCII characters ... OK
* checking R files for syntax errors ... OK
* checking whether the package can be loaded ... OK
* checking whether the package can be loaded with stated dependencies ... OK
* checking whether the package can be unloaded cleanly ... OK
* checking whether the namespace can be loaded with stated dependencies ... OK
* checking whether the namespace can be unloaded cleanly ... OK
* checking whether startup messages can be suppressed ... OK
* checking dependencies in R code ... OK
* checking S3 generic/method consistency ... OK
* checking replacement functions ... OK
* checking foreign function calls ... OK
* checking R code for possible problems ... OK
* checking Rd files ... OK
* checking Rd metadata ... OK
* checking Rd cross-references ... NOTE
Non-topic package-anchored link(s) in Rd file 'label.Rd':
‘[phyloseq:tax_table-methods]{phyloseq::tax_table()}’
See section 'Cross-references' in the 'Writing R Extensions' manual.
* checking for missing documentation entries ... OK
* checking for code/documentation mismatches ... OK
* checking Rd \usage sections ... OK
* checking Rd contents ... OK
* checking for unstated dependencies in examples ... OK
* checking contents of ‘data’ directory ... OK
* checking data for non-ASCII characters ... OK
* checking LazyData ... OK
* checking data for ASCII and uncompressed saves ... OK
* checking files in ‘vignettes’ ... OK
* checking examples ... OK
Examples with CPU (user + system) or elapsed time > 5s
user system elapsed
taxa_barplot 44.940 1.390 46.635
plot_core_microbiome_custom 29.773 0.798 30.780
RandomForest_selected 21.751 0.709 22.671
summ_ASV_OTUID 17.927 0.299 18.340
convert_to_absolute_counts 12.286 0.369 12.745
node_level_metrics 12.023 0.233 12.363
calculate_spike_percentage 9.122 0.799 10.033
Pre_processing_hashcodes 8.543 0.250 8.853
quadrant_plot 8.098 0.216 8.358
ridge_plot_it 6.717 0.183 6.940
random_subsample_WithReductionFactor 4.862 1.058 6.488
normalization_set 5.297 0.372 5.718
alluvial_plot 4.856 0.214 5.112
calculate_spikeIn_factors 4.827 0.182 5.042
* checking for unstated dependencies in ‘tests’ ... OK
* checking tests ...
Running ‘testthat.R’
OK
* checking for unstated dependencies in vignettes ... OK
* checking package vignettes ... OK
* checking running R code from vignettes ... SKIPPED
* checking re-building of vignette outputs ... SKIPPED
* checking PDF version of manual ... OK
* DONE
Status: 1 NOTE
See
‘/Users/biocbuild/bbs-3.23-bioc/meat/DspikeIn.Rcheck/00check.log’
for details.
DspikeIn.Rcheck/00install.out
############################################################################## ############################################################################## ### ### Running command: ### ### /Library/Frameworks/R.framework/Resources/bin/R CMD INSTALL DspikeIn ### ############################################################################## ############################################################################## * installing to library ‘/Library/Frameworks/R.framework/Versions/4.6-x86_64/Resources/library’ * installing *source* package ‘DspikeIn’ ... ** this is package ‘DspikeIn’ version ‘1.1.0’ ** using staged installation ** R ** data *** moving datasets to lazyload DB ** inst ** byte-compile and prepare package for lazy loading ** help *** installing help indices ** building package indices ** installing vignettes ** testing if installed package can be loaded from temporary location ** testing if installed package can be loaded from final location ** testing if installed package keeps a record of temporary installation path * DONE (DspikeIn)
DspikeIn.Rcheck/tests/testthat.Rout
R Under development (unstable) (2025-10-21 r88958) -- "Unsuffered Consequences"
Copyright (C) 2025 The R Foundation for Statistical Computing
Platform: x86_64-apple-darwin20
R is free software and comes with ABSOLUTELY NO WARRANTY.
You are welcome to redistribute it under certain conditions.
Type 'license()' or 'licence()' for distribution details.
R is a collaborative project with many contributors.
Type 'contributors()' for more information and
'citation()' on how to cite R or R packages in publications.
Type 'demo()' for some demos, 'help()' for on-line help, or
'help.start()' for an HTML browser interface to help.
Type 'q()' to quit R.
> # This file is part of the standard setup for testthat.
> # It is recommended that you do not modify it.
> #
> # Where should you do additional test configuration?
> # Learn more about the roles of various files in:
> # * https://r-pkgs.org/testing-design.html#sec-tests-files-overview
> # * https://testthat.r-lib.org/articles/special-files.html
>
> library(testthat)
> library(DspikeIn)
Thank you for using DspikeIn! 🎉
For support, 📧 contact: Mitra Ghotbi (mitra.ghotbi@gmail.com)
GitHub Repository: https://github.com/mghotbi/DspikeIn
🐛 Found a bug or have a suggestion? Open an issue:
https://github.com/mghotbi/DspikeIn/issues
>
> test_check("DspikeIn")
[ FAIL 0 | WARN 0 | SKIP 13 | PASS 0 ]
══ Skipped tests (13) ══════════════════════════════════════════════════════════
• On Bioconductor (13): 'test-Pre_processing_species.R:1:1',
'test-RandomForest_selected.R:1:1', 'test-calculate_spikeIn_factors.R:1:1',
'test-calculate_spike_percentage.R:1:1',
'test-calculate_summary_stats_table.R:1:1', 'test-conclusion.R:1:1',
'test-convert_to_absolute_counts.R:1:1',
'test-imbalance_calculate_list_average_scaling_factors.R:1:1',
'test-node_level_metrics.R:1:1', 'test-perform_and_visualize_DA.R:1:1',
'test-quadrant_plot.R:1:1', 'test-remove_zero_negative_count_samples.R:1:1',
'test-simulate_robustness.R:1:1'
[ FAIL 0 | WARN 0 | SKIP 13 | PASS 0 ]
>
> proc.time()
user system elapsed
14.393 0.952 15.439
DspikeIn.Rcheck/DspikeIn-Ex.timings
| name | user | system | elapsed | |
| AcceptableRange | 0.986 | 0.021 | 1.011 | |
| MG_shapes | 0.595 | 0.013 | 0.611 | |
| Pre_processing_hashcodes | 8.543 | 0.250 | 8.853 | |
| Pre_processing_species | 4.071 | 0.098 | 4.216 | |
| Pre_processing_species_list | 0.379 | 0.007 | 0.389 | |
| RandomForest_selected | 21.751 | 0.709 | 22.671 | |
| adjust_abundance_one_third | 1.009 | 0.086 | 1.107 | |
| adjusted_prevalence | 1.753 | 0.066 | 1.834 | |
| alluvial_plot | 4.856 | 0.214 | 5.112 | |
| calculate_list_average_scaling_factors | 0.044 | 0.002 | 0.047 | |
| calculate_spikeIn_factors | 4.827 | 0.182 | 5.042 | |
| calculate_spike_percentage | 9.122 | 0.799 | 10.033 | |
| calculate_spike_percentage_list | 0.815 | 0.091 | 0.923 | |
| calculate_summary_stats_table | 0.162 | 0.008 | 0.172 | |
| color_palette | 0.515 | 0.006 | 0.528 | |
| conclusion | 2.582 | 0.198 | 2.825 | |
| convert_categorical_to_factors | 0.282 | 0.027 | 0.313 | |
| convert_phyloseq_to_tse | 0.551 | 0.008 | 0.560 | |
| convert_to_absolute_counts | 12.286 | 0.369 | 12.745 | |
| convert_tse_to_phyloseq | 0.968 | 0.060 | 1.036 | |
| create_directory | 0.001 | 0.001 | 0.001 | |
| degree_network | 4.437 | 0.205 | 4.677 | |
| detect_common_asvs_taxa | 0 | 0 | 0 | |
| extract_neighbors | 0.019 | 0.003 | 0.022 | |
| filter_and_split_abundance | 2.797 | 0.097 | 2.920 | |
| get_long_format_data | 0.672 | 0.047 | 0.729 | |
| gm_mean | 0.000 | 0.000 | 0.001 | |
| imbalance_calculate_list_average_scaling_factors | 0.165 | 0.003 | 0.168 | |
| label | 0.036 | 0.002 | 0.038 | |
| metadata_full | 0.017 | 0.005 | 0.022 | |
| my_custom_theme | 0.451 | 0.005 | 0.458 | |
| node_level_metrics | 12.023 | 0.233 | 12.363 | |
| norm.DESeq | 3.162 | 0.137 | 3.323 | |
| normalization_set | 5.297 | 0.372 | 5.718 | |
| perform_and_visualize_DA | 0 | 0 | 0 | |
| physeq | 0.034 | 0.002 | 0.036 | |
| physeq_16SOTU | 0.211 | 0.084 | 0.296 | |
| physeq_ITSOTU | 0.246 | 0.103 | 0.354 | |
| plot_core_microbiome_custom | 29.773 | 0.798 | 30.780 | |
| plot_spikein_tree_diagnostic | 0.001 | 0.001 | 0.001 | |
| plotbar_abundance | 0.001 | 0.001 | 0.001 | |
| proportion_adj | 4.704 | 0.133 | 4.866 | |
| quadrant_plot | 8.098 | 0.216 | 8.358 | |
| random_subsample_WithReductionFactor | 4.862 | 1.058 | 6.488 | |
| randomsubsample_Trimmed_evenDepth | 2.928 | 0.165 | 3.107 | |
| regression_plot | 1.138 | 0.047 | 1.193 | |
| relativized_filtered_taxa | 0.345 | 0.005 | 0.352 | |
| remove_zero_negative_count_samples | 0.416 | 0.048 | 0.474 | |
| ridge_plot_it | 6.717 | 0.183 | 6.940 | |
| set_nf | 0.259 | 0.004 | 0.263 | |
| simulate_network_robustness | 3.096 | 0.100 | 3.214 | |
| summ_ASV_OTUID | 17.927 | 0.299 | 18.340 | |
| summ_count_phyloseq | 2.204 | 0.094 | 2.312 | |
| summ_phyloseq_sampleID | 3.107 | 0.971 | 4.156 | |
| taxa_barplot | 44.940 | 1.390 | 46.635 | |
| tidy_phyloseq_tse | 2.607 | 0.054 | 2.677 | |
| tse | 0.055 | 0.002 | 0.057 | |
| validate_spikein_clade | 0.674 | 0.025 | 0.710 | |
| weight_Network | 2.917 | 0.136 | 3.070 | |