Back to Multiple platform build/check report for BioC 3.22:   simplified   long
ABC[D]EFGHIJKLMNOPQRSTUVWXYZ

This page was generated on 2025-10-21 12:07 -0400 (Tue, 21 Oct 2025).

HostnameOSArch (*)R versionInstalled pkgs
nebbiolo2Linux (Ubuntu 24.04.3 LTS)x86_644.5.1 Patched (2025-08-23 r88802) -- "Great Square Root" 4887
lconwaymacOS 12.7.6 Montereyx86_644.5.1 Patched (2025-09-10 r88807) -- "Great Square Root" 4677
kjohnson3macOS 13.7.7 Venturaarm644.5.1 Patched (2025-09-10 r88807) -- "Great Square Root" 4622
taishanLinux (openEuler 24.03 LTS)aarch644.5.0 (2025-04-11) -- "How About a Twenty-Six" 4642
Click on any hostname to see more info about the system (e.g. compilers)      (*) as reported by 'uname -p', except on Windows and Mac OS X

Package 611/2353HostnameOS / ArchINSTALLBUILDCHECKBUILD BIN
DNAfusion 1.11.0  (landing page)
Christoffer Trier Maansson
Snapshot Date: 2025-10-20 13:45 -0400 (Mon, 20 Oct 2025)
git_url: https://git.bioconductor.org/packages/DNAfusion
git_branch: devel
git_last_commit: 2308eec
git_last_commit_date: 2025-05-13 07:26:04 -0400 (Tue, 13 May 2025)
nebbiolo2Linux (Ubuntu 24.04.3 LTS) / x86_64  OK    OK    OK  UNNEEDED, same version is already published
lconwaymacOS 12.7.6 Monterey / x86_64  OK    OK    OK    OK  UNNEEDED, same version is already published
kjohnson3macOS 13.7.7 Ventura / arm64  OK    OK    OK    OK  UNNEEDED, same version is already published
taishanLinux (openEuler 24.03 LTS) / aarch64  OK    OK    ERROR  


CHECK results for DNAfusion on taishan

To the developers/maintainers of the DNAfusion package:
- Allow up to 24 hours (and sometimes 48 hours) for your latest push to git@git.bioconductor.org:packages/DNAfusion.git to reflect on this report. See Troubleshooting Build Report for more information.
- Use the following Renviron settings to reproduce errors and warnings.
- If 'R CMD check' started to fail recently on the Linux builder(s) over a missing dependency, add the missing dependency to 'Suggests:' in your DESCRIPTION file. See Renviron.bioc for more information.
- See Martin Grigorov's blog post for how to debug Linux ARM64 related issues on a x86_64 host.

raw results


Summary

Package: DNAfusion
Version: 1.11.0
Command: /home/biocbuild/R/R/bin/R CMD check --install=check:DNAfusion.install-out.txt --library=/home/biocbuild/R/R/site-library --no-vignettes --timings DNAfusion_1.11.0.tar.gz
StartedAt: 2025-10-21 07:38:15 -0000 (Tue, 21 Oct 2025)
EndedAt: 2025-10-21 07:38:24 -0000 (Tue, 21 Oct 2025)
EllapsedTime: 9.0 seconds
RetCode: 1
Status:   ERROR  
CheckDir: DNAfusion.Rcheck
Warnings: NA

Command output

##############################################################################
##############################################################################
###
### Running command:
###
###   /home/biocbuild/R/R/bin/R CMD check --install=check:DNAfusion.install-out.txt --library=/home/biocbuild/R/R/site-library --no-vignettes --timings DNAfusion_1.11.0.tar.gz
###
##############################################################################
##############################################################################


* using log directory ‘/home/biocbuild/bbs-3.22-bioc/meat/DNAfusion.Rcheck’
* using R version 4.5.0 (2025-04-11)
* using platform: aarch64-unknown-linux-gnu
* R was compiled by
    aarch64-unknown-linux-gnu-gcc (GCC) 14.2.0
    GNU Fortran (GCC) 14.2.0
* running under: openEuler 24.03 (LTS)
* using session charset: UTF-8
* using option ‘--no-vignettes’
* checking for file ‘DNAfusion/DESCRIPTION’ ... OK
* this is package ‘DNAfusion’ version ‘1.11.0’
* package encoding: UTF-8
* checking package namespace information ... OK
* checking package dependencies ...Warning in close.connection(con) :
  Problem closing connection:  No space left on device
Error: inferior call failed
Execution halted

Installation output

DNAfusion.Rcheck/00install.out

##############################################################################
##############################################################################
###
### Running command:
###
###   /home/biocbuild/R/R/bin/R CMD INSTALL DNAfusion
###
##############################################################################
##############################################################################


* installing to library ‘/home/biocbuild/R/R-4.5.0/site-library’
* installing *source* package ‘DNAfusion’ ...
** this is package ‘DNAfusion’ version ‘1.11.0’
** using staged installation
** R
** inst
** byte-compile and prepare package for lazy loading
** help
*** installing help indices
** building package indices
** installing vignettes
** testing if installed package can be loaded from temporary location
** testing if installed package can be loaded from final location
** testing if installed package keeps a record of temporary installation path
* DONE (DNAfusion)

Tests output

DNAfusion.Rcheck/tests/testthat.Rout


R version 4.5.0 (2025-04-11) -- "How About a Twenty-Six"
Copyright (C) 2025 The R Foundation for Statistical Computing
Platform: aarch64-unknown-linux-gnu

R is free software and comes with ABSOLUTELY NO WARRANTY.
You are welcome to redistribute it under certain conditions.
Type 'license()' or 'licence()' for distribution details.

R is a collaborative project with many contributors.
Type 'contributors()' for more information and
'citation()' on how to cite R or R packages in publications.

Type 'demo()' for some demos, 'help()' for on-line help, or
'help.start()' for an HTML browser interface to help.
Type 'q()' to quit R.

> library(DNAfusion)
> library(testthat)
> test_check("DNAfusion")
[ FAIL 0 | WARN 0 | SKIP 0 | PASS 55 ]
> 
> proc.time()
   user  system elapsed 
138.682   1.727 140.647 

Example timings

DNAfusion.Rcheck/DNAfusion-Ex.timings

nameusersystemelapsed
ALK_sequence1.4800.0641.558
EML4_ALK_analysis0.8470.0200.869
EML4_ALK_detection0.4540.0160.472
EML4_sequence0.4890.0030.495
break_position0.9170.0080.928
break_position_depth1.3530.0081.365
find_variants62.403 0.97764.062
introns_ALK_EML456.569 0.20856.862