| Back to Multiple platform build/check report for BioC 3.22: simplified long |
|
This page was generated on 2025-10-23 12:06 -0400 (Thu, 23 Oct 2025).
| Hostname | OS | Arch (*) | R version | Installed pkgs |
|---|---|---|---|---|
| nebbiolo2 | Linux (Ubuntu 24.04.3 LTS) | x86_64 | 4.5.1 Patched (2025-08-23 r88802) -- "Great Square Root" | 4894 |
| lconway | macOS 12.7.6 Monterey | x86_64 | 4.5.1 Patched (2025-09-10 r88807) -- "Great Square Root" | 4684 |
| kjohnson3 | macOS 13.7.7 Ventura | arm64 | 4.5.1 Patched (2025-09-10 r88807) -- "Great Square Root" | 4629 |
| taishan | Linux (openEuler 24.03 LTS) | aarch64 | 4.5.0 (2025-04-11) -- "How About a Twenty-Six" | 4642 |
| Click on any hostname to see more info about the system (e.g. compilers) (*) as reported by 'uname -p', except on Windows and Mac OS X | ||||
| Package 510/2355 | Hostname | OS / Arch | INSTALL | BUILD | CHECK | BUILD BIN | ||||||||
| CytoML 2.21.0 (landing page) Mike Jiang
| nebbiolo2 | Linux (Ubuntu 24.04.3 LTS) / x86_64 | OK | OK | WARNINGS | |||||||||
| lconway | macOS 12.7.6 Monterey / x86_64 | OK | OK | WARNINGS | OK | |||||||||
| kjohnson3 | macOS 13.7.7 Ventura / arm64 | OK | OK | WARNINGS | OK | |||||||||
| taishan | Linux (openEuler 24.03 LTS) / aarch64 | OK | OK | WARNINGS | ||||||||||
|
To the developers/maintainers of the CytoML package: - Allow up to 24 hours (and sometimes 48 hours) for your latest push to git@git.bioconductor.org:packages/CytoML.git to reflect on this report. See Troubleshooting Build Report for more information. - Use the following Renviron settings to reproduce errors and warnings. - If 'R CMD check' started to fail recently on the Linux builder(s) over a missing dependency, add the missing dependency to 'Suggests:' in your DESCRIPTION file. See Renviron.bioc for more information. |
| Package: CytoML |
| Version: 2.21.0 |
| Command: /Library/Frameworks/R.framework/Resources/bin/R CMD INSTALL CytoML |
| StartedAt: 2025-10-22 15:12:01 -0400 (Wed, 22 Oct 2025) |
| EndedAt: 2025-10-22 15:12:21 -0400 (Wed, 22 Oct 2025) |
| EllapsedTime: 20.2 seconds |
| RetCode: 0 |
| Status: OK |
##############################################################################
##############################################################################
###
### Running command:
###
### /Library/Frameworks/R.framework/Resources/bin/R CMD INSTALL CytoML
###
##############################################################################
##############################################################################
* installing to library ‘/Library/Frameworks/R.framework/Versions/4.5-arm64/Resources/library’
* installing *source* package ‘CytoML’ ...
** this is package ‘CytoML’ version ‘2.21.0’
** using staged installation
checking whether the C++ compiler works... yes
checking for C++ compiler default output file name... a.out
checking for suffix of executables...
checking whether we are cross compiling... no
checking for suffix of object files... o
checking whether we are using the GNU C++ compiler... yes
checking whether clang++ -arch arm64 -std=gnu++11 accepts -g... yes
checking for gcc... clang -arch arm64 -std=gnu2x
checking whether we are using the GNU C compiler... yes
checking whether clang -arch arm64 -std=gnu2x accepts -g... yes
checking for clang -arch arm64 -std=gnu2x option to accept ISO C89... unsupported
configure: setting xml2 flags...
configure: No directory was specified for --with-xml2. Trying to find xml2 using other methods.
checking for xml2-config... /usr/bin/xml2-config
configure: setting cytolib-ml commandline tool path...
configure: Using the following compilation and linking flags
configure: PKG_CPPFLAGS=-I/Library/Developer/CommandLineTools/SDKs/MacOSX11.sdk/usr/include -ftemplate-depth=900
configure: PKG_LIBS=-L/Library/Developer/CommandLineTools/SDKs/MacOSX11.sdk/usr/lib -lxml2 -lz -lpthread -licucore -lm
configure: CYTOLIBML_BIN=/usr/local/bin
configure: creating ./config.status
config.status: creating src/Makevars
config.status: creating R/cytolibml_bin_path.R
** libs
using C++ compiler: ‘Apple clang version 15.0.0 (clang-1500.1.0.2.5)’
using C++11
using SDK: ‘MacOSX11.3.1.sdk’
clang++ -arch arm64 -std=gnu++11 -I"/Library/Frameworks/R.framework/Resources/include" -DNDEBUG -DROUT -I../inst/include/ -I/Library/Developer/CommandLineTools/SDKs/MacOSX11.sdk/usr/include -ftemplate-depth=900 -DBOOST_NO_AUTO_PTR -I'/Library/Frameworks/R.framework/Versions/4.5-arm64/Resources/library/cpp11/include' -I'/Library/Frameworks/R.framework/Versions/4.5-arm64/Resources/library/BH/include' -I'/Library/Frameworks/R.framework/Versions/4.5-arm64/Resources/library/RProtoBufLib/include' -I'/Library/Frameworks/R.framework/Versions/4.5-arm64/Resources/library/cytolib/include' -I'/Library/Frameworks/R.framework/Versions/4.5-arm64/Resources/library/Rhdf5lib/include' -I'/Library/Frameworks/R.framework/Versions/4.5-arm64/Resources/library/flowWorkspace/include' -I/opt/R/arm64/include -fPIC -falign-functions=64 -Wall -g -O2 -c cpp11.cpp -o cpp11.o
In file included from cpp11.cpp:4:
In file included from ./CytoML_types.h:4:
In file included from /Library/Frameworks/R.framework/Versions/4.5-arm64/Resources/library/flowWorkspace/include/flowWorkspace.h:5:
In file included from /Library/Frameworks/R.framework/Versions/4.5-arm64/Resources/library/cytolib/include/cytolib/GatingSet.hpp:14:
In file included from /Library/Frameworks/R.framework/Versions/4.5-arm64/Resources/library/cytolib/include/cytolib/GatingHierarchy.hpp:17:
In file included from /Library/Frameworks/R.framework/Versions/4.5-arm64/Resources/library/cytolib/include/cytolib/populationTree.hpp:13:
In file included from /Library/Frameworks/R.framework/Versions/4.5-arm64/Resources/library/cytolib/include/cytolib/nodeProperties.hpp:13:
In file included from /Library/Frameworks/R.framework/Versions/4.5-arm64/Resources/library/cytolib/include/cytolib/POPINDICES.hpp:14:
/Library/Frameworks/R.framework/Versions/4.5-arm64/Resources/library/cytolib/include/cytolib/gate.hpp:238:26: warning: loop variable 'range' creates a copy from type 'const pb::Range' [-Wrange-loop-construct]
for (const pb::Range range : gate_pb.mrg().ranges()) {
^
/Library/Frameworks/R.framework/Versions/4.5-arm64/Resources/library/cytolib/include/cytolib/gate.hpp:238:10: note: use reference type 'const pb::Range &' to prevent copying
for (const pb::Range range : gate_pb.mrg().ranges()) {
^~~~~~~~~~~~~~~~~~~~~~~
&
In file included from cpp11.cpp:4:
In file included from ./CytoML_types.h:5:
In file included from ../inst/include/CytoML/openWorkspace.hpp:11:
In file included from ../inst/include/CytoML/macFlowJoWorkspace.hpp:10:
In file included from ../inst/include/CytoML/flowJoWorkspace.hpp:11:
In file included from ../inst/include/CytoML/workspace.hpp:10:
In file included from ../inst/include/CytoML/workspace_type.hpp:4:
../inst/include/CytoML/wsNode.hpp:27:20: warning: field precision should have type 'int', but argument has type 'std::streamsize' (aka 'long') [-Wformat]
Rprintf("%.*s", n, s);
~~^~ ~
In file included from cpp11.cpp:4:
In file included from ./CytoML_types.h:5:
In file included from ../inst/include/CytoML/openWorkspace.hpp:12:
../inst/include/CytoML/winFlowJoWorkspace.hpp:435:30: warning: '/*' within block comment [-Wcomment]
* "*[local-name()='edge']/*[local-name()='vertex']" is for ellipsoidGate
^
3 warnings generated.
clang++ -arch arm64 -std=gnu++11 -I"/Library/Frameworks/R.framework/Resources/include" -DNDEBUG -DROUT -I../inst/include/ -I/Library/Developer/CommandLineTools/SDKs/MacOSX11.sdk/usr/include -ftemplate-depth=900 -DBOOST_NO_AUTO_PTR -I'/Library/Frameworks/R.framework/Versions/4.5-arm64/Resources/library/cpp11/include' -I'/Library/Frameworks/R.framework/Versions/4.5-arm64/Resources/library/BH/include' -I'/Library/Frameworks/R.framework/Versions/4.5-arm64/Resources/library/RProtoBufLib/include' -I'/Library/Frameworks/R.framework/Versions/4.5-arm64/Resources/library/cytolib/include' -I'/Library/Frameworks/R.framework/Versions/4.5-arm64/Resources/library/Rhdf5lib/include' -I'/Library/Frameworks/R.framework/Versions/4.5-arm64/Resources/library/flowWorkspace/include' -I/opt/R/arm64/include -fPIC -falign-functions=64 -Wall -g -O2 -c parseFlowJoWorkspace.cpp -o parseFlowJoWorkspace.o
In file included from parseFlowJoWorkspace.cpp:10:
In file included from ../inst/include/CytoML/openWorkspace.hpp:11:
In file included from ../inst/include/CytoML/macFlowJoWorkspace.hpp:10:
In file included from ../inst/include/CytoML/flowJoWorkspace.hpp:11:
In file included from ../inst/include/CytoML/workspace.hpp:10:
In file included from ../inst/include/CytoML/workspace_type.hpp:4:
In file included from ../inst/include/CytoML/wsNode.hpp:13:
In file included from /Library/Frameworks/R.framework/Versions/4.5-arm64/Resources/library/cytolib/include/cytolib/nodeProperties.hpp:13:
In file included from /Library/Frameworks/R.framework/Versions/4.5-arm64/Resources/library/cytolib/include/cytolib/POPINDICES.hpp:14:
/Library/Frameworks/R.framework/Versions/4.5-arm64/Resources/library/cytolib/include/cytolib/gate.hpp:238:26: warning: loop variable 'range' creates a copy from type 'const pb::Range' [-Wrange-loop-construct]
for (const pb::Range range : gate_pb.mrg().ranges()) {
^
/Library/Frameworks/R.framework/Versions/4.5-arm64/Resources/library/cytolib/include/cytolib/gate.hpp:238:10: note: use reference type 'const pb::Range &' to prevent copying
for (const pb::Range range : gate_pb.mrg().ranges()) {
^~~~~~~~~~~~~~~~~~~~~~~
&
In file included from parseFlowJoWorkspace.cpp:10:
In file included from ../inst/include/CytoML/openWorkspace.hpp:11:
In file included from ../inst/include/CytoML/macFlowJoWorkspace.hpp:10:
In file included from ../inst/include/CytoML/flowJoWorkspace.hpp:11:
In file included from ../inst/include/CytoML/workspace.hpp:10:
In file included from ../inst/include/CytoML/workspace_type.hpp:4:
../inst/include/CytoML/wsNode.hpp:27:20: warning: field precision should have type 'int', but argument has type 'std::streamsize' (aka 'long') [-Wformat]
Rprintf("%.*s", n, s);
~~^~ ~
In file included from parseFlowJoWorkspace.cpp:10:
In file included from ../inst/include/CytoML/openWorkspace.hpp:12:
../inst/include/CytoML/winFlowJoWorkspace.hpp:435:30: warning: '/*' within block comment [-Wcomment]
* "*[local-name()='edge']/*[local-name()='vertex']" is for ellipsoidGate
^
3 warnings generated.
clang++ -arch arm64 -std=gnu++11 -dynamiclib -Wl,-headerpad_max_install_names -undefined dynamic_lookup -L/Library/Frameworks/R.framework/Resources/lib -L/opt/R/arm64/lib -o CytoML.so cpp11.o parseFlowJoWorkspace.o /Library/Frameworks/R.framework/Versions/4.5-arm64/Resources/library/cytolib/lib/libcytolib.a /Library/Frameworks/R.framework/Versions/4.5-arm64/Resources/library/Rhdf5lib/lib/libhdf5_cpp.a /Library/Frameworks/R.framework/Versions/4.5-arm64/Resources/library/Rhdf5lib/lib/libhdf5.a -L/Library/Frameworks/R.framework/Versions/4.5-arm64/Resources/library/Rhdf5lib/lib -lcrypto -lcurl -lsz -laec -lz -ldl -lm -L/Library/Frameworks/R.framework/Resources/lib -lRlapack -L/Library/Frameworks/R.framework/Resources/lib -lRblas -L/Library/Developer/CommandLineTools/SDKs/MacOSX11.sdk/usr/lib -lxml2 -lz -lpthread -licucore -lm -F/Library/Frameworks/R.framework/.. -framework R
ld: warning: ignoring duplicate libraries: '-lm', '-lz'
installing to /Library/Frameworks/R.framework/Versions/4.5-arm64/Resources/library/00LOCK-CytoML/00new/CytoML/libs
** R
** inst
** byte-compile and prepare package for lazy loading
** help
*** installing help indices
** building package indices
** installing vignettes
** testing if installed package can be loaded from temporary location
** checking absolute paths in shared objects and dynamic libraries
** testing if installed package can be loaded from final location
** testing if installed package keeps a record of temporary installation path
* DONE (CytoML)