Back to Build/check report for BioC 3.23:   simplified   long
AB[C]DEFGHIJKLMNOPQRSTUVWXYZ

This page was generated on 2025-11-08 11:32 -0500 (Sat, 08 Nov 2025).

HostnameOSArch (*)R versionInstalled pkgs
nebbiolo1Linux (Ubuntu 24.04.3 LTS)x86_64R Under development (unstable) (2025-10-20 r88955) -- "Unsuffered Consequences" 4821
Click on any hostname to see more info about the system (e.g. compilers)      (*) as reported by 'uname -p', except on Windows and Mac OS X

Package 439/2323HostnameOS / ArchINSTALLBUILDCHECKBUILD BIN
CopyNumberPlots 1.27.0  (landing page)
Bernat Gel
Snapshot Date: 2025-11-07 13:40 -0500 (Fri, 07 Nov 2025)
git_url: https://git.bioconductor.org/packages/CopyNumberPlots
git_branch: devel
git_last_commit: d68d13f
git_last_commit_date: 2025-10-29 10:51:43 -0500 (Wed, 29 Oct 2025)
nebbiolo1Linux (Ubuntu 24.04.3 LTS) / x86_64  OK    OK    OK  UNNEEDED, same version is already published


CHECK results for CopyNumberPlots on nebbiolo1

To the developers/maintainers of the CopyNumberPlots package:
- Allow up to 24 hours (and sometimes 48 hours) for your latest push to git@git.bioconductor.org:packages/CopyNumberPlots.git to reflect on this report. See Troubleshooting Build Report for more information.
- Use the following Renviron settings to reproduce errors and warnings.
- If 'R CMD check' started to fail recently on the Linux builder(s) over a missing dependency, add the missing dependency to 'Suggests:' in your DESCRIPTION file. See Renviron.bioc for more information.

raw results


Summary

Package: CopyNumberPlots
Version: 1.27.0
Command: /home/biocbuild/bbs-3.23-bioc/R/bin/R CMD check --install=check:CopyNumberPlots.install-out.txt --library=/home/biocbuild/bbs-3.23-bioc/R/site-library --timings CopyNumberPlots_1.27.0.tar.gz
StartedAt: 2025-11-07 22:13:48 -0500 (Fri, 07 Nov 2025)
EndedAt: 2025-11-07 22:19:57 -0500 (Fri, 07 Nov 2025)
EllapsedTime: 369.5 seconds
RetCode: 0
Status:   OK  
CheckDir: CopyNumberPlots.Rcheck
Warnings: 0

Command output

##############################################################################
##############################################################################
###
### Running command:
###
###   /home/biocbuild/bbs-3.23-bioc/R/bin/R CMD check --install=check:CopyNumberPlots.install-out.txt --library=/home/biocbuild/bbs-3.23-bioc/R/site-library --timings CopyNumberPlots_1.27.0.tar.gz
###
##############################################################################
##############################################################################


* using log directory ‘/home/biocbuild/bbs-3.23-bioc/meat/CopyNumberPlots.Rcheck’
* using R Under development (unstable) (2025-10-20 r88955)
* using platform: x86_64-pc-linux-gnu
* R was compiled by
    gcc (Ubuntu 13.3.0-6ubuntu2~24.04) 13.3.0
    GNU Fortran (Ubuntu 13.3.0-6ubuntu2~24.04) 13.3.0
* running under: Ubuntu 24.04.3 LTS
* using session charset: UTF-8
* checking for file ‘CopyNumberPlots/DESCRIPTION’ ... OK
* checking extension type ... Package
* this is package ‘CopyNumberPlots’ version ‘1.27.0’
* package encoding: UTF-8
* checking package namespace information ... OK
* checking package dependencies ... OK
* checking if this is a source package ... OK
* checking if there is a namespace ... OK
* checking for hidden files and directories ... OK
* checking for portable file names ... OK
* checking for sufficient/correct file permissions ... OK
* checking whether package ‘CopyNumberPlots’ can be installed ... OK
* checking installed package size ... OK
* checking package directory ... OK
* checking ‘build’ directory ... OK
* checking DESCRIPTION meta-information ... OK
* checking top-level files ... OK
* checking for left-over files ... OK
* checking index information ... OK
* checking package subdirectories ... OK
* checking code files for non-ASCII characters ... OK
* checking R files for syntax errors ... OK
* checking whether the package can be loaded ... OK
* checking whether the package can be loaded with stated dependencies ... OK
* checking whether the package can be unloaded cleanly ... OK
* checking whether the namespace can be loaded with stated dependencies ... OK
* checking whether the namespace can be unloaded cleanly ... OK
* checking loading without being on the library search path ... OK
* checking dependencies in R code ... OK
* checking S3 generic/method consistency ... OK
* checking replacement functions ... OK
* checking foreign function calls ... OK
* checking R code for possible problems ... OK
* checking Rd files ... OK
* checking Rd metadata ... OK
* checking Rd cross-references ... NOTE
Found the following Rd file(s) with Rd \link{} targets missing package
anchors:
  plotBAF.Rd: plotKaryotype
  plotLRR.Rd: plotKaryotype
Please provide package anchors for all Rd \link{} targets not in the
package itself and the base packages.
* checking for missing documentation entries ... OK
* checking for code/documentation mismatches ... OK
* checking Rd \usage sections ... OK
* checking Rd contents ... OK
* checking for unstated dependencies in examples ... OK
* checking files in ‘vignettes’ ... OK
* checking examples ... OK
* checking for unstated dependencies in ‘tests’ ... OK
* checking tests ...
  Running ‘testthat.R’
 OK
* checking for unstated dependencies in vignettes ... OK
* checking package vignettes ... OK
* checking re-building of vignette outputs ... OK
* checking PDF version of manual ... OK
* DONE

Status: 1 NOTE
See
  ‘/home/biocbuild/bbs-3.23-bioc/meat/CopyNumberPlots.Rcheck/00check.log’
for details.


Installation output

CopyNumberPlots.Rcheck/00install.out

##############################################################################
##############################################################################
###
### Running command:
###
###   /home/biocbuild/bbs-3.23-bioc/R/bin/R CMD INSTALL CopyNumberPlots
###
##############################################################################
##############################################################################


* installing to library ‘/home/biocbuild/bbs-3.23-bioc/R/site-library’
* installing *source* package ‘CopyNumberPlots’ ...
** this is package ‘CopyNumberPlots’ version ‘1.27.0’
** using staged installation
** R
** inst
** byte-compile and prepare package for lazy loading
** help
*** installing help indices
** building package indices
** installing vignettes
** testing if installed package can be loaded from temporary location
** testing if installed package can be loaded from final location
** testing if installed package keeps a record of temporary installation path
* DONE (CopyNumberPlots)

Tests output

CopyNumberPlots.Rcheck/tests/testthat.Rout


R Under development (unstable) (2025-10-20 r88955) -- "Unsuffered Consequences"
Copyright (C) 2025 The R Foundation for Statistical Computing
Platform: x86_64-pc-linux-gnu

R is free software and comes with ABSOLUTELY NO WARRANTY.
You are welcome to redistribute it under certain conditions.
Type 'license()' or 'licence()' for distribution details.

R is a collaborative project with many contributors.
Type 'contributors()' for more information and
'citation()' on how to cite R or R packages in publications.

Type 'demo()' for some demos, 'help()' for on-line help, or
'help.start()' for an HTML browser interface to help.
Type 'q()' to quit R.

> library(testthat)
> library(CopyNumberPlots)
Loading required package: karyoploteR
Loading required package: regioneR
Loading required package: GenomicRanges
Loading required package: stats4
Loading required package: BiocGenerics
Loading required package: generics

Attaching package: 'generics'

The following objects are masked from 'package:base':

    as.difftime, as.factor, as.ordered, intersect, is.element, setdiff,
    setequal, union


Attaching package: 'BiocGenerics'

The following objects are masked from 'package:stats':

    IQR, mad, sd, var, xtabs

The following objects are masked from 'package:base':

    Filter, Find, Map, Position, Reduce, anyDuplicated, aperm, append,
    as.data.frame, basename, cbind, colnames, dirname, do.call,
    duplicated, eval, evalq, get, grep, grepl, is.unsorted, lapply,
    mapply, match, mget, order, paste, pmax, pmax.int, pmin, pmin.int,
    rank, rbind, rownames, sapply, saveRDS, table, tapply, unique,
    unsplit, which.max, which.min

Loading required package: S4Vectors

Attaching package: 'S4Vectors'

The following object is masked from 'package:utils':

    findMatches

The following objects are masked from 'package:base':

    I, expand.grid, unname

Loading required package: IRanges
Loading required package: Seqinfo
> 
> test_check("CopyNumberPlots")
[ FAIL 0 | WARN 0 | SKIP 0 | PASS 26 ]
> 
> proc.time()
   user  system elapsed 
 15.299   0.846  16.137 

Example timings

CopyNumberPlots.Rcheck/CopyNumberPlots-Ex.timings

nameusersystemelapsed
EnsemblStyle0.3970.0060.403
UCSCStyle0.270.000.27
Ztree2Hclust0.0050.0000.005
colByCopyNumber0.7830.0410.824
computeHclustPlotOrder0.0220.0010.023
getBAFColumn0.0000.0020.002
getChrColumn0.0020.0010.002
getColumn0.0010.0010.002
getCopyNumberColors0.0010.0000.001
getCopyNumberColumn0.0020.0000.002
getEndColumn0.0020.0000.002
getIDColumn0.0020.0000.002
getLOHColumn0.0020.0000.002
getLRRColumn0.0010.0000.001
getPosColumn0.0010.0000.001
getSegmentValueColumn0.0010.0010.001
getStartColumn0.0010.0000.001
loadCopyNumberCalls0.0180.0000.018
loadCopyNumberCallsCNVkit0.0480.0000.049
loadCopyNumberCallsCnmops0.1130.0040.118
loadCopyNumberCallsDECoN0.0590.0010.061
loadCopyNumberCallsDNAcopy0.5370.0050.541
loadCopyNumberCallsPanelcnmops1.3820.0951.479
loadCopyNumberCallsSeg0.0180.0010.019
loadCopyNumberCallspennCNV0.0670.0000.067
loadSNPData0.0450.0000.045
loadSNPDataDNAcopy0.5040.0020.506
loadSNPDataFromVCF0.0010.0000.001
plotBAF0.9440.0811.025
plotCopyNumberCalls0.1720.0280.200
plotCopyNumberCallsAsLines0.1930.0140.208
plotCopyNumberSummary0.1690.0020.172
plotLRR0.3850.0150.401
plotSingleCellCopyNumberCalls0.0560.0040.059
plotSingleCellCopyNumberSummary0.0400.0050.046
prepareLabels0.0700.0060.077
readHDF5Ztree000
removeNAs0.1500.0010.152
transformChr0.0010.0020.004