Back to Multiple platform build/check report for BioC 3.22:   simplified   long
AB[C]DEFGHIJKLMNOPQRSTUVWXYZ

This page was generated on 2025-10-17 12:04 -0400 (Fri, 17 Oct 2025).

HostnameOSArch (*)R versionInstalled pkgs
nebbiolo2Linux (Ubuntu 24.04.3 LTS)x86_644.5.1 Patched (2025-08-23 r88802) -- "Great Square Root" 4887
lconwaymacOS 12.7.6 Montereyx86_644.5.1 Patched (2025-09-10 r88807) -- "Great Square Root" 4677
kjohnson3macOS 13.7.7 Venturaarm644.5.1 Patched (2025-09-10 r88807) -- "Great Square Root" 4622
taishanLinux (openEuler 24.03 LTS)aarch644.5.0 (2025-04-11) -- "How About a Twenty-Six" 4632
Click on any hostname to see more info about the system (e.g. compilers)      (*) as reported by 'uname -p', except on Windows and Mac OS X

Package 316/2353HostnameOS / ArchINSTALLBUILDCHECKBUILD BIN
CellTrails 1.27.1  (landing page)
Daniel Ellwanger
Snapshot Date: 2025-10-16 13:45 -0400 (Thu, 16 Oct 2025)
git_url: https://git.bioconductor.org/packages/CellTrails
git_branch: devel
git_last_commit: c14d7fd
git_last_commit_date: 2025-10-14 14:32:29 -0400 (Tue, 14 Oct 2025)
nebbiolo2Linux (Ubuntu 24.04.3 LTS) / x86_64  OK    OK    OK  UNNEEDED, same version is already published
lconwaymacOS 12.7.6 Monterey / x86_64  OK    OK    OK    OK  UNNEEDED, same version is already published
kjohnson3macOS 13.7.7 Ventura / arm64  OK    OK    OK    OK  UNNEEDED, same version is already published
taishanLinux (openEuler 24.03 LTS) / aarch64  OK    OK    OK  


CHECK results for CellTrails on lconway

To the developers/maintainers of the CellTrails package:
- Allow up to 24 hours (and sometimes 48 hours) for your latest push to git@git.bioconductor.org:packages/CellTrails.git to reflect on this report. See Troubleshooting Build Report for more information.
- Use the following Renviron settings to reproduce errors and warnings.
- If 'R CMD check' started to fail recently on the Linux builder(s) over a missing dependency, add the missing dependency to 'Suggests:' in your DESCRIPTION file. See Renviron.bioc for more information.

raw results


Summary

Package: CellTrails
Version: 1.27.1
Command: /Library/Frameworks/R.framework/Resources/bin/R CMD check --install=check:CellTrails.install-out.txt --library=/Library/Frameworks/R.framework/Resources/library --no-vignettes --timings CellTrails_1.27.1.tar.gz
StartedAt: 2025-10-16 21:47:22 -0400 (Thu, 16 Oct 2025)
EndedAt: 2025-10-16 21:52:16 -0400 (Thu, 16 Oct 2025)
EllapsedTime: 293.2 seconds
RetCode: 0
Status:   OK  
CheckDir: CellTrails.Rcheck
Warnings: 0

Command output

##############################################################################
##############################################################################
###
### Running command:
###
###   /Library/Frameworks/R.framework/Resources/bin/R CMD check --install=check:CellTrails.install-out.txt --library=/Library/Frameworks/R.framework/Resources/library --no-vignettes --timings CellTrails_1.27.1.tar.gz
###
##############################################################################
##############################################################################


* using log directory ‘/Users/biocbuild/bbs-3.22-bioc/meat/CellTrails.Rcheck’
* using R version 4.5.1 Patched (2025-09-10 r88807)
* using platform: x86_64-apple-darwin20
* R was compiled by
    Apple clang version 14.0.0 (clang-1400.0.29.202)
    GNU Fortran (GCC) 14.2.0
* running under: macOS Monterey 12.7.6
* using session charset: UTF-8
* using option ‘--no-vignettes’
* checking for file ‘CellTrails/DESCRIPTION’ ... OK
* checking extension type ... Package
* this is package ‘CellTrails’ version ‘1.27.1’
* package encoding: UTF-8
* checking package namespace information ... OK
* checking package dependencies ... OK
* checking if this is a source package ... OK
* checking if there is a namespace ... OK
* checking for hidden files and directories ... OK
* checking for portable file names ... OK
* checking for sufficient/correct file permissions ... OK
* checking whether package ‘CellTrails’ can be installed ... OK
* checking installed package size ... OK
* checking package directory ... OK
* checking ‘build’ directory ... OK
* checking DESCRIPTION meta-information ... OK
* checking top-level files ... OK
* checking for left-over files ... OK
* checking index information ... OK
* checking package subdirectories ... OK
* checking code files for non-ASCII characters ... OK
* checking R files for syntax errors ... OK
* checking whether the package can be loaded ... OK
* checking whether the package can be loaded with stated dependencies ... OK
* checking whether the package can be unloaded cleanly ... OK
* checking whether the namespace can be loaded with stated dependencies ... OK
* checking whether the namespace can be unloaded cleanly ... OK
* checking dependencies in R code ... OK
* checking S3 generic/method consistency ... OK
* checking replacement functions ... OK
* checking foreign function calls ... OK
* checking R code for possible problems ... OK
* checking Rd files ... NOTE
checkRd: (-1) connectStates.Rd:55: Lost braces; missing escapes or markup?
    55 | where D is a matrix containing all collected {l}-nearest neighbor sample
       |                                              ^
checkRd: (-1) dot-bhtsne.Rd:10-14: Lost braces
    10 | .reduceDimensions_def <- function(x, s) {
       |                                         ^
checkRd: (-1) dot-trajLandmark-set.Rd:14: Lost braces; missing escapes or markup?
    14 | \item{type}{A character in {"type", "id", "shape"}}
       |                            ^
checkRd: (-1) dot-trajLandmark.Rd:14: Lost braces; missing escapes or markup?
    14 | \item{type}{A character in {"type", "id", "shape"}}
       |                            ^
checkRd: (-1) dot-validatePlotParams.Rd:24: Lost braces; missing escapes or markup?
    24 | {'featureName', 'phenoName'}. Parameter \code{name} needs
       | ^
checkRd: (-1) dot-validatePlotParams.Rd:26: Lost braces; missing escapes or markup?
    26 | {colnames(colData(object)), state, landmark}.
       | ^
checkRd: (-1) plotMap.Rd:24: Lost braces; missing escapes or markup?
    24 | \item{type}{Type of map; one of {"raw","surface.fit","surface.se"}}
       |                                 ^
checkRd: (-1) write.ygraphml.Rd:52: Lost braces; missing escapes or markup?
    52 | \code{color_by='phenoName'} and {name='landmark'}. States can be indicated
       |                                 ^
checkRd: (-1) write.ygraphml.Rd:53: Lost braces; missing escapes or markup?
    53 | by \code{color_by='phenoName'} and {name='state'}.
       |                                    ^
* checking Rd metadata ... OK
* checking Rd cross-references ... OK
* checking for missing documentation entries ... OK
* checking for code/documentation mismatches ... OK
* checking Rd \usage sections ... NOTE
Documented arguments not in \usage in Rd file 'dot-adjustLayoutByPtime.Rd':
  ‘layout’

Documented arguments not in \usage in Rd file 'dot-findStates_def.Rd':
  ‘ming.g’

Documented arguments not in \usage in Rd file 'dot-plotStateTrajectory_def.Rd':
  ‘label’

Documented arguments not in \usage in Rd file 'dot-rbf.Rd':
  ‘x’ ‘sigma’

Documented arguments not in \usage in Rd file 'dot-spatmed.Rd':
  ‘x’

Documented arguments not in \usage in Rd file 'dot-write_ygraphml_def.Rd':
  ‘tlayout’

Functions with \usage entries need to have the appropriate \alias
entries, and all their arguments documented.
The \usage entries must correspond to syntactically valid R code.
See chapter ‘Writing R documentation files’ in the ‘Writing R
Extensions’ manual.
* checking Rd contents ... OK
* checking for unstated dependencies in examples ... OK
* checking contents of ‘data’ directory ... OK
* checking data for non-ASCII characters ... OK
* checking data for ASCII and uncompressed saves ... OK
* checking sizes of PDF files under ‘inst/doc’ ... OK
* checking files in ‘vignettes’ ... OK
* checking examples ... OK
Examples with CPU (user + system) or elapsed time > 5s
         user system elapsed
plotMap 5.541  0.309   5.879
* checking for unstated dependencies in ‘tests’ ... OK
* checking tests ...
  Running ‘runTests.R’
 OK
* checking for unstated dependencies in vignettes ... OK
* checking package vignettes ... OK
* checking running R code from vignettes ... SKIPPED
* checking re-building of vignette outputs ... SKIPPED
* checking PDF version of manual ... OK
* DONE

Status: 2 NOTEs
See
  ‘/Users/biocbuild/bbs-3.22-bioc/meat/CellTrails.Rcheck/00check.log’
for details.


Installation output

CellTrails.Rcheck/00install.out

##############################################################################
##############################################################################
###
### Running command:
###
###   /Library/Frameworks/R.framework/Resources/bin/R CMD INSTALL CellTrails
###
##############################################################################
##############################################################################


* installing to library ‘/Library/Frameworks/R.framework/Versions/4.5-x86_64/Resources/library’
* installing *source* package ‘CellTrails’ ...
** this is package ‘CellTrails’ version ‘1.27.1’
** using staged installation
** R
** data
** inst
** byte-compile and prepare package for lazy loading
** help
*** installing help indices
** building package indices
** installing vignettes
** testing if installed package can be loaded from temporary location
** testing if installed package can be loaded from final location
** testing if installed package keeps a record of temporary installation path
* DONE (CellTrails)

Tests output

CellTrails.Rcheck/tests/runTests.Rout


R version 4.5.1 Patched (2025-09-10 r88807) -- "Great Square Root"
Copyright (C) 2025 The R Foundation for Statistical Computing
Platform: x86_64-apple-darwin20

R is free software and comes with ABSOLUTELY NO WARRANTY.
You are welcome to redistribute it under certain conditions.
Type 'license()' or 'licence()' for distribution details.

R is a collaborative project with many contributors.
Type 'contributors()' for more information and
'citation()' on how to cite R or R packages in publications.

Type 'demo()' for some demos, 'help()' for on-line help, or
'help.start()' for an HTML browser interface to help.
Type 'q()' to quit R.

> BiocGenerics:::testPackage("CellTrails")

Attaching package: 'MatrixGenerics'

The following objects are masked from 'package:matrixStats':

    colAlls, colAnyNAs, colAnys, colAvgsPerRowSet, colCollapse,
    colCounts, colCummaxs, colCummins, colCumprods, colCumsums,
    colDiffs, colIQRDiffs, colIQRs, colLogSumExps, colMadDiffs,
    colMads, colMaxs, colMeans2, colMedians, colMins, colOrderStats,
    colProds, colQuantiles, colRanges, colRanks, colSdDiffs, colSds,
    colSums2, colTabulates, colVarDiffs, colVars, colWeightedMads,
    colWeightedMeans, colWeightedMedians, colWeightedSds,
    colWeightedVars, rowAlls, rowAnyNAs, rowAnys, rowAvgsPerColSet,
    rowCollapse, rowCounts, rowCummaxs, rowCummins, rowCumprods,
    rowCumsums, rowDiffs, rowIQRDiffs, rowIQRs, rowLogSumExps,
    rowMadDiffs, rowMads, rowMaxs, rowMeans2, rowMedians, rowMins,
    rowOrderStats, rowProds, rowQuantiles, rowRanges, rowRanks,
    rowSdDiffs, rowSds, rowSums2, rowTabulates, rowVarDiffs, rowVars,
    rowWeightedMads, rowWeightedMeans, rowWeightedMedians,
    rowWeightedSds, rowWeightedVars


Attaching package: 'generics'

The following objects are masked from 'package:base':

    as.difftime, as.factor, as.ordered, intersect, is.element, setdiff,
    setequal, union


Attaching package: 'BiocGenerics'

The following objects are masked from 'package:stats':

    IQR, mad, sd, var, xtabs

The following objects are masked from 'package:base':

    Filter, Find, Map, Position, Reduce, anyDuplicated, aperm, append,
    as.data.frame, basename, cbind, colnames, dirname, do.call,
    duplicated, eval, evalq, get, grep, grepl, is.unsorted, lapply,
    mapply, match, mget, order, paste, pmax, pmax.int, pmin, pmin.int,
    rank, rbind, rownames, sapply, saveRDS, table, tapply, unique,
    unsplit, which.max, which.min


Attaching package: 'S4Vectors'

The following object is masked from 'package:utils':

    findMatches

The following objects are masked from 'package:base':

    I, expand.grid, unname

Welcome to Bioconductor

    Vignettes contain introductory material; view with
    'browseVignettes()'. To cite Bioconductor, see
    'citation("Biobase")', and for packages 'citation("pkgname")'.


Attaching package: 'Biobase'

The following object is masked from 'package:MatrixGenerics':

    rowMedians

The following objects are masked from 'package:matrixStats':

    anyMissing, rowMedians

Computing adjacency matrix ...
Computing spectral embedding ...
Calculating approximation of CellTrails manifold for 2D visualization...
Used tSNE perplexity: 30
Initialized 20 clusters with a minimum size of 1 sample(s) each.
Performing post-hoc test ...
Found 5 states.
Calculating layout of state trajectory graph component 1...
Computing adjacency matrix ...
Computing spectral embedding ...
Calculating approximation of CellTrails manifold for 2D visualization...
Used tSNE perplexity: 30
Initialized 20 clusters with a minimum size of 1 sample(s) each.
Performing post-hoc test ...
Found 5 states.
Calculating layout of state trajectory graph component 1...
Calculating layout of state trajectory graph component 2...
Calculating layout of state trajectory graph component 3...
Calculating layout of state trajectory graph component 4...
Calculating layout of state trajectory graph component 5...
Calculating layout of state trajectory graph component 1...
Computing adjacency matrix ...
Computing spectral embedding ...
Computing adjacency matrix ...
Computing spectral embedding ...
Calculating approximation of CellTrails manifold for 2D visualization...
Used tSNE perplexity: 30
Computing adjacency matrix ...
Computing spectral embedding ...
Calculating approximation of CellTrails manifold for 2D visualization...
Used tSNE perplexity: 30
Initialized 20 clusters with a minimum size of 1 sample(s) each.
Performing post-hoc test ...
Found 1 states.
Initialized 20 clusters with a minimum size of 1 sample(s) each.
Performing post-hoc test ...
Found 1 states.
Initialized 0 clusters with a minimum size of 1000 sample(s) each.
Initialized 20 clusters with a minimum size of 1 sample(s) each.
Performing post-hoc test ...
Found 20 states.
Initialized 20 clusters with a minimum size of 1 sample(s) each.
Performing post-hoc test ...
Found 1 states.
Initialized 20 clusters with a minimum size of 1 sample(s) each.
Performing post-hoc test ...
Found 19 states.
Initialized 20 clusters with a minimum size of 1 sample(s) each.
Performing post-hoc test ...
Found 5 states.
Initialized 20 clusters with a minimum size of 1 sample(s) each.
Performing post-hoc test ...
Found 5 states.
Computing adjacency matrix ...
Computing spectral embedding ...
Calculating approximation of CellTrails manifold for 2D visualization...
Used tSNE perplexity: 30
Initialized 20 clusters with a minimum size of 1 sample(s) each.
Performing post-hoc test ...
Found 5 states.
Calculating layout of state trajectory graph component 1...
Computing adjacency matrix ...
Computing spectral embedding ...
Calculating approximation of CellTrails manifold for 2D visualization...
Used tSNE perplexity: 30
Initialized 20 clusters with a minimum size of 1 sample(s) each.
Performing post-hoc test ...
Found 5 states.
Calculating layout of state trajectory graph component 1...
Computing adjacency matrix ...
Computing spectral embedding ...
Calculating approximation of CellTrails manifold for 2D visualization...
Used tSNE perplexity: 30
Initialized 20 clusters with a minimum size of 1 sample(s) each.
Performing post-hoc test ...
Found 5 states.
Calculating layout of state trajectory graph component 1...
Calculating 2D approximation of CellTrails manifold...
This graph was created by an old(er) igraph version.
ℹ Call `igraph::upgrade_graph()` on it to use with the current igraph version.
For now we convert it on the fly...
Calculating layout of state trajectory graph component 1...
Calculating layout of state trajectory graph component 2...
Calculating layout of state trajectory graph ...
This graph was created by an old(er) igraph version.
ℹ Call `igraph::upgrade_graph()` on it to use with the current igraph version.
For now we convert it on the fly...
This graph was created by an old(er) igraph version.
ℹ Call `igraph::upgrade_graph()` on it to use with the current igraph version.
For now we convert it on the fly...
Computing adjacency matrix ...
Computing spectral embedding ...
Calculating approximation of CellTrails manifold for 2D visualization...
Used tSNE perplexity: 30
Initialized 20 clusters with a minimum size of 1 sample(s) each.
Performing post-hoc test ...
Found 5 states.
Calculating layout of state trajectory graph component 1...


RUNIT TEST PROTOCOL -- Thu Oct 16 21:52:03 2025 
*********************************************** 
Number of test functions: 18 
Number of errors: 0 
Number of failures: 0 

 
1 Test Suite : 
CellTrails RUnit Tests - 18 test functions, 0 errors, 0 failures
Number of test functions: 18 
Number of errors: 0 
Number of failures: 0 
Warning messages:
1: `aes_string()` was deprecated in ggplot2 3.0.0.
ℹ Please use tidy evaluation idioms with `aes()`.
ℹ See also `vignette("ggplot2-in-packages")` for more information.
ℹ The deprecated feature was likely used in the CellTrails package.
  Please report the issue to the authors. 
2: Using `size` aesthetic for lines was deprecated in ggplot2 3.4.0.
ℹ Please use `linewidth` instead.
ℹ The deprecated feature was likely used in the CellTrails package.
  Please report the issue to the authors. 
3: The `<scale>` argument of `guides()` cannot be `FALSE`. Use "none" instead as
of ggplot2 3.3.4.
ℹ The deprecated feature was likely used in the CellTrails package.
  Please report the issue to the authors. 
> 
> proc.time()
   user  system elapsed 
 36.641   1.139  37.998 

Example timings

CellTrails.Rcheck/CellTrails-Ex.timings

nameusersystemelapsed
addTrail0.3570.0110.369
connectStates0.0550.0040.058
contrastTrailExpr0.2620.0080.270
embedSamples1.0000.0251.034
enrichment.test0.0030.0000.004
featureNames-SingleCellExperiment-method0.0110.0020.013
filterTrajFeaturesByCOV2.7490.0852.859
filterTrajFeaturesByDL1.6590.0321.701
filterTrajFeaturesByFF3.1410.1513.306
findSpectrum0.6940.0420.739
findStates0.8960.0100.908
fitDynamic0.1070.0030.109
fitTrajectory0.3290.0040.334
landmarks0.0070.0020.009
latentSpace-set0.2730.0100.284
latentSpace0.0300.0030.032
manifold2D-set0.3820.0150.400
manifold2D0.0180.0020.020
pca0.3630.0090.375
phenoNames0.0050.0020.007
plotDynamic0.8310.0090.843
plotManifold0.7170.0160.736
plotMap5.5410.3095.879
plotStateExpression0.5970.0130.612
plotStateSize0.3040.0190.325
plotStateTrajectory1.6180.0131.639
plotTrail0.4930.0070.504
plotTrajectoryFit0.3720.0050.379
read.ygraphml0.0030.0020.005
removeTrail0.0260.0030.030
sampleNames-SingleCellExperiment-method0.0110.0020.013
selectTrajectory0.0290.0030.031
showTrajInfo0.2000.0040.205
simulate_exprs0.0020.0000.001
stateTrajLayout-set0.1710.0050.176
states-set0.0280.0030.031
states0.0050.0010.007
trailNames-set0.0060.0030.009
trailNames0.0030.0020.004
trails0.0170.0030.021
trajComponents0.0260.0020.028
trajFeatureNames-set0.0250.0020.028
trajFeatureNames0.0110.0020.013
trajLayout-set0.3970.0050.403
trajLayout0.0090.0020.011
trajResiduals0.0040.0010.006
trajSampleNames0.0140.0020.016
userLandmarks-set0.3480.0040.353
userLandmarks0.0570.0030.060
write.ygraphml0.0040.0020.005