Back to Multiple platform build/check report for BioC 3.22:   simplified   long
AB[C]DEFGHIJKLMNOPQRSTUVWXYZ

This page was generated on 2025-10-04 12:07 -0400 (Sat, 04 Oct 2025).

HostnameOSArch (*)R versionInstalled pkgs
nebbiolo2Linux (Ubuntu 24.04.3 LTS)x86_644.5.1 Patched (2025-08-23 r88802) -- "Great Square Root" 4853
lconwaymacOS 12.7.1 Montereyx86_644.5.1 Patched (2025-09-10 r88807) -- "Great Square Root" 4640
kjohnson3macOS 13.7.7 Venturaarm644.5.1 Patched (2025-09-10 r88807) -- "Great Square Root" 4585
taishanLinux (openEuler 24.03 LTS)aarch644.5.0 (2025-04-11) -- "How About a Twenty-Six" 4576
Click on any hostname to see more info about the system (e.g. compilers)      (*) as reported by 'uname -p', except on Windows and Mac OS X

Package 278/2341HostnameOS / ArchINSTALLBUILDCHECKBUILD BIN
Cardinal 3.11.0  (landing page)
Kylie Ariel Bemis
Snapshot Date: 2025-10-03 13:45 -0400 (Fri, 03 Oct 2025)
git_url: https://git.bioconductor.org/packages/Cardinal
git_branch: devel
git_last_commit: 2424650
git_last_commit_date: 2025-04-15 10:37:46 -0400 (Tue, 15 Apr 2025)
nebbiolo2Linux (Ubuntu 24.04.3 LTS) / x86_64  OK    OK    OK  UNNEEDED, same version is already published
lconwaymacOS 12.7.1 Monterey / x86_64  OK    OK    OK    OK  UNNEEDED, same version is already published
kjohnson3macOS 13.7.7 Ventura / arm64  OK    OK    OK    OK  UNNEEDED, same version is already published
taishanLinux (openEuler 24.03 LTS) / aarch64  OK    OK    OK  


CHECK results for Cardinal on taishan

To the developers/maintainers of the Cardinal package:
- Allow up to 24 hours (and sometimes 48 hours) for your latest push to git@git.bioconductor.org:packages/Cardinal.git to reflect on this report. See Troubleshooting Build Report for more information.
- Use the following Renviron settings to reproduce errors and warnings.
- If 'R CMD check' started to fail recently on the Linux builder(s) over a missing dependency, add the missing dependency to 'Suggests:' in your DESCRIPTION file. See Renviron.bioc for more information.
- See Martin Grigorov's blog post for how to debug Linux ARM64 related issues on a x86_64 host.

raw results


Summary

Package: Cardinal
Version: 3.11.0
Command: /home/biocbuild/R/R/bin/R CMD check --install=check:Cardinal.install-out.txt --library=/home/biocbuild/R/R/site-library --no-vignettes --timings Cardinal_3.11.0.tar.gz
StartedAt: 2025-10-03 05:24:30 -0000 (Fri, 03 Oct 2025)
EndedAt: 2025-10-03 05:33:17 -0000 (Fri, 03 Oct 2025)
EllapsedTime: 527.5 seconds
RetCode: 0
Status:   OK  
CheckDir: Cardinal.Rcheck
Warnings: 0

Command output

##############################################################################
##############################################################################
###
### Running command:
###
###   /home/biocbuild/R/R/bin/R CMD check --install=check:Cardinal.install-out.txt --library=/home/biocbuild/R/R/site-library --no-vignettes --timings Cardinal_3.11.0.tar.gz
###
##############################################################################
##############################################################################


* using log directory ‘/home/biocbuild/bbs-3.22-bioc/meat/Cardinal.Rcheck’
* using R version 4.5.0 (2025-04-11)
* using platform: aarch64-unknown-linux-gnu
* R was compiled by
    aarch64-unknown-linux-gnu-gcc (GCC) 14.2.0
    GNU Fortran (GCC) 14.2.0
* running under: openEuler 24.03 (LTS)
* using session charset: UTF-8
* using option ‘--no-vignettes’
* checking for file ‘Cardinal/DESCRIPTION’ ... OK
* checking extension type ... Package
* this is package ‘Cardinal’ version ‘3.11.0’
* checking package namespace information ... OK
* checking package dependencies ... OK
* checking if this is a source package ... OK
* checking if there is a namespace ... OK
* checking for hidden files and directories ... OK
* checking for portable file names ... OK
* checking for sufficient/correct file permissions ... OK
* checking whether package ‘Cardinal’ can be installed ... OK
* checking installed package size ... OK
* checking package directory ... OK
* checking ‘build’ directory ... OK
* checking DESCRIPTION meta-information ... OK
* checking top-level files ... OK
* checking for left-over files ... OK
* checking index information ... OK
* checking package subdirectories ... OK
* checking code files for non-ASCII characters ... OK
* checking R files for syntax errors ... OK
* checking whether the package can be loaded ... OK
* checking whether the package can be loaded with stated dependencies ... OK
* checking whether the package can be unloaded cleanly ... OK
* checking whether the namespace can be loaded with stated dependencies ... OK
* checking whether the namespace can be unloaded cleanly ... OK
* checking loading without being on the library search path ... OK
* checking whether startup messages can be suppressed ... OK
* checking dependencies in R code ... OK
* checking S3 generic/method consistency ... OK
* checking replacement functions ... OK
* checking foreign function calls ... OK
* checking R code for possible problems ... OK
* checking Rd files ... OK
* checking Rd metadata ... OK
* checking Rd cross-references ... NOTE
Found the following Rd file(s) with Rd \link{} targets missing package
anchors:
  Cardinal-package.Rd: bplapply, simple_logger
  MSImagingArrays-class.Rd: ImzMeta-class, ProcessingStep-class
  MSImagingExperiment-class.Rd: ImzMeta-class, ProcessingStep-class
  MeansTest.Rd: lme, chunkApply, bplapply
  ResultsList-class.Rd: SimpleList-class
  SpatialCV.Rd: chunkApply, bplapply, cv_do
  SpatialDGMM.Rd: chunkApply, bplapply
  SpatialFastmap.Rd: chunkApply, bplapply
  SpatialKMeans.Rd: chunkApply, bplapply
  SpatialPCA.Rd: chunkApply, bplapply, irlba
  SpatialPLS.Rd: chunkApply, bplapply
  SpatialResults-class.Rd: DataFrame-class
  SpatialShrunkenCentroids.Rd: chunkApply, bplapply
  SpectraArrays-class.Rd: SimpleList-class
  SpectralImagingArrays-class.Rd: ProcessingStep-class
  SpectralImagingData-class.Rd: ProcessingStep-class
  SpectralImagingExperiment-class.Rd: DataFrame-class,
    ProcessingStep-class
  XDataFrame-class.Rd: DataFrame-class, DataFrame
  colocalized.Rd: chunkApply, bplapply
  estimateDomain.Rd: chunkApply, bplapply, chunkLapply
  findNeighbors.Rd: sparse_mat-class
  normalize.Rd: rescale_sum, rescale_rms, rescale_ref
  peakAlign.Rd: chunkApply, bplapply
  peakPick.Rd: estnoise_diff, estnoise_sd, estnoise_mad,
    estnoise_quant, estnoise_filt, findpeaks_cwt
  peakProcess.Rd: chunkApply, bplapply
  plot-image.Rd: enhance, filt2, plot_image
  plot-spectra.Rd: downsample, plot_signal
  process.Rd: chunkApply, bplapply
  readMSIData.Rd: matter, chunkApply, bplapply
  recalibrate.Rd: warp1_loc, warp1_dtw, warp1_cow
  reduceBaseline.Rd: estbase_loc, estbase_hull, estbase_snip,
    estbase_med
  simulateSpectra.Rd: chunkApply, bplapply
  smooth.Rd: filt1_gauss, filt1_bi, filt1_adapt, filt1_diff,
    filt1_guide, filt1_pag, filt1_sg, filt1_ma
  spatialDists.Rd: chunkApply, bplapply
  spatialWeights.Rd: chunkApply, bplapply, sparse_mat-class
  spectrapply.Rd: chunkApply, bplapply
  summarize.Rd: chunkApply, bplapply
  writeMSIData.Rd: chunkApply, bplapply
Please provide package anchors for all Rd \link{} targets not in the
package itself and the base packages.
* checking for missing documentation entries ... OK
* checking for code/documentation mismatches ... OK
* checking Rd \usage sections ... OK
* checking Rd contents ... OK
* checking for unstated dependencies in examples ... OK
* checking files in ‘vignettes’ ... OK
* checking examples ... OK
Examples with CPU (user + system) or elapsed time > 5s
             user system elapsed
MeansTest  20.583  0.307  20.953
plot-image  8.325  0.024   8.374
* checking for unstated dependencies in ‘tests’ ... OK
* checking tests ...
  Running ‘testthat.R’
 OK
* checking for unstated dependencies in vignettes ... OK
* checking package vignettes ... OK
* checking running R code from vignettes ... SKIPPED
* checking re-building of vignette outputs ... SKIPPED
* checking PDF version of manual ... OK
* DONE

Status: 1 NOTE
See
  ‘/home/biocbuild/bbs-3.22-bioc/meat/Cardinal.Rcheck/00check.log’
for details.


Installation output

Cardinal.Rcheck/00install.out

##############################################################################
##############################################################################
###
### Running command:
###
###   /home/biocbuild/R/R/bin/R CMD INSTALL Cardinal
###
##############################################################################
##############################################################################


* installing to library ‘/home/biocbuild/R/R-4.5.0/site-library’
* installing *source* package ‘Cardinal’ ...
** this is package ‘Cardinal’ version ‘3.11.0’
** using staged installation
** R
** inst
** byte-compile and prepare package for lazy loading
** help
*** installing help indices
** building package indices
** installing vignettes
** testing if installed package can be loaded from temporary location
** testing if installed package can be loaded from final location
** testing if installed package keeps a record of temporary installation path
* DONE (Cardinal)

Tests output

Cardinal.Rcheck/tests/testthat.Rout


R version 4.5.0 (2025-04-11) -- "How About a Twenty-Six"
Copyright (C) 2025 The R Foundation for Statistical Computing
Platform: aarch64-unknown-linux-gnu

R is free software and comes with ABSOLUTELY NO WARRANTY.
You are welcome to redistribute it under certain conditions.
Type 'license()' or 'licence()' for distribution details.

R is a collaborative project with many contributors.
Type 'contributors()' for more information and
'citation()' on how to cite R or R packages in publications.

Type 'demo()' for some demos, 'help()' for on-line help, or
'help.start()' for an HTML browser interface to help.
Type 'q()' to quit R.

> library(testthat)
> library(Cardinal)
Loading required package: BiocParallel
Loading required package: BiocGenerics
Loading required package: generics

Attaching package: 'generics'

The following objects are masked from 'package:base':

    as.difftime, as.factor, as.ordered, intersect, is.element, setdiff,
    setequal, union


Attaching package: 'BiocGenerics'

The following objects are masked from 'package:stats':

    IQR, mad, sd, var, xtabs

The following objects are masked from 'package:base':

    Filter, Find, Map, Position, Reduce, anyDuplicated, aperm, append,
    as.data.frame, basename, cbind, colnames, dirname, do.call,
    duplicated, eval, evalq, get, grep, grepl, is.unsorted, lapply,
    mapply, match, mget, order, paste, pmax, pmax.int, pmin, pmin.int,
    rank, rbind, rownames, sapply, saveRDS, table, tapply, unique,
    unsplit, which.max, which.min

Loading required package: ProtGenerics

Attaching package: 'ProtGenerics'

The following object is masked from 'package:stats':

    smooth

Loading required package: S4Vectors
Loading required package: stats4

Attaching package: 'S4Vectors'

The following object is masked from 'package:utils':

    findMatches

The following objects are masked from 'package:base':

    I, expand.grid, unname

> 
> test_check("Cardinal")
[ FAIL 0 | WARN 198 | SKIP 0 | PASS 756 ]

[ FAIL 0 | WARN 198 | SKIP 0 | PASS 756 ]
> 
> proc.time()
   user  system elapsed 
280.174   4.706 283.606 

Example timings

Cardinal.Rcheck/Cardinal-Ex.timings

nameusersystemelapsed
MSImagingArrays-class0.2210.0050.225
MSImagingExperiment-class0.1680.0010.169
MassDataFrame-class0.0380.0000.038
MeansTest20.583 0.30720.953
PositionDataFrame-class0.0700.0040.074
SpatialDGMM4.4990.0714.582
SpatialFastmap3.6090.0323.652
SpatialKMeans3.3630.0083.380
SpatialNMF3.2060.0203.234
SpatialPCA3.3310.0043.345
SpatialPLS3.3250.0323.366
SpatialShrunkenCentroids4.5410.0204.573
SpectraArrays-class0.0120.0000.013
SpectralImagingArrays-class0.0950.0000.095
SpectralImagingExperiment-class0.0940.0030.097
XDataFrame-class0.0220.0000.021
bin0.7980.0000.800
colocalized3.3840.0003.394
features3.1920.0243.226
findNeighbors0.0760.0040.080
normalize0.7490.0040.756
peakAlign0.9430.0080.953
peakPick1.1250.0001.128
peakProcess1.4600.0121.476
pixels3.2370.0763.324
plot-image8.3250.0248.374
plot-spectra1.0930.0041.101
process0.9980.0041.005
recalibrate1.0600.0001.063
reduceBaseline0.9160.0000.919
simulateSpectra3.5750.0003.590
sliceImage3.2910.0363.339
smooth0.9700.0000.973
spatialDists3.4900.0113.513
spatialWeights3.4010.0603.471
spectrapply3.1910.0083.208
subset3.4210.0003.430
summarize3.5270.0163.555