| Back to Multiple platform build/check report for BioC 3.22: simplified long | 
 | 
This page was generated on 2025-10-30 12:36 -0400 (Thu, 30 Oct 2025).
| Hostname | OS | Arch (*) | R version | Installed pkgs | 
|---|---|---|---|---|
| nebbiolo2 | Linux (Ubuntu 24.04.3 LTS) | x86_64 | 4.5.1 Patched (2025-08-23 r88802) -- "Great Square Root" | 4901 | 
| lconway | macOS 12.7.6 Monterey | x86_64 | 4.5.1 Patched (2025-09-10 r88807) -- "Great Square Root" | 4691 | 
| kjohnson3 | macOS 13.7.7 Ventura | arm64 | 4.5.1 Patched (2025-09-10 r88807) -- "Great Square Root" | 4637 | 
| Click on any hostname to see more info about the system (e.g. compilers) (*) as reported by 'uname -p', except on Windows and Mac OS X | ||||
| Package 281/2361 | Hostname | OS / Arch | INSTALL | BUILD | CHECK | BUILD BIN | ||||||||
| Cardinal 3.12.0  (landing page) Kylie Ariel Bemis 
 | nebbiolo2 | Linux (Ubuntu 24.04.3 LTS) / x86_64 | OK | OK | OK |  | ||||||||
| lconway | macOS 12.7.6 Monterey / x86_64 | OK | OK | OK | OK |  | ||||||||
| kjohnson3 | macOS 13.7.7 Ventura / arm64 | OK | OK | OK | OK |  | ||||||||
| To the developers/maintainers of the Cardinal package: - Allow up to 24 hours (and sometimes 48 hours) for your latest push to git@git.bioconductor.org:packages/Cardinal.git to reflect on this report. See Troubleshooting Build Report for more information. - Use the following Renviron settings to reproduce errors and warnings. - If 'R CMD check' started to fail recently on the Linux builder(s) over a missing dependency, add the missing dependency to 'Suggests:' in your DESCRIPTION file. See Renviron.bioc for more information. | 
| Package: Cardinal | 
| Version: 3.12.0 | 
| Command: /Library/Frameworks/R.framework/Resources/bin/R CMD check --install=check:Cardinal.install-out.txt --library=/Library/Frameworks/R.framework/Resources/library --no-vignettes --timings Cardinal_3.12.0.tar.gz | 
| StartedAt: 2025-10-30 01:15:56 -0400 (Thu, 30 Oct 2025) | 
| EndedAt: 2025-10-30 01:18:19 -0400 (Thu, 30 Oct 2025) | 
| EllapsedTime: 142.8 seconds | 
| RetCode: 0 | 
| Status: OK | 
| CheckDir: Cardinal.Rcheck | 
| Warnings: 0 | 
##############################################################################
##############################################################################
###
### Running command:
###
###   /Library/Frameworks/R.framework/Resources/bin/R CMD check --install=check:Cardinal.install-out.txt --library=/Library/Frameworks/R.framework/Resources/library --no-vignettes --timings Cardinal_3.12.0.tar.gz
###
##############################################################################
##############################################################################
* using log directory ‘/Users/biocbuild/bbs-3.22-bioc/meat/Cardinal.Rcheck’
* using R version 4.5.1 Patched (2025-09-10 r88807)
* using platform: aarch64-apple-darwin20
* R was compiled by
    Apple clang version 16.0.0 (clang-1600.0.26.6)
    GNU Fortran (GCC) 14.2.0
* running under: macOS Ventura 13.7.7
* using session charset: UTF-8
* using option ‘--no-vignettes’
* checking for file ‘Cardinal/DESCRIPTION’ ... OK
* checking extension type ... Package
* this is package ‘Cardinal’ version ‘3.12.0’
* checking package namespace information ... OK
* checking package dependencies ... OK
* checking if this is a source package ... OK
* checking if there is a namespace ... OK
* checking for hidden files and directories ... OK
* checking for portable file names ... OK
* checking for sufficient/correct file permissions ... OK
* checking whether package ‘Cardinal’ can be installed ... OK
* checking installed package size ... OK
* checking package directory ... OK
* checking ‘build’ directory ... OK
* checking DESCRIPTION meta-information ... OK
* checking top-level files ... OK
* checking for left-over files ... OK
* checking index information ... OK
* checking package subdirectories ... OK
* checking code files for non-ASCII characters ... OK
* checking R files for syntax errors ... OK
* checking whether the package can be loaded ... OK
* checking whether the package can be loaded with stated dependencies ... OK
* checking whether the package can be unloaded cleanly ... OK
* checking whether the namespace can be loaded with stated dependencies ... OK
* checking whether the namespace can be unloaded cleanly ... OK
* checking whether startup messages can be suppressed ... OK
* checking dependencies in R code ... OK
* checking S3 generic/method consistency ... OK
* checking replacement functions ... OK
* checking foreign function calls ... OK
* checking R code for possible problems ... OK
* checking Rd files ... OK
* checking Rd metadata ... OK
* checking Rd cross-references ... NOTE
Found the following Rd file(s) with Rd \link{} targets missing package
anchors:
  Cardinal-package.Rd: bplapply, simple_logger
  MSImagingArrays-class.Rd: ImzMeta-class, ProcessingStep-class
  MSImagingExperiment-class.Rd: ImzMeta-class, ProcessingStep-class
  MeansTest.Rd: lme, chunkApply, bplapply
  ResultsList-class.Rd: SimpleList-class
  SpatialCV.Rd: chunkApply, bplapply, cv_do
  SpatialDGMM.Rd: chunkApply, bplapply
  SpatialFastmap.Rd: chunkApply, bplapply
  SpatialKMeans.Rd: chunkApply, bplapply
  SpatialPCA.Rd: chunkApply, bplapply, irlba
  SpatialPLS.Rd: chunkApply, bplapply
  SpatialResults-class.Rd: DataFrame-class
  SpatialShrunkenCentroids.Rd: chunkApply, bplapply
  SpectraArrays-class.Rd: SimpleList-class
  SpectralImagingArrays-class.Rd: ProcessingStep-class
  SpectralImagingData-class.Rd: ProcessingStep-class
  SpectralImagingExperiment-class.Rd: DataFrame-class,
    ProcessingStep-class
  XDataFrame-class.Rd: DataFrame-class, DataFrame
  colocalized.Rd: chunkApply, bplapply
  estimateDomain.Rd: chunkApply, bplapply, chunkLapply
  findNeighbors.Rd: sparse_mat-class
  normalize.Rd: rescale_sum, rescale_rms, rescale_ref
  peakAlign.Rd: chunkApply, bplapply
  peakPick.Rd: estnoise_diff, estnoise_sd, estnoise_mad,
    estnoise_quant, estnoise_filt, findpeaks_cwt
  peakProcess.Rd: chunkApply, bplapply
  plot-image.Rd: enhance, filt2, plot_image
  plot-spectra.Rd: downsample, plot_signal
  process.Rd: chunkApply, bplapply
  readMSIData.Rd: matter, chunkApply, bplapply
  recalibrate.Rd: warp1_loc, warp1_dtw, warp1_cow
  reduceBaseline.Rd: estbase_loc, estbase_hull, estbase_snip,
    estbase_med
  simulateSpectra.Rd: chunkApply, bplapply
  smooth.Rd: filt1_gauss, filt1_bi, filt1_adapt, filt1_diff,
    filt1_guide, filt1_pag, filt1_sg, filt1_ma
  spatialDists.Rd: chunkApply, bplapply
  spatialWeights.Rd: chunkApply, bplapply, sparse_mat-class
  spectrapply.Rd: chunkApply, bplapply
  summarize.Rd: chunkApply, bplapply
  writeMSIData.Rd: chunkApply, bplapply
Please provide package anchors for all Rd \link{} targets not in the
package itself and the base packages.
* checking for missing documentation entries ... OK
* checking for code/documentation mismatches ... OK
* checking Rd \usage sections ... OK
* checking Rd contents ... OK
* checking for unstated dependencies in examples ... OK
* checking files in ‘vignettes’ ... OK
* checking examples ... OK
* checking for unstated dependencies in ‘tests’ ... OK
* checking tests ...
  Running ‘testthat.R’
 OK
* checking for unstated dependencies in vignettes ... OK
* checking package vignettes ... OK
* checking running R code from vignettes ... SKIPPED
* checking re-building of vignette outputs ... SKIPPED
* checking PDF version of manual ... OK
* DONE
Status: 1 NOTE
See
  ‘/Users/biocbuild/bbs-3.22-bioc/meat/Cardinal.Rcheck/00check.log’
for details.
Cardinal.Rcheck/00install.out
############################################################################## ############################################################################## ### ### Running command: ### ### /Library/Frameworks/R.framework/Resources/bin/R CMD INSTALL Cardinal ### ############################################################################## ############################################################################## * installing to library ‘/Library/Frameworks/R.framework/Versions/4.5-arm64/Resources/library’ * installing *source* package ‘Cardinal’ ... ** this is package ‘Cardinal’ version ‘3.12.0’ ** using staged installation ** R ** inst ** byte-compile and prepare package for lazy loading ** help *** installing help indices ** building package indices ** installing vignettes ** testing if installed package can be loaded from temporary location ** testing if installed package can be loaded from final location ** testing if installed package keeps a record of temporary installation path * DONE (Cardinal)
Cardinal.Rcheck/tests/testthat.Rout
R version 4.5.1 Patched (2025-09-10 r88807) -- "Great Square Root"
Copyright (C) 2025 The R Foundation for Statistical Computing
Platform: aarch64-apple-darwin20
R is free software and comes with ABSOLUTELY NO WARRANTY.
You are welcome to redistribute it under certain conditions.
Type 'license()' or 'licence()' for distribution details.
R is a collaborative project with many contributors.
Type 'contributors()' for more information and
'citation()' on how to cite R or R packages in publications.
Type 'demo()' for some demos, 'help()' for on-line help, or
'help.start()' for an HTML browser interface to help.
Type 'q()' to quit R.
> library(testthat)
> library(Cardinal)
Loading required package: BiocParallel
Loading required package: BiocGenerics
Loading required package: generics
Attaching package: 'generics'
The following objects are masked from 'package:base':
    as.difftime, as.factor, as.ordered, intersect, is.element, setdiff,
    setequal, union
Attaching package: 'BiocGenerics'
The following objects are masked from 'package:stats':
    IQR, mad, sd, var, xtabs
The following objects are masked from 'package:base':
    Filter, Find, Map, Position, Reduce, anyDuplicated, aperm, append,
    as.data.frame, basename, cbind, colnames, dirname, do.call,
    duplicated, eval, evalq, get, grep, grepl, is.unsorted, lapply,
    mapply, match, mget, order, paste, pmax, pmax.int, pmin, pmin.int,
    rank, rbind, rownames, sapply, saveRDS, table, tapply, unique,
    unsplit, which.max, which.min
Loading required package: ProtGenerics
Attaching package: 'ProtGenerics'
The following object is masked from 'package:stats':
    smooth
Loading required package: S4Vectors
Loading required package: stats4
Attaching package: 'S4Vectors'
The following object is masked from 'package:utils':
    findMatches
The following objects are masked from 'package:base':
    I, expand.grid, unname
> 
> test_check("Cardinal")
[ FAIL 0 | WARN 0 | SKIP 0 | PASS 782 ]
> 
> proc.time()
   user  system elapsed 
 72.102   4.166  76.031 
Cardinal.Rcheck/Cardinal-Ex.timings
| name | user | system | elapsed | |
| MSImagingArrays-class | 0.049 | 0.001 | 0.051 | |
| MSImagingExperiment-class | 0.052 | 0.000 | 0.052 | |
| MassDataFrame-class | 0.008 | 0.000 | 0.008 | |
| MeansTest | 4.148 | 0.067 | 4.216 | |
| PositionDataFrame-class | 0.013 | 0.000 | 0.013 | |
| SpatialDGMM | 0.842 | 0.010 | 0.852 | |
| SpatialFastmap | 0.832 | 0.020 | 0.853 | |
| SpatialKMeans | 0.699 | 0.023 | 0.722 | |
| SpatialNMF | 0.661 | 0.019 | 0.681 | |
| SpatialPCA | 0.649 | 0.010 | 0.659 | |
| SpatialPLS | 0.672 | 0.015 | 0.701 | |
| SpatialShrunkenCentroids | 0.893 | 0.020 | 0.939 | |
| SpectraArrays-class | 0.002 | 0.001 | 0.003 | |
| SpectralImagingArrays-class | 0.018 | 0.000 | 0.019 | |
| SpectralImagingExperiment-class | 0.018 | 0.000 | 0.019 | |
| XDataFrame-class | 0.004 | 0.000 | 0.004 | |
| bin | 0.159 | 0.001 | 0.162 | |
| colocalized | 0.685 | 0.028 | 0.715 | |
| features | 0.595 | 0.005 | 0.602 | |
| findNeighbors | 0.015 | 0.001 | 0.016 | |
| normalize | 0.142 | 0.001 | 0.142 | |
| peakAlign | 0.195 | 0.002 | 0.199 | |
| peakPick | 0.215 | 0.000 | 0.216 | |
| peakProcess | 0.202 | 0.000 | 0.202 | |
| pixels | 0.605 | 0.017 | 0.622 | |
| plot-image | 1.503 | 0.011 | 1.514 | |
| plot-spectra | 0.198 | 0.003 | 0.202 | |
| process | 0.201 | 0.003 | 0.203 | |
| recalibrate | 0.223 | 0.003 | 0.229 | |
| reduceBaseline | 0.188 | 0.001 | 0.195 | |
| simulateSpectra | 0.697 | 0.011 | 0.716 | |
| sliceImage | 0.601 | 0.003 | 0.605 | |
| smooth | 0.192 | 0.011 | 0.202 | |
| spatialDists | 0.686 | 0.026 | 0.719 | |
| spatialWeights | 0.825 | 0.018 | 0.843 | |
| spectrapply | 0.587 | 0.005 | 0.593 | |
| subset | 0.645 | 0.002 | 0.646 | |
| summarize | 0.677 | 0.036 | 0.717 | |