Back to Multiple platform build/check report for BioC 3.22:   simplified   long
A[B]CDEFGHIJKLMNOPQRSTUVWXYZ

This page was generated on 2025-10-28 12:03 -0400 (Tue, 28 Oct 2025).

HostnameOSArch (*)R versionInstalled pkgs
nebbiolo2Linux (Ubuntu 24.04.3 LTS)x86_644.5.1 Patched (2025-08-23 r88802) -- "Great Square Root" 4901
lconwaymacOS 12.7.6 Montereyx86_644.5.1 Patched (2025-09-10 r88807) -- "Great Square Root" 4691
kjohnson3macOS 13.7.7 Venturaarm644.5.1 Patched (2025-09-10 r88807) -- "Great Square Root" 4637
Click on any hostname to see more info about the system (e.g. compilers)      (*) as reported by 'uname -p', except on Windows and Mac OS X

Package 223/2361HostnameOS / ArchINSTALLBUILDCHECKBUILD BIN
BioNet 1.69.0  (landing page)
Marcus Dittrich
Snapshot Date: 2025-10-27 13:45 -0400 (Mon, 27 Oct 2025)
git_url: https://git.bioconductor.org/packages/BioNet
git_branch: devel
git_last_commit: 2d918c2
git_last_commit_date: 2025-04-15 10:00:12 -0400 (Tue, 15 Apr 2025)
nebbiolo2Linux (Ubuntu 24.04.3 LTS) / x86_64  OK    OK    OK  UNNEEDED, same version is already published
lconwaymacOS 12.7.6 Monterey / x86_64  OK    OK    OK    OK  UNNEEDED, same version is already published
kjohnson3macOS 13.7.7 Ventura / arm64  OK    OK    OK    OK  UNNEEDED, same version is already published


CHECK results for BioNet on lconway

To the developers/maintainers of the BioNet package:
- Allow up to 24 hours (and sometimes 48 hours) for your latest push to git@git.bioconductor.org:packages/BioNet.git to reflect on this report. See Troubleshooting Build Report for more information.
- Use the following Renviron settings to reproduce errors and warnings.
- If 'R CMD check' started to fail recently on the Linux builder(s) over a missing dependency, add the missing dependency to 'Suggests:' in your DESCRIPTION file. See Renviron.bioc for more information.

raw results


Summary

Package: BioNet
Version: 1.69.0
Command: /Library/Frameworks/R.framework/Resources/bin/R CMD check --install=check:BioNet.install-out.txt --library=/Library/Frameworks/R.framework/Resources/library --no-vignettes --timings BioNet_1.69.0.tar.gz
StartedAt: 2025-10-27 20:14:02 -0400 (Mon, 27 Oct 2025)
EndedAt: 2025-10-27 20:18:25 -0400 (Mon, 27 Oct 2025)
EllapsedTime: 263.1 seconds
RetCode: 0
Status:   OK  
CheckDir: BioNet.Rcheck
Warnings: 0

Command output

##############################################################################
##############################################################################
###
### Running command:
###
###   /Library/Frameworks/R.framework/Resources/bin/R CMD check --install=check:BioNet.install-out.txt --library=/Library/Frameworks/R.framework/Resources/library --no-vignettes --timings BioNet_1.69.0.tar.gz
###
##############################################################################
##############################################################################


* using log directory ‘/Users/biocbuild/bbs-3.22-bioc/meat/BioNet.Rcheck’
* using R version 4.5.1 Patched (2025-09-10 r88807)
* using platform: x86_64-apple-darwin20
* R was compiled by
    Apple clang version 14.0.0 (clang-1400.0.29.202)
    GNU Fortran (GCC) 14.2.0
* running under: macOS Monterey 12.7.6
* using session charset: UTF-8
* using option ‘--no-vignettes’
* checking for file ‘BioNet/DESCRIPTION’ ... OK
* checking extension type ... Package
* this is package ‘BioNet’ version ‘1.69.0’
* checking package namespace information ... OK
* checking package dependencies ... OK
* checking if this is a source package ... OK
* checking if there is a namespace ... OK
* checking for hidden files and directories ... OK
* checking for portable file names ... OK
* checking for sufficient/correct file permissions ... OK
* checking whether package ‘BioNet’ can be installed ... OK
* checking installed package size ... OK
* checking package directory ... OK
* checking ‘build’ directory ... OK
* checking DESCRIPTION meta-information ... OK
* checking top-level files ... OK
* checking for left-over files ... OK
* checking index information ... OK
* checking package subdirectories ... OK
* checking code files for non-ASCII characters ... OK
* checking R files for syntax errors ... OK
* checking whether the package can be loaded ... OK
* checking whether the package can be loaded with stated dependencies ... OK
* checking whether the package can be unloaded cleanly ... OK
* checking whether the namespace can be loaded with stated dependencies ... OK
* checking whether the namespace can be unloaded cleanly ... OK
* checking dependencies in R code ... NOTE
Packages in Depends field not imported from:
  ‘RBGL’ ‘graph’
  These packages need to be imported from (in the NAMESPACE file)
  for when this namespace is loaded but not attached.
* checking S3 generic/method consistency ... OK
* checking replacement functions ... OK
* checking foreign function calls ... OK
* checking R code for possible problems ... NOTE
.XGMML.edges: no visible global function definition for ‘is’
.XGMML.nodes: no visible global function definition for ‘is’
.add.edge.attrs: no visible global function definition for ‘read.table’
.add.node.attrs: no visible global function definition for ‘read.table’
.affyID2ppiID: no visible global function definition for ‘is’
.affyID2ppiID: no visible global function definition for ‘nodeData’
.graph.eda: no visible global function definition for ‘is’
.graph.eda: no visible global function definition for ‘write.table’
.graph.noa: no visible global function definition for ‘is’
.graph.noa: no visible global function definition for ‘write.table’
.graph.sif: no visible global function definition for ‘write.table’
.graph.table: no visible global function definition for ‘write.table’
.node.color: no visible global function definition for
  ‘colorRampPalette’
.saveGraph.net: no visible global function definition for ‘nodes’
.saveGraph.net: no visible global function definition for ‘write.table’
.saveGraph.net: no visible global function definition for ‘isDirected’
.saveGraph.net: no visible global function definition for ‘eWV’
.saveGraph.net: no visible global function definition for ‘edgeMatrix’
.saveGraph.tab: no visible global function definition for ‘edgeNames’
.saveGraph.tgf: no visible global function definition for ‘write.table’
.saveGraph.tgf: no visible global function definition for ‘nodes’
.saveGraph.tgf: no visible global function definition for ‘eWV’
.saveGraph.tgf: no visible global function definition for ‘edgeMatrix’
.subNetwork0: no visible global function definition for ‘is’
.subNetwork0: no visible global function definition for ‘na.omit’
.subNetwork0: no visible global function definition for ‘subGraph’
.subNetwork0: no visible global function definition for ‘nodes’
.subNetwork1: no visible global function definition for ‘is’
.subNetwork1: no visible global function definition for ‘na.omit’
.subNetwork1: no visible global function definition for ‘adj’
.subNetwork1: no visible global function definition for ‘subGraph’
.subNetwork1: no visible global function definition for ‘nodes’
aggrPvals: no visible global function definition for ‘pbeta’
aggrPvals: no visible global function definition for ‘hist’
aggrPvals: no visible global function definition for ‘par’
bumOptim: no visible global function definition for ‘runif’
bumOptim: no visible global function definition for ‘optim’
compareNetworks: no visible global function definition for ‘is’
compareNetworks: no visible global function definition for ‘hist’
compareNetworks: no visible global function definition for ‘points’
compareNetworks: no visible global function definition for ‘legend’
consensusScores: no visible global function definition for ‘is’
consensusScores : <anonymous>: no visible global function definition
  for ‘nodes’
consensusScores: no visible global function definition for ‘numNodes’
consensusScores: no visible global function definition for ‘nodes’
consensusScores: no visible global function definition for ‘numEdges’
fitBumModel: no visible global function definition for ‘par’
fitBumModel: no visible global function definition for ‘hist’
getCompScores: no visible global function definition for ‘is’
getCompScores: no visible global function definition for ‘connComp’
getEdgeList: no visible global function definition for ‘is’
getEdgeList: no visible global function definition for ‘edgeMatrix’
getEdgeList: no visible global function definition for ‘nodes’
hist.bum: no visible global function definition for ‘hist’
hist.bum: no visible global function definition for ‘lines’
hist.bum: no visible global function definition for ‘abline’
hist.bum: no visible global function definition for ‘axis’
largestComp: no visible global function definition for ‘is’
largestComp: no visible global function definition for ‘connectedComp’
largestComp: no visible global function definition for ‘subGraph’
largestScoreComp: no visible global function definition for ‘is’
largestScoreComp: no visible global function definition for ‘na.omit’
largestScoreComp: no visible global function definition for ‘nodes’
largestScoreComp: no visible global function definition for ‘subGraph’
loadNetwork.sif: no visible global function definition for ‘read.table’
loadNetwork.tab: no visible global function definition for ‘new’
loadNetwork.tab: no visible global function definition for ‘addEdge’
makeNetwork: no visible global function definition for ‘new’
makeNetwork: no visible global function definition for ‘addEdge’
permutateNodes: no visible global function definition for ‘is’
permutateNodes: no visible global function definition for ‘nodes<-’
permutateNodes: no visible global function definition for ‘nodes’
plot.bum: no visible binding for global variable ‘uniroot’
plot.bum: no visible global function definition for ‘lines’
plot3dModule: no visible global function definition for ‘is’
plot3dModule: no visible global function definition for ‘rgl.open’
plot3dModule: no visible global function definition for ‘par3d’
plot3dModule: no visible global function definition for ‘rgl.texts’
plot3dModule: no visible global function definition for ‘rgl.bg’
plotLLSurface: no visible binding for global variable ‘heat.colors’
plotLLSurface: no visible global function definition for
  ‘filled.contour’
plotLLSurface: no visible global function definition for ‘axis’
plotLLSurface: no visible global function definition for ‘abline’
plotLLSurface: no visible global function definition for ‘strheight’
plotLLSurface: no visible global function definition for ‘points’
plotLLSurface: no visible global function definition for ‘text’
plotModule: no visible global function definition for ‘is’
readHeinzGraph: no visible global function definition for ‘is’
readHeinzGraph: no visible global function definition for ‘read.table’
readHeinzTree: no visible global function definition for ‘read.table’
readHeinzTree: no visible global function definition for ‘is’
readHeinzTree: no visible global function definition for ‘edgeNames’
readHeinzTree: no visible global function definition for ‘removeEdge’
resamplingPvalues: no visible global function definition for
  ‘rowttests’
resamplingPvalues: no visible binding for global variable ‘var’
resamplingPvalues: no visible global function definition for ‘pt’
rmSelfLoops: no visible global function definition for ‘is’
rmSelfLoops: no visible global function definition for ‘edgeNames’
rmSelfLoops: no visible global function definition for ‘numEdges’
rmSelfLoops: no visible global function definition for ‘removeEdge’
runFastHeinz: no visible global function definition for ‘is’
save3dModule: no visible global function definition for ‘rgl.bg’
save3dModule: no visible global function definition for
  ‘rgl.postscript’
saveNetwork: no visible global function definition for ‘is’
scoreNodes: no visible global function definition for ‘is’
scoreNodes: no visible global function definition for ‘nodes’
sortedEdgeList: no visible global function definition for ‘is’
sortedEdgeList: no visible global function definition for ‘isDirected’
writeHeinz: no visible global function definition for ‘is’
writeHeinzEdges: no visible global function definition for ‘is’
writeHeinzEdges: no visible global function definition for
  ‘write.table’
writeHeinzNodes: no visible global function definition for ‘is’
writeHeinzNodes: no visible global function definition for
  ‘write.table’
Undefined global functions or variables:
  abline addEdge adj axis colorRampPalette connComp connectedComp eWV
  edgeMatrix edgeNames filled.contour heat.colors hist is isDirected
  legend lines na.omit new nodeData nodes nodes<- numEdges numNodes
  optim par par3d pbeta points pt read.table removeEdge rgl.bg rgl.open
  rgl.postscript rgl.texts rowttests runif strheight subGraph text
  uniroot var write.table
Consider adding
  importFrom("grDevices", "colorRampPalette", "heat.colors")
  importFrom("graphics", "abline", "axis", "filled.contour", "hist",
             "legend", "lines", "par", "points", "strheight", "text")
  importFrom("methods", "is", "new")
  importFrom("stats", "na.omit", "optim", "pbeta", "pt", "runif",
             "uniroot", "var")
  importFrom("utils", "read.table", "write.table")
to your NAMESPACE file (and ensure that your DESCRIPTION Imports field
contains 'methods').
* checking Rd files ... NOTE
checkRd: (-1) writeHeinz.Rd:29: Escaped LaTeX specials: \$
checkRd: (-1) writeHeinzEdges.Rd:23: Escaped LaTeX specials: \$
* checking Rd metadata ... OK
* checking Rd cross-references ... OK
* checking for missing documentation entries ... OK
* checking for code/documentation mismatches ... OK
* checking Rd \usage sections ... OK
* checking Rd contents ... OK
* checking for unstated dependencies in examples ... OK
* checking contents of ‘data’ directory ... OK
* checking data for non-ASCII characters ... OK
* checking data for ASCII and uncompressed saves ... OK
* checking sizes of PDF files under ‘inst/doc’ ... OK
* checking files in ‘vignettes’ ... OK
* checking examples ... OK
Examples with CPU (user + system) or elapsed time > 5s
                   user system elapsed
runFastHeinz     20.912  0.865  33.909
permutateNodes    5.006  0.820  12.687
largestScoreComp  4.231  0.700  11.241
plot.bum          0.762  0.112   7.336
* checking for unstated dependencies in vignettes ... OK
* checking package vignettes ... OK
* checking running R code from vignettes ... SKIPPED
* checking re-building of vignette outputs ... SKIPPED
* checking PDF version of manual ... OK
* DONE

Status: 3 NOTEs
See
  ‘/Users/biocbuild/bbs-3.22-bioc/meat/BioNet.Rcheck/00check.log’
for details.


Installation output

BioNet.Rcheck/00install.out

##############################################################################
##############################################################################
###
### Running command:
###
###   /Library/Frameworks/R.framework/Resources/bin/R CMD INSTALL BioNet
###
##############################################################################
##############################################################################


* installing to library ‘/Library/Frameworks/R.framework/Versions/4.5-x86_64/Resources/library’
* installing *source* package ‘BioNet’ ...
** this is package ‘BioNet’ version ‘1.69.0’
** using staged installation
** R
** data
** inst
** byte-compile and prepare package for lazy loading
** help
*** installing help indices
** building package indices
** installing vignettes
** testing if installed package can be loaded from temporary location
** testing if installed package can be loaded from final location
** testing if installed package keeps a record of temporary installation path
* DONE (BioNet)

Tests output


Example timings

BioNet.Rcheck/BioNet-Ex.timings

nameusersystemelapsed
aggrPvals0.6410.1101.178
bumOptim0.2800.0200.466
compareNetworks1.2150.0422.081
consensusScores0.3460.0150.620
fbum0.0000.0010.000
fbumLL0.2490.0150.465
fdrThreshold0.2310.0100.411
fitBumModel0.8460.0841.576
getCompScores1.7730.0962.106
getEdgeList0.6400.0170.670
hist.bum0.6880.0200.722
largestComp1.3230.0361.832
largestScoreComp 4.231 0.70011.241
loadNetwork.sif000
makeNetwork0.0070.0010.057
mapByVar0.0000.0000.001
permutateNodes 5.006 0.82012.687
piUpper0.2200.0150.554
plot.bum0.7620.1127.336
plot3dModule1.5850.1634.450
plotLLSurface0.4340.0290.609
plotModule1.6220.1282.116
print.bum0.1820.0030.186
pvaluesExample0.0080.0030.015
readHeinzGraph0.3470.0190.370
readHeinzTree0.3090.0100.339
resamplingPvalues2.7710.1943.514
rmSelfLoops0.0370.0020.083
runFastHeinz20.912 0.86533.909
save3dModule0.8720.0963.980
saveNetwork0.8560.0761.940
scanFDR0.1800.0120.194
scoreFunction0.2130.1050.320
scoreNodes1.4230.1671.709
scoreOffset0.1850.0090.195
sortedEdgeList2.1690.0372.269
subNetwork0.0620.0020.080
summary.bum0.1450.0040.202
writeHeinz0.9910.0921.270
writeHeinzEdges2.2230.2183.848
writeHeinzNodes0.9990.0662.328