Back to Multiple platform build/check report for BioC 3.23:   simplified   long
A[B]CDEFGHIJKLMNOPQRSTUVWXYZ

This page was generated on 2025-11-28 11:39 -0500 (Fri, 28 Nov 2025).

HostnameOSArch (*)R versionInstalled pkgs
nebbiolo1Linux (Ubuntu 24.04.3 LTS)x86_64R Under development (unstable) (2025-10-20 r88955) -- "Unsuffered Consequences" 4866
lconwaymacOS 12.7.6 Montereyx86_64R Under development (unstable) (2025-10-21 r88958) -- "Unsuffered Consequences" 4614
kjohnson3macOS 13.7.7 Venturaarm64R Under development (unstable) (2025-11-04 r88984) -- "Unsuffered Consequences" 4571
Click on any hostname to see more info about the system (e.g. compilers)      (*) as reported by 'uname -p', except on Windows and Mac OS X

Package 176/2328HostnameOS / ArchINSTALLBUILDCHECKBUILD BIN
BindingSiteFinder 2.9.0  (landing page)
Mirko Brüggemann
Snapshot Date: 2025-11-27 13:40 -0500 (Thu, 27 Nov 2025)
git_url: https://git.bioconductor.org/packages/BindingSiteFinder
git_branch: devel
git_last_commit: 885c4f6
git_last_commit_date: 2025-10-29 11:10:55 -0500 (Wed, 29 Oct 2025)
nebbiolo1Linux (Ubuntu 24.04.3 LTS) / x86_64  OK    OK    OK  UNNEEDED, same version is already published
lconwaymacOS 12.7.6 Monterey / x86_64  OK    OK    OK    OK  NO, package depends on 'GenomicRanges' which is only available as a source package that needs compilation
kjohnson3macOS 13.7.7 Ventura / arm64  OK    OK    OK    OK  NO, package depends on 'GenomicRanges' which is only available as a source package that needs compilation


CHECK results for BindingSiteFinder on kjohnson3

To the developers/maintainers of the BindingSiteFinder package:
- Allow up to 24 hours (and sometimes 48 hours) for your latest push to git@git.bioconductor.org:packages/BindingSiteFinder.git to reflect on this report. See Troubleshooting Build Report for more information.
- Use the following Renviron settings to reproduce errors and warnings.
- If 'R CMD check' started to fail recently on the Linux builder(s) over a missing dependency, add the missing dependency to 'Suggests:' in your DESCRIPTION file. See Renviron.bioc for more information.

raw results


Summary

Package: BindingSiteFinder
Version: 2.9.0
Command: /Library/Frameworks/R.framework/Resources/bin/R CMD check --install=check:BindingSiteFinder.install-out.txt --library=/Library/Frameworks/R.framework/Resources/library --no-vignettes --timings BindingSiteFinder_2.9.0.tar.gz
StartedAt: 2025-11-27 18:44:01 -0500 (Thu, 27 Nov 2025)
EndedAt: 2025-11-27 18:50:05 -0500 (Thu, 27 Nov 2025)
EllapsedTime: 364.8 seconds
RetCode: 0
Status:   OK  
CheckDir: BindingSiteFinder.Rcheck
Warnings: 0

Command output

##############################################################################
##############################################################################
###
### Running command:
###
###   /Library/Frameworks/R.framework/Resources/bin/R CMD check --install=check:BindingSiteFinder.install-out.txt --library=/Library/Frameworks/R.framework/Resources/library --no-vignettes --timings BindingSiteFinder_2.9.0.tar.gz
###
##############################################################################
##############################################################################


* using log directory ‘/Users/biocbuild/bbs-3.23-bioc/meat/BindingSiteFinder.Rcheck’
* using R Under development (unstable) (2025-11-04 r88984)
* using platform: aarch64-apple-darwin20
* R was compiled by
    Apple clang version 16.0.0 (clang-1600.0.26.6)
    GNU Fortran (GCC) 14.2.0
* running under: macOS Ventura 13.7.8
* using session charset: UTF-8
* using option ‘--no-vignettes’
* checking for file ‘BindingSiteFinder/DESCRIPTION’ ... OK
* checking extension type ... Package
* this is package ‘BindingSiteFinder’ version ‘2.9.0’
* package encoding: UTF-8
* checking package namespace information ... OK
* checking package dependencies ... OK
* checking if this is a source package ... OK
* checking if there is a namespace ... OK
* checking for hidden files and directories ... OK
* checking for portable file names ... OK
* checking for sufficient/correct file permissions ... OK
* checking whether package ‘BindingSiteFinder’ can be installed ... OK
* checking installed package size ... OK
* checking package directory ... OK
* checking ‘build’ directory ... OK
* checking DESCRIPTION meta-information ... OK
* checking top-level files ... OK
* checking for left-over files ... OK
* checking index information ... OK
* checking package subdirectories ... OK
* checking code files for non-ASCII characters ... OK
* checking R files for syntax errors ... OK
* checking whether the package can be loaded ... OK
* checking whether the package can be loaded with stated dependencies ... OK
* checking whether the package can be unloaded cleanly ... OK
* checking whether the namespace can be loaded with stated dependencies ... OK
* checking whether the namespace can be unloaded cleanly ... OK
* checking dependencies in R code ... OK
* checking S3 generic/method consistency ... OK
* checking replacement functions ... OK
* checking foreign function calls ... OK
* checking R code for possible problems ... OK
* checking Rd files ... OK
* checking Rd metadata ... OK
* checking Rd cross-references ... NOTE
Found the following Rd file(s) with Rd \link{} targets missing package
anchors:
  BSFind.Rd: GenomicRanges, CompressedGRangesList
  annotateWithScore.Rd: GenomicRanges
  assignToGenes.Rd: GenomicRanges, overlaps
  assignToTranscriptRegions.Rd: CompressedGRangesList, overlaps
  bindingSiteDefinednessPlot.Rd: ggplot
  calculateBsBackground.Rd: GenomicRanges
  duplicatedSitesPlot.Rd: ggplot
  estimateBsWidth.Rd: GenomicRanges
  estimateBsWidthPlot.Rd: ggplot
  geneOverlapsPlot.Rd: ggplot
  geneRegulationPlot.Rd: GenomicRanges
  globalScorePlot.Rd: ggplot
  makeBsSummaryPlot.Rd: ggplot
  mergeCrosslinkDiagnosticsPlot.Rd: ggplot
  plotBsBackgroundFilter.Rd: ggplot
  plotBsMA.Rd: ggplot
  plotBsVolcano.Rd: ggplot
  processingStepsFlowChart.Rd: ggplot
  pureClipGeneWiseFilter.Rd: GenomicRanges, overlaps
  pureClipGlobalFilter.Rd: GenomicRanges
  pureClipGlobalFilterPlot.Rd: ggplot
  reproducibilityFilterPlot.Rd: ggplot
  reproducibilitySamplesPlot.Rd: ggplot
  targetGeneSpectrumPlot.Rd: ggplot
  transcriptRegionOverlapsPlot.Rd: ggplot
  transcriptRegionSpectrumPlot.Rd: ggplot
Please provide package anchors for all Rd \link{} targets not in the
package itself and the base packages.
* checking for missing documentation entries ... OK
* checking for code/documentation mismatches ... OK
* checking Rd \usage sections ... OK
* checking Rd contents ... OK
* checking for unstated dependencies in examples ... OK
* checking files in ‘vignettes’ ... OK
* checking examples ... OK
Examples with CPU (user + system) or elapsed time > 5s
                             user system elapsed
BSFind                     12.375  0.206  22.828
quickFigure                10.494  0.188  11.054
processingStepsFlowChart    9.541  0.200  10.035
bindingSiteDefinednessPlot  9.220  0.320  10.436
calculateBsFoldChange       7.031  0.155   7.510
plotBsMA                    5.422  0.082   5.652
bindingSiteCoveragePlot     5.305  0.150   9.753
* checking for unstated dependencies in ‘tests’ ... OK
* checking tests ...
  Running ‘testthat.R’
 OK
* checking for unstated dependencies in vignettes ... OK
* checking package vignettes ... OK
* checking running R code from vignettes ... SKIPPED
* checking re-building of vignette outputs ... SKIPPED
* checking PDF version of manual ... OK
* DONE

Status: 1 NOTE
See
  ‘/Users/biocbuild/bbs-3.23-bioc/meat/BindingSiteFinder.Rcheck/00check.log’
for details.


Installation output

BindingSiteFinder.Rcheck/00install.out

##############################################################################
##############################################################################
###
### Running command:
###
###   /Library/Frameworks/R.framework/Resources/bin/R CMD INSTALL BindingSiteFinder
###
##############################################################################
##############################################################################


* installing to library ‘/Library/Frameworks/R.framework/Versions/4.6-arm64/Resources/library’
* installing *source* package ‘BindingSiteFinder’ ...
** this is package ‘BindingSiteFinder’ version ‘2.9.0’
** using staged installation
** R
** inst
** byte-compile and prepare package for lazy loading
** help
*** installing help indices
** building package indices
** installing vignettes
** testing if installed package can be loaded from temporary location
** testing if installed package can be loaded from final location
** testing if installed package keeps a record of temporary installation path
* DONE (BindingSiteFinder)

Tests output

BindingSiteFinder.Rcheck/tests/testthat.Rout


R Under development (unstable) (2025-11-04 r88984) -- "Unsuffered Consequences"
Copyright (C) 2025 The R Foundation for Statistical Computing
Platform: aarch64-apple-darwin20

R is free software and comes with ABSOLUTELY NO WARRANTY.
You are welcome to redistribute it under certain conditions.
Type 'license()' or 'licence()' for distribution details.

R is a collaborative project with many contributors.
Type 'contributors()' for more information and
'citation()' on how to cite R or R packages in publications.

Type 'demo()' for some demos, 'help()' for on-line help, or
'help.start()' for an HTML browser interface to help.
Type 'q()' to quit R.

> library("testthat")
> library("BindingSiteFinder")
Loading required package: GenomicRanges
Loading required package: stats4
Loading required package: BiocGenerics
Loading required package: generics

Attaching package: 'generics'

The following objects are masked from 'package:base':

    as.difftime, as.factor, as.ordered, intersect, is.element, setdiff,
    setequal, union


Attaching package: 'BiocGenerics'

The following objects are masked from 'package:stats':

    IQR, mad, sd, var, xtabs

The following objects are masked from 'package:base':

    Filter, Find, Map, Position, Reduce, anyDuplicated, aperm, append,
    as.data.frame, basename, cbind, colnames, dirname, do.call,
    duplicated, eval, evalq, get, grep, grepl, is.unsorted, lapply,
    mapply, match, mget, order, paste, pmax, pmax.int, pmin, pmin.int,
    rank, rbind, rownames, sapply, saveRDS, table, tapply, unique,
    unsplit, which.max, which.min

Loading required package: S4Vectors

Attaching package: 'S4Vectors'

The following object is masked from 'package:utils':

    findMatches

The following objects are masked from 'package:base':

    I, expand.grid, unname

Loading required package: IRanges
Loading required package: Seqinfo
> test_check("BindingSiteFinder")
[1] "make bs"
[1] "calc ratio"
[1] "make bs"
[1] "calc ratio"
[ FAIL 0 | WARN 0 | SKIP 0 | PASS 240 ]
> 
> proc.time()
   user  system elapsed 
 97.092   2.087 102.523 

Example timings

BindingSiteFinder.Rcheck/BindingSiteFinder-Ex.timings

nameusersystemelapsed
BSFDataSet0.0960.0030.209
BSFind12.375 0.20622.828
add-BSFDataSet0.8050.0271.452
annotateWithScore0.6160.0061.162
assignToGenes0.9130.0131.671
assignToTranscriptRegions1.0890.0171.982
bindingSiteCoveragePlot5.3050.1509.753
bindingSiteDefinednessPlot 9.220 0.32010.436
calculateBsBackground2.2430.0452.494
calculateBsFoldChange7.0310.1557.510
calculateSignalToFlankScore0.5110.0180.552
clipCoverage0.6170.0160.636
collapseReplicates0.0790.0030.088
combineBSF1.0910.0471.152
coverageOverRanges0.3910.0180.420
duplicatedSitesPlot0.2590.0080.270
estimateBsWidth4.3630.1234.684
estimateBsWidthPlot3.2950.1033.558
exportTargetGenes0.0240.0010.028
exportToBED0.0260.0010.032
filterBsBackground1.2750.0241.373
geneOverlapsPlot0.9830.0191.068
geneRegulationPlot4.2200.0894.502
getMeta0.0250.0010.028
getName0.0240.0010.027
getRanges0.0310.0020.031
getSignal0.0410.0010.043
getSummary0.4190.0120.454
globalScorePlot0.5490.0080.577
imputeBsDifferencesForTestdata0.7820.0230.834
makeBindingSites0.8530.0261.010
makeBsSummaryPlot0.4790.0160.547
mergeCrosslinkDiagnosticsPlot0.5120.0100.538
mergeSummaryPlot1.3770.0201.418
plotBsBackgroundFilter1.8620.0592.042
plotBsMA5.4220.0825.652
plotBsVolcano4.3150.0614.476
processingStepsFlowChart 9.541 0.20010.035
processingStepsTable0.0350.0000.036
pureClipGeneWiseFilter0.1390.0030.144
pureClipGlobalFilter0.0380.0010.039
pureClipGlobalFilterPlot0.1610.0060.176
quickFigure10.494 0.18811.054
rangeCoveragePlot2.0030.0582.109
reproducibilityCutoffPlot1.0610.0411.140
reproducibilityFilter0.5630.0250.626
reproducibilityFilterPlot0.7400.0120.775
reproducibilitySamplesPlot0.5880.0120.622
reproducibilityScatterPlot1.7060.0161.813
setMeta0.0250.0010.026
setName0.0270.0010.030
setRanges0.0320.0020.034
setSignal0.0370.0010.039
setSummary0.0230.0010.026
show0.0250.0010.026
subset-BSFDataSet0.0320.0010.033
summary0.0310.0020.033
supportRatio1.1770.0241.229
supportRatioPlot1.2820.0221.354
targetGeneSpectrumPlot0.8030.0110.837
transcriptRegionOverlapsPlot0.8800.0100.918
transcriptRegionSpectrumPlot0.9700.0271.013