Back to Multiple platform build/check report for BioC 3.23:   simplified   long
A[B]CDEFGHIJKLMNOPQRSTUVWXYZ

This page was generated on 2025-11-17 11:39 -0500 (Mon, 17 Nov 2025).

HostnameOSArch (*)R versionInstalled pkgs
nebbiolo1Linux (Ubuntu 24.04.3 LTS)x86_64R Under development (unstable) (2025-10-20 r88955) -- "Unsuffered Consequences" 4826
lconwaymacOS 12.7.6 Montereyx86_64R Under development (unstable) (2025-10-21 r88958) -- "Unsuffered Consequences" 4491
kjohnson3macOS 13.7.7 Venturaarm64R Under development (unstable) (2025-11-04 r88984) -- "Unsuffered Consequences" 4562
Click on any hostname to see more info about the system (e.g. compilers)      (*) as reported by 'uname -p', except on Windows and Mac OS X

Package 226/2325HostnameOS / ArchINSTALLBUILDCHECKBUILD BIN
BiSeq 1.51.0  (landing page)
Katja Hebestreit
Snapshot Date: 2025-11-16 13:40 -0500 (Sun, 16 Nov 2025)
git_url: https://git.bioconductor.org/packages/BiSeq
git_branch: devel
git_last_commit: 6c33e6b
git_last_commit_date: 2025-10-29 10:14:44 -0500 (Wed, 29 Oct 2025)
nebbiolo1Linux (Ubuntu 24.04.3 LTS) / x86_64  OK    OK    OK  UNNEEDED, same version is already published
lconwaymacOS 12.7.6 Monterey / x86_64  OK    OK    OK    OK  NO, package depends on 'IRanges' which is only available as a source package that needs compilation
kjohnson3macOS 13.7.7 Ventura / arm64  OK    OK    OK    OK  NO, package depends on 'GenomicRanges' which is only available as a source package that needs compilation


CHECK results for BiSeq on lconway

To the developers/maintainers of the BiSeq package:
- Allow up to 24 hours (and sometimes 48 hours) for your latest push to git@git.bioconductor.org:packages/BiSeq.git to reflect on this report. See Troubleshooting Build Report for more information.
- Use the following Renviron settings to reproduce errors and warnings.
- If 'R CMD check' started to fail recently on the Linux builder(s) over a missing dependency, add the missing dependency to 'Suggests:' in your DESCRIPTION file. See Renviron.bioc for more information.

raw results


Summary

Package: BiSeq
Version: 1.51.0
Command: /Library/Frameworks/R.framework/Resources/bin/R CMD check --install=check:BiSeq.install-out.txt --library=/Library/Frameworks/R.framework/Resources/library --no-vignettes --timings BiSeq_1.51.0.tar.gz
StartedAt: 2025-11-17 01:16:15 -0500 (Mon, 17 Nov 2025)
EndedAt: 2025-11-17 01:38:56 -0500 (Mon, 17 Nov 2025)
EllapsedTime: 1360.8 seconds
RetCode: 0
Status:   OK  
CheckDir: BiSeq.Rcheck
Warnings: 0

Command output

##############################################################################
##############################################################################
###
### Running command:
###
###   /Library/Frameworks/R.framework/Resources/bin/R CMD check --install=check:BiSeq.install-out.txt --library=/Library/Frameworks/R.framework/Resources/library --no-vignettes --timings BiSeq_1.51.0.tar.gz
###
##############################################################################
##############################################################################


* using log directory ‘/Users/biocbuild/bbs-3.23-bioc/meat/BiSeq.Rcheck’
* using R Under development (unstable) (2025-10-21 r88958)
* using platform: x86_64-apple-darwin20
* R was compiled by
    Apple clang version 14.0.0 (clang-1400.0.29.202)
    GNU Fortran (GCC) 14.2.0
* running under: macOS Ventura 13.7.8
* using session charset: UTF-8
* using option ‘--no-vignettes’
* checking for file ‘BiSeq/DESCRIPTION’ ... OK
* checking extension type ... Package
* this is package ‘BiSeq’ version ‘1.51.0’
* checking package namespace information ... OK
* checking package dependencies ... OK
* checking if this is a source package ... OK
* checking if there is a namespace ... OK
* checking for hidden files and directories ... OK
* checking for portable file names ... OK
* checking for sufficient/correct file permissions ... OK
* checking whether package ‘BiSeq’ can be installed ... OK
* checking installed package size ... OK
* checking package directory ... OK
* checking ‘build’ directory ... OK
* checking DESCRIPTION meta-information ... NOTE
Packages listed in more than one of Depends, Imports, Suggests, Enhances:
  ‘methods’ ‘S4Vectors’ ‘IRanges’ ‘GenomicRanges’ ‘SummarizedExperiment’ ‘Formula’
A package should be listed in only one of these fields.
* checking top-level files ... OK
* checking for left-over files ... OK
* checking index information ... OK
* checking package subdirectories ... OK
* checking code files for non-ASCII characters ... OK
* checking R files for syntax errors ... OK
* checking whether the package can be loaded ... OK
* checking whether the package can be loaded with stated dependencies ... OK
* checking whether the package can be unloaded cleanly ... OK
* checking whether the namespace can be loaded with stated dependencies ... OK
* checking whether the namespace can be unloaded cleanly ... OK
* checking dependencies in R code ... NOTE
Namespace in Imports field not imported from: ‘Formula’
  All declared Imports should be used.
Package in Depends field not imported from: ‘Formula’
  These packages need to be imported from (in the NAMESPACE file)
  for when this namespace is loaded but not attached.
* checking S3 generic/method consistency ... OK
* checking replacement functions ... OK
* checking foreign function calls ... OK
* checking R code for possible problems ... NOTE
.betaRegression : inv.link: no visible global function definition for
  ‘pnorm’
.betaRegression : beta.regr: no visible global function definition for
  ‘as.formula’
.categorialColors: no visible global function definition for ‘colors’
.estLocCor: no visible global function definition for ‘combn’
.logisticRegression : inv.link: no visible global function definition
  for ‘pnorm’
.logisticRegression : logistic.regr: no visible global function
  definition for ‘lm’
.logisticRegression : logistic.regr: no visible global function
  definition for ‘as.formula’
.makeVariogram: no visible global function definition for ‘qnorm’
.plotBindingSites: no visible global function definition for
  ‘txtProgressBar’
.plotBindingSites: no visible global function definition for
  ‘setTxtProgressBar’
.plotBindingSites : <anonymous>: no visible global function definition
  for ‘ksmooth’
.plotBindingSites: no visible global function definition for ‘rainbow’
.plotBindingSites: no visible global function definition for ‘lines’
.plotBindingSites: no visible global function definition for ‘rgb’
.plotBindingSites: no visible global function definition for ‘col2rgb’
.plotMeth: no visible global function definition for ‘col2rgb’
.plotMeth: no visible global function definition for ‘rgb’
.plotMeth: no visible global function definition for ‘lines’
.plotMeth: no visible global function definition for ‘legend’
.plotMethMap: no visible global function definition for
  ‘colorRampPalette’
.plotMethMap: no visible binding for global variable ‘heatmap’
.plotSmoothMeth: no visible global function definition for ‘rainbow’
.plotSmoothMeth: no visible global function definition for ‘lines’
.predictMeth: no visible global function definition for
  ‘txtProgressBar’
.predictMeth: no visible global function definition for
  ‘setTxtProgressBar’
.testClusters: no visible global function definition for ‘pnorm’
.trimClusters : integrand: no visible global function definition for
  ‘pnorm’
.trimClusters : integrand: no visible global function definition for
  ‘qnorm’
.trimClusters : integrand: no visible global function definition for
  ‘dnorm’
.trimClusters: no visible global function definition for ‘integrate’
.trimClusters: no visible global function definition for ‘pnorm’
.trimClusters: no visible global function definition for ‘qnorm’
.variogram: no visible global function definition for ‘dist’
.variogram: no visible global function definition for ‘txtProgressBar’
.variogram: no visible global function definition for
  ‘setTxtProgressBar’
.writeBED_BSraw: no visible global function definition for ‘colorRamp’
.writeBED_BSraw: no visible global function definition for ‘rgb’
.writeBED_BSrel: no visible global function definition for ‘colorRamp’
.writeBED_BSrel: no visible global function definition for ‘rgb’
betaRegression,formula-character-BSrel-numeric : inv.link: no visible
  global function definition for ‘pnorm’
betaRegression,formula-character-BSrel-numeric : beta.regr: no visible
  global function definition for ‘as.formula’
estLocCor,list: no visible global function definition for ‘combn’
logisticRegression,formula-character-BSrel-numeric : inv.link: no
  visible global function definition for ‘pnorm’
logisticRegression,formula-character-BSrel-numeric : logistic.regr: no
  visible global function definition for ‘lm’
logisticRegression,formula-character-BSrel-numeric : logistic.regr: no
  visible global function definition for ‘as.formula’
makeVariogram,data.frame-logical-numeric-numeric: no visible global
  function definition for ‘qnorm’
plotMethMap,BSrel-GRanges-factor-logical: no visible global function
  definition for ‘colorRampPalette’
plotMethMap,BSrel-GRanges-factor-logical: no visible binding for global
  variable ‘heatmap’
plotMethMap,BSrel-GRanges-factor-missing: no visible global function
  definition for ‘colorRampPalette’
plotMethMap,BSrel-GRanges-factor-missing: no visible binding for global
  variable ‘heatmap’
plotMethMap,BSrel-GRanges-missing-logical: no visible global function
  definition for ‘colorRampPalette’
plotMethMap,BSrel-GRanges-missing-logical: no visible binding for
  global variable ‘heatmap’
plotMethMap,BSrel-GRanges-missing-missing: no visible global function
  definition for ‘colorRampPalette’
plotMethMap,BSrel-GRanges-missing-missing: no visible binding for
  global variable ‘heatmap’
predictMeth,BSraw-numeric-numeric-numeric: no visible global function
  definition for ‘txtProgressBar’
predictMeth,BSraw-numeric-numeric-numeric: no visible global function
  definition for ‘setTxtProgressBar’
testClusters,list-numeric: no visible global function definition for
  ‘pnorm’
trimClusters,list-numeric : integrand: no visible global function
  definition for ‘pnorm’
trimClusters,list-numeric : integrand: no visible global function
  definition for ‘qnorm’
trimClusters,list-numeric : integrand: no visible global function
  definition for ‘dnorm’
trimClusters,list-numeric: no visible global function definition for
  ‘integrate’
trimClusters,list-numeric: no visible global function definition for
  ‘pnorm’
trimClusters,list-numeric: no visible global function definition for
  ‘qnorm’
writeBED,BSraw-character-character: no visible global function
  definition for ‘colorRamp’
writeBED,BSraw-character-character: no visible global function
  definition for ‘rgb’
writeBED,BSrel-character-character: no visible global function
  definition for ‘colorRamp’
writeBED,BSrel-character-character: no visible global function
  definition for ‘rgb’
Undefined global functions or variables:
  as.formula col2rgb colorRamp colorRampPalette colors combn dist dnorm
  heatmap integrate ksmooth legend lines lm pnorm qnorm rainbow rgb
  setTxtProgressBar txtProgressBar
Consider adding
  importFrom("grDevices", "col2rgb", "colorRamp", "colorRampPalette",
             "colors", "rainbow", "rgb")
  importFrom("graphics", "legend", "lines")
  importFrom("stats", "as.formula", "dist", "dnorm", "heatmap",
             "integrate", "ksmooth", "lm", "pnorm", "qnorm")
  importFrom("utils", "combn", "setTxtProgressBar", "txtProgressBar")
to your NAMESPACE file.
* checking Rd files ... NOTE
checkRd: (-1) DMRs.Rd:16: Lost braces
    16 | DMRs: \code{median.p}, code{median.meth.group1},
       |                            ^
checkRd: (-1) DMRs.Rd:17: Lost braces
    17 | code{median.meth.group2}, \code{median.meth.diff}.
       |     ^
* checking Rd metadata ... OK
* checking Rd cross-references ... NOTE
Found the following Rd file(s) with Rd \link{} targets missing package
anchors:
  BSraw-class.Rd: RangedSummarizedExperiment-class,
    RangedSummarizedExperiment
  BSrel-class.Rd: RangedSummarizedExperiment-class,
    RangedSummarizedExperiment
  betaRegression.Rd: betareg
  globalTest.Rd: gt, GRanges-class
Please provide package anchors for all Rd \link{} targets not in the
package itself and the base packages.
* checking for missing documentation entries ... OK
* checking for code/documentation mismatches ... OK
* checking Rd \usage sections ... OK
* checking Rd contents ... OK
* checking for unstated dependencies in examples ... OK
* checking contents of ‘data’ directory ... OK
* checking data for non-ASCII characters ... OK
* checking data for ASCII and uncompressed saves ... OK
* checking sizes of PDF files under ‘inst/doc’ ... OK
* checking files in ‘vignettes’ ... OK
* checking examples ... OK
Examples with CPU (user + system) or elapsed time > 5s
                 user system elapsed
betaRegression 17.346  0.349  17.727
globalTest     13.260  0.040  13.326
* checking for unstated dependencies in vignettes ... OK
* checking package vignettes ... OK
* checking running R code from vignettes ... SKIPPED
* checking re-building of vignette outputs ... SKIPPED
* checking PDF version of manual ... OK
* DONE

Status: 5 NOTEs
See
  ‘/Users/biocbuild/bbs-3.23-bioc/meat/BiSeq.Rcheck/00check.log’
for details.


Installation output

BiSeq.Rcheck/00install.out

##############################################################################
##############################################################################
###
### Running command:
###
###   /Library/Frameworks/R.framework/Resources/bin/R CMD INSTALL BiSeq
###
##############################################################################
##############################################################################


* installing to library ‘/Library/Frameworks/R.framework/Versions/4.6-x86_64/Resources/library’
* installing *source* package ‘BiSeq’ ...
** this is package ‘BiSeq’ version ‘1.51.0’
** using staged installation
** R
** data
** inst
** byte-compile and prepare package for lazy loading
** help
*** installing help indices
** building package indices
** installing vignettes
** testing if installed package can be loaded from temporary location
** testing if installed package can be loaded from final location
** testing if installed package keeps a record of temporary installation path
* DONE (BiSeq)

Tests output


Example timings

BiSeq.Rcheck/BiSeq-Ex.timings

nameusersystemelapsed
BSraw-class0.2220.0070.230
BSrel-class0.1420.0050.147
DMRs0.7360.0050.741
annotateGRanges0.1520.0070.158
betaRegression17.346 0.34917.727
betaResults0.0060.0040.009
betaResultsNull0.0040.0030.007
binomLikelihoodSmooth0.0030.0000.003
clusterSites0.4400.0050.445
clusterSitesToGR0.5370.0070.545
compareTwoSamples3.2820.0383.327
covBoxplots0.0720.0080.081
covStatistics0.0430.0050.047
estLocCor3.9990.5134.529
filterByCov0.1250.0040.131
filterBySharedRegions0.1370.0040.141
findDMRs0.4160.0450.464
globalTest13.260 0.04013.326
limitCov0.7350.1700.911
logisticRegression1.6050.0151.624
makeVariogram3.7100.2974.023
plotBindingSites1.5210.0561.579
plotMeth0.2230.0080.231
plotMethMap0.2210.0120.235
plotSmoothMeth0.1690.0080.178
predictMeth1.4290.0121.443
predictedMeth0.0110.0020.013
promoters0.0350.0030.039
rawToRel0.0790.0040.083
readBismark0.0920.0020.095
rrbs0.0330.0040.037
smoothVariogram0.0390.0070.046
summarizeRegions3.4470.0153.469
testClusters0.1140.0130.127
trimClusters0.2990.0100.309
vario0.0020.0040.006
writeBED0.1970.0060.204