Back to Build/check report for BioC 3.23:   simplified   long
A[B]CDEFGHIJKLMNOPQRSTUVWXYZ

This page was generated on 2025-11-08 11:32 -0500 (Sat, 08 Nov 2025).

HostnameOSArch (*)R versionInstalled pkgs
nebbiolo1Linux (Ubuntu 24.04.3 LTS)x86_64R Under development (unstable) (2025-10-20 r88955) -- "Unsuffered Consequences" 4821
Click on any hostname to see more info about the system (e.g. compilers)      (*) as reported by 'uname -p', except on Windows and Mac OS X

Package 147/2323HostnameOS / ArchINSTALLBUILDCHECKBUILD BIN
BatchQC 2.7.0  (landing page)
Jessica Anderson
Snapshot Date: 2025-11-07 13:40 -0500 (Fri, 07 Nov 2025)
git_url: https://git.bioconductor.org/packages/BatchQC
git_branch: devel
git_last_commit: bfa8664
git_last_commit_date: 2025-10-29 10:31:36 -0500 (Wed, 29 Oct 2025)
nebbiolo1Linux (Ubuntu 24.04.3 LTS) / x86_64  OK    OK    OK  UNNEEDED, same version is already published


CHECK results for BatchQC on nebbiolo1

To the developers/maintainers of the BatchQC package:
- Allow up to 24 hours (and sometimes 48 hours) for your latest push to git@git.bioconductor.org:packages/BatchQC.git to reflect on this report. See Troubleshooting Build Report for more information.
- Use the following Renviron settings to reproduce errors and warnings.
- If 'R CMD check' started to fail recently on the Linux builder(s) over a missing dependency, add the missing dependency to 'Suggests:' in your DESCRIPTION file. See Renviron.bioc for more information.

raw results


Summary

Package: BatchQC
Version: 2.7.0
Command: /home/biocbuild/bbs-3.23-bioc/R/bin/R CMD check --install=check:BatchQC.install-out.txt --library=/home/biocbuild/bbs-3.23-bioc/R/site-library --timings BatchQC_2.7.0.tar.gz
StartedAt: 2025-11-07 21:12:27 -0500 (Fri, 07 Nov 2025)
EndedAt: 2025-11-07 21:26:40 -0500 (Fri, 07 Nov 2025)
EllapsedTime: 852.4 seconds
RetCode: 0
Status:   OK  
CheckDir: BatchQC.Rcheck
Warnings: 0

Command output

##############################################################################
##############################################################################
###
### Running command:
###
###   /home/biocbuild/bbs-3.23-bioc/R/bin/R CMD check --install=check:BatchQC.install-out.txt --library=/home/biocbuild/bbs-3.23-bioc/R/site-library --timings BatchQC_2.7.0.tar.gz
###
##############################################################################
##############################################################################


* using log directory ‘/home/biocbuild/bbs-3.23-bioc/meat/BatchQC.Rcheck’
* using R Under development (unstable) (2025-10-20 r88955)
* using platform: x86_64-pc-linux-gnu
* R was compiled by
    gcc (Ubuntu 13.3.0-6ubuntu2~24.04) 13.3.0
    GNU Fortran (Ubuntu 13.3.0-6ubuntu2~24.04) 13.3.0
* running under: Ubuntu 24.04.3 LTS
* using session charset: UTF-8
* checking for file ‘BatchQC/DESCRIPTION’ ... OK
* checking extension type ... Package
* this is package ‘BatchQC’ version ‘2.7.0’
* package encoding: UTF-8
* checking package namespace information ... OK
* checking package dependencies ... INFO
Imports includes 27 non-default packages.
Importing from so many packages makes the package vulnerable to any of
them becoming unavailable.  Move as many as possible to Suggests and
use conditionally.
* checking if this is a source package ... OK
* checking if there is a namespace ... OK
* checking for hidden files and directories ... OK
* checking for portable file names ... OK
* checking for sufficient/correct file permissions ... OK
* checking whether package ‘BatchQC’ can be installed ... OK
* checking installed package size ... OK
* checking package directory ... OK
* checking ‘build’ directory ... OK
* checking DESCRIPTION meta-information ... OK
* checking top-level files ... OK
* checking for left-over files ... OK
* checking index information ... OK
* checking package subdirectories ... OK
* checking code files for non-ASCII characters ... OK
* checking R files for syntax errors ... OK
* checking whether the package can be loaded ... OK
* checking whether the package can be loaded with stated dependencies ... OK
* checking whether the package can be unloaded cleanly ... OK
* checking whether the namespace can be loaded with stated dependencies ... OK
* checking whether the namespace can be unloaded cleanly ... OK
* checking loading without being on the library search path ... OK
* checking dependencies in R code ... OK
* checking S3 generic/method consistency ... OK
* checking replacement functions ... OK
* checking foreign function calls ... OK
* checking R code for possible problems ... OK
* checking Rd files ... OK
* checking Rd metadata ... OK
* checking Rd cross-references ... OK
* checking for missing documentation entries ... OK
* checking for code/documentation mismatches ... OK
* checking Rd \usage sections ... OK
* checking Rd contents ... OK
* checking for unstated dependencies in examples ... OK
* checking contents of ‘data’ directory ... OK
* checking data for non-ASCII characters ... OK
* checking data for ASCII and uncompressed saves ... OK
* checking files in ‘vignettes’ ... OK
* checking examples ... OK
Examples with CPU (user + system) or elapsed time > 5s
                 user system elapsed
compute_aic    37.159  0.039  37.200
volcano_plot   28.387  0.595  28.995
tb_data_upload 21.004  2.440  24.496
DE_analyze     21.497  0.285  21.812
pval_plotter   18.561  0.143  18.705
pval_summary   17.939  0.116  18.055
batch_correct  13.640  0.015  13.656
PCA_plotter    12.137  0.021  12.165
compute_lambda  5.064  0.003   5.067
* checking for unstated dependencies in ‘tests’ ... OK
* checking tests ...
  Running ‘spelling.R’
  Running ‘testthat.R’
 OK
* checking for unstated dependencies in vignettes ... OK
* checking package vignettes ... OK
* checking re-building of vignette outputs ... OK
* checking PDF version of manual ... OK
* DONE

Status: OK


Installation output

BatchQC.Rcheck/00install.out

##############################################################################
##############################################################################
###
### Running command:
###
###   /home/biocbuild/bbs-3.23-bioc/R/bin/R CMD INSTALL BatchQC
###
##############################################################################
##############################################################################


* installing to library ‘/home/biocbuild/bbs-3.23-bioc/R/site-library’
* installing *source* package ‘BatchQC’ ...
** this is package ‘BatchQC’ version ‘2.7.0’
** using staged installation
** R
** data
** inst
** byte-compile and prepare package for lazy loading
** help
*** installing help indices
** building package indices
** installing vignettes
** testing if installed package can be loaded from temporary location
** testing if installed package can be loaded from final location
** testing if installed package keeps a record of temporary installation path
* DONE (BatchQC)

Tests output

BatchQC.Rcheck/tests/spelling.Rout


R Under development (unstable) (2025-10-20 r88955) -- "Unsuffered Consequences"
Copyright (C) 2025 The R Foundation for Statistical Computing
Platform: x86_64-pc-linux-gnu

R is free software and comes with ABSOLUTELY NO WARRANTY.
You are welcome to redistribute it under certain conditions.
Type 'license()' or 'licence()' for distribution details.

R is a collaborative project with many contributors.
Type 'contributors()' for more information and
'citation()' on how to cite R or R packages in publications.

Type 'demo()' for some demos, 'help()' for on-line help, or
'help.start()' for an HTML browser interface to help.
Type 'q()' to quit R.

> if (requireNamespace('spelling', quietly = TRUE))
+   spelling::spell_check_test(vignettes = TRUE, error = FALSE,
+                              skip_on_cran = TRUE)
All Done!
> 
> proc.time()
   user  system elapsed 
  0.147   0.035   0.170 

BatchQC.Rcheck/tests/testthat.Rout


R Under development (unstable) (2025-10-20 r88955) -- "Unsuffered Consequences"
Copyright (C) 2025 The R Foundation for Statistical Computing
Platform: x86_64-pc-linux-gnu

R is free software and comes with ABSOLUTELY NO WARRANTY.
You are welcome to redistribute it under certain conditions.
Type 'license()' or 'licence()' for distribution details.

R is a collaborative project with many contributors.
Type 'contributors()' for more information and
'citation()' on how to cite R or R packages in publications.

Type 'demo()' for some demos, 'help()' for on-line help, or
'help.start()' for an HTML browser interface to help.
Type 'q()' to quit R.

> library(testthat)
> library(BatchQC)
> 
> test_check("BatchQC")
[ FAIL 0 | WARN 0 | SKIP 1 | PASS 0 ]

══ Skipped tests (1) ═══════════════════════════════════════════════════════════
• On CRAN (1): 'test-lintr.R:3:5'

[ FAIL 0 | WARN 0 | SKIP 1 | PASS 0 ]
> 
> proc.time()
   user  system elapsed 
 11.852   0.636  12.479 

Example timings

BatchQC.Rcheck/BatchQC-Ex.timings

nameusersystemelapsed
BatchQC000
DE_analyze21.497 0.28521.812
EV_plotter1.1400.0081.147
EV_table0.8680.0180.887
PCA_plotter12.137 0.02112.165
batch_correct13.640 0.01513.656
batch_design0.4900.0060.496
batchqc_explained_variation0.9000.1061.006
bisect0.0040.0000.005
bladder_data_upload0.2690.0140.283
color_palette0.1770.0060.182
compute_aic37.159 0.03937.200
compute_lambda5.0640.0035.067
confound_metrics0.4930.0090.502
cor_props0.4810.0040.486
covariates_not_confounded0.4900.0050.496
cramers_v0.5390.0050.544
dendrogram_alpha_numeric_check0.4410.0060.447
dendrogram_color_palette0.6740.0040.677
dendrogram_plotter1.8050.0341.848
goodness_of_fit_DESeq24.0920.0124.104
heatmap_num_to_char_converter0.3860.0080.394
heatmap_plotter1.2180.0131.232
is_design_balanced0.5070.0070.514
kBET2.5910.0132.603
normalize_SE0.6860.0080.694
plot_kBET2.8910.0072.899
process_dendrogram0.6790.0380.717
pval_plotter18.561 0.14318.705
pval_summary17.939 0.11618.055
ratio_plotter1.0420.0121.054
run_kBET2.7110.0052.717
run_lambda0.4440.0060.450
std_pearson_corr_coef0.4430.0070.449
summarized_experiment0.0130.0020.016
tb_data_upload21.004 2.44024.496
umap3.0720.1123.184
variation_ratios0.9660.0741.040
volcano_plot28.387 0.59528.995