| Back to Multiple platform build/check report for BioC 3.9 experimental data |
This page was generated on 2019-10-17 16:51:21 -0400 (Thu, 17 Oct 2019).
| Package 153/371 | Hostname | OS / Arch | INSTALL | BUILD | CHECK | BUILD BIN | ||||||
| hapmap500knsp 1.26.0 Benilton Carvalho
| malbec2 | Linux (Ubuntu 18.04.2 LTS) / x86_64 | OK | [ OK ] | OK |
| Package: hapmap500knsp |
| Version: 1.26.0 |
| Command: /home/biocbuild/bbs-3.9-bioc/R/bin/R CMD build --keep-empty-dirs --no-resave-data hapmap500knsp |
| StartedAt: 2019-10-17 11:31:13 -0400 (Thu, 17 Oct 2019) |
| EndedAt: 2019-10-17 11:33:36 -0400 (Thu, 17 Oct 2019) |
| EllapsedTime: 143.6 seconds |
| RetCode: 0 |
| Status: OK |
| PackageFile: hapmap500knsp_1.26.0.tar.gz |
| PackageFileSize: 80.39 MiB |
############################################################################## ############################################################################## ### ### Running command: ### ### /home/biocbuild/bbs-3.9-bioc/R/bin/R CMD build --keep-empty-dirs --no-resave-data hapmap500knsp ### ############################################################################## ############################################################################## * checking for file ‘hapmap500knsp/DESCRIPTION’ ... OK * preparing ‘hapmap500knsp’: * checking DESCRIPTION meta-information ... OK * checking for LF line-endings in source and make files and shell scripts * checking for empty or unneeded directories * building ‘hapmap500knsp_1.26.0.tar.gz’