| Back to Multiple platform build/check report for BioC 3.9 experimental data |
This page was generated on 2019-10-17 16:51:26 -0400 (Thu, 17 Oct 2019).
| Package 253/371 | Hostname | OS / Arch | INSTALL | BUILD | CHECK | BUILD BIN | ||||||
| PathNetData 1.20.0 Jason B. Smith
| malbec2 | Linux (Ubuntu 18.04.2 LTS) / x86_64 | OK | OK | [ OK ] |
| Package: PathNetData |
| Version: 1.20.0 |
| Command: /home/biocbuild/bbs-3.9-bioc/R/bin/R CMD check --install=check:PathNetData.install-out.txt --library=/home/biocbuild/bbs-3.9-bioc/R/library --no-vignettes --timings PathNetData_1.20.0.tar.gz |
| StartedAt: 2019-10-17 13:36:33 -0400 (Thu, 17 Oct 2019) |
| EndedAt: 2019-10-17 13:36:46 -0400 (Thu, 17 Oct 2019) |
| EllapsedTime: 14.0 seconds |
| RetCode: 0 |
| Status: OK |
| CheckDir: PathNetData.Rcheck |
| Warnings: 0 |
##############################################################################
##############################################################################
###
### Running command:
###
### /home/biocbuild/bbs-3.9-bioc/R/bin/R CMD check --install=check:PathNetData.install-out.txt --library=/home/biocbuild/bbs-3.9-bioc/R/library --no-vignettes --timings PathNetData_1.20.0.tar.gz
###
##############################################################################
##############################################################################
* using log directory ‘/home/biocbuild/bbs-3.9-data-experiment/meat/PathNetData.Rcheck’
* using R version 3.6.1 (2019-07-05)
* using platform: x86_64-pc-linux-gnu (64-bit)
* using session charset: UTF-8
* using option ‘--no-vignettes’
* checking for file ‘PathNetData/DESCRIPTION’ ... OK
* this is package ‘PathNetData’ version ‘1.20.0’
* checking package namespace information ... OK
* checking package dependencies ... OK
* checking if this is a source package ... OK
* checking if there is a namespace ... OK
* checking for hidden files and directories ... OK
* checking for portable file names ... OK
* checking for sufficient/correct file permissions ... OK
* checking whether package ‘PathNetData’ can be installed ... OK
* checking installed package size ... NOTE
installed size is 17.6Mb
sub-directories of 1Mb or more:
data 1.4Mb
extdata 16.2Mb
* checking package directory ... OK
* checking DESCRIPTION meta-information ... OK
* checking top-level files ... OK
* checking for left-over files ... OK
* checking index information ... OK
* checking package subdirectories ... OK
* checking whether the package can be loaded ... OK
* checking whether the package can be loaded with stated dependencies ... OK
* checking whether the package can be unloaded cleanly ... OK
* checking whether the namespace can be loaded with stated dependencies ... OK
* checking whether the namespace can be unloaded cleanly ... OK
* checking Rd files ... OK
* checking Rd metadata ... OK
* checking Rd cross-references ... OK
* checking for missing documentation entries ... OK
* checking for code/documentation mismatches ... OK
* checking Rd \usage sections ... OK
* checking Rd contents ... OK
* checking for unstated dependencies in examples ... OK
* checking contents of ‘data’ directory ... OK
* checking data for non-ASCII characters ... OK
* checking data for ASCII and uncompressed saves ... OK
* checking examples ... OK
* checking PDF version of manual ... OK
* DONE
Status: 1 NOTE
See
‘/home/biocbuild/bbs-3.9-data-experiment/meat/PathNetData.Rcheck/00check.log’
for details.
PathNetData.Rcheck/00install.out
############################################################################## ############################################################################## ### ### Running command: ### ### /home/biocbuild/bbs-3.9-bioc/R/bin/R CMD INSTALL PathNetData ### ############################################################################## ############################################################################## * installing to library ‘/home/biocbuild/bbs-3.9-bioc/R/library’ * installing *source* package ‘PathNetData’ ... ** using staged installation ** data ** inst ** help *** installing help indices ** building package indices ** testing if installed package can be loaded from temporary location ** testing if installed package can be loaded from final location ** testing if installed package keeps a record of temporary installation path * DONE (PathNetData)
PathNetData.Rcheck/PathNetData-Ex.timings
| name | user | system | elapsed | |
| A | 0.137 | 0.000 | 0.137 | |
| brain_regions | 0.01 | 0.00 | 0.01 | |
| disease_progression | 0.004 | 0.000 | 0.004 | |
| pathway | 0.006 | 0.000 | 0.006 | |