| Back to Multiple platform build/check report for BioC 3.9 experimental data |
This page was generated on 2019-10-17 16:51:33 -0400 (Thu, 17 Oct 2019).
| Package 252/371 | Hostname | OS / Arch | INSTALL | BUILD | CHECK | BUILD BIN | ||||||
| PasillaTranscriptExpr 1.12.0 Malgorzata Nowicka
| malbec2 | Linux (Ubuntu 18.04.2 LTS) / x86_64 | OK | [ OK ] | OK |
| Package: PasillaTranscriptExpr |
| Version: 1.12.0 |
| Command: /home/biocbuild/bbs-3.9-bioc/R/bin/R CMD build --keep-empty-dirs --no-resave-data PasillaTranscriptExpr |
| StartedAt: 2019-10-17 12:09:46 -0400 (Thu, 17 Oct 2019) |
| EndedAt: 2019-10-17 12:09:58 -0400 (Thu, 17 Oct 2019) |
| EllapsedTime: 11.6 seconds |
| RetCode: 0 |
| Status: OK |
| PackageFile: PasillaTranscriptExpr_1.12.0.tar.gz |
| PackageFileSize: 777.2 KiB |
############################################################################## ############################################################################## ### ### Running command: ### ### /home/biocbuild/bbs-3.9-bioc/R/bin/R CMD build --keep-empty-dirs --no-resave-data PasillaTranscriptExpr ### ############################################################################## ############################################################################## * checking for file ‘PasillaTranscriptExpr/DESCRIPTION’ ... OK * preparing ‘PasillaTranscriptExpr’: * checking DESCRIPTION meta-information ... OK * installing the package to build vignettes * creating vignettes ... OK * checking for LF line-endings in source and make files and shell scripts * checking for empty or unneeded directories * building ‘PasillaTranscriptExpr_1.12.0.tar.gz’