| Back to Multiple platform build/check report for BioC 3.9 experimental data |
This page was generated on 2019-10-17 16:51:29 -0400 (Thu, 17 Oct 2019).
| Package 238/371 | Hostname | OS / Arch | INSTALL | BUILD | CHECK | BUILD BIN | ||||||
| MUGAExampleData 1.4.0 Daniel Gatti
| malbec2 | Linux (Ubuntu 18.04.2 LTS) / x86_64 | OK | OK | [ OK ] |
| Package: MUGAExampleData |
| Version: 1.4.0 |
| Command: /home/biocbuild/bbs-3.9-bioc/R/bin/R CMD check --install=check:MUGAExampleData.install-out.txt --library=/home/biocbuild/bbs-3.9-bioc/R/library --no-vignettes --timings MUGAExampleData_1.4.0.tar.gz |
| StartedAt: 2019-10-17 13:33:05 -0400 (Thu, 17 Oct 2019) |
| EndedAt: 2019-10-17 13:33:41 -0400 (Thu, 17 Oct 2019) |
| EllapsedTime: 36.0 seconds |
| RetCode: 0 |
| Status: OK |
| CheckDir: MUGAExampleData.Rcheck |
| Warnings: 0 |
##############################################################################
##############################################################################
###
### Running command:
###
### /home/biocbuild/bbs-3.9-bioc/R/bin/R CMD check --install=check:MUGAExampleData.install-out.txt --library=/home/biocbuild/bbs-3.9-bioc/R/library --no-vignettes --timings MUGAExampleData_1.4.0.tar.gz
###
##############################################################################
##############################################################################
* using log directory ‘/home/biocbuild/bbs-3.9-data-experiment/meat/MUGAExampleData.Rcheck’
* using R version 3.6.1 (2019-07-05)
* using platform: x86_64-pc-linux-gnu (64-bit)
* using session charset: UTF-8
* using option ‘--no-vignettes’
* checking for file ‘MUGAExampleData/DESCRIPTION’ ... OK
* checking extension type ... Package
* this is package ‘MUGAExampleData’ version ‘1.4.0’
* checking package namespace information ... OK
* checking package dependencies ... OK
* checking if this is a source package ... OK
* checking if there is a namespace ... OK
* checking for hidden files and directories ... OK
* checking for portable file names ... OK
* checking for sufficient/correct file permissions ... OK
* checking whether package ‘MUGAExampleData’ can be installed ... OK
* checking installed package size ... NOTE
installed size is 88.6Mb
sub-directories of 1Mb or more:
data 88.5Mb
* checking package directory ... OK
* checking ‘build’ directory ... OK
* checking DESCRIPTION meta-information ... NOTE
Malformed Title field: should not end in a period.
* checking top-level files ... OK
* checking for left-over files ... OK
* checking index information ... OK
* checking package subdirectories ... OK
* checking whether the package can be loaded ... OK
* checking whether the package can be loaded with stated dependencies ... OK
* checking whether the package can be unloaded cleanly ... OK
* checking whether the namespace can be loaded with stated dependencies ... OK
* checking whether the namespace can be unloaded cleanly ... OK
* checking Rd files ... OK
* checking Rd metadata ... OK
* checking Rd cross-references ... OK
* checking for missing documentation entries ... OK
* checking for code/documentation mismatches ... OK
* checking Rd \usage sections ... OK
* checking Rd contents ... OK
* checking for unstated dependencies in examples ... OK
* checking contents of ‘data’ directory ... OK
* checking data for non-ASCII characters ... OK
* checking data for ASCII and uncompressed saves ... OK
* checking files in ‘vignettes’ ... OK
* checking examples ... OK
* checking for unstated dependencies in vignettes ... OK
* checking package vignettes in ‘inst/doc’ ... OK
* checking running R code from vignettes ... SKIPPED
* checking re-building of vignette outputs ... SKIPPED
* checking PDF version of manual ... OK
* DONE
Status: 2 NOTEs
See
‘/home/biocbuild/bbs-3.9-data-experiment/meat/MUGAExampleData.Rcheck/00check.log’
for details.
MUGAExampleData.Rcheck/00install.out
############################################################################## ############################################################################## ### ### Running command: ### ### /home/biocbuild/bbs-3.9-bioc/R/bin/R CMD INSTALL MUGAExampleData ### ############################################################################## ############################################################################## * installing to library ‘/home/biocbuild/bbs-3.9-bioc/R/library’ * installing *source* package ‘MUGAExampleData’ ... ** using staged installation ** data ** help *** installing help indices ** building package indices ** installing vignettes ** testing if installed package can be loaded from temporary location ** testing if installed package can be loaded from final location ** testing if installed package keeps a record of temporary installation path * DONE (MUGAExampleData)
MUGAExampleData.Rcheck/MUGAExampleData-Ex.timings
| name | user | system | elapsed | |
| FinalReport1 | 2.281 | 0.076 | 2.357 | |
| FinalReport2 | 1.263 | 0.016 | 1.279 | |
| MUGAExampleData-package | 2.376 | 0.032 | 2.409 | |
| Samples1 | 0.000 | 0.001 | 0.002 | |
| Samples2 | 0.000 | 0.001 | 0.001 | |
| call.rate.batch | 0.000 | 0.001 | 0.001 | |
| geno | 0.628 | 0.012 | 0.639 | |
| model.probs | 0.737 | 0.052 | 0.789 | |
| pheno | 0.005 | 0.000 | 0.004 | |
| x | 0.070 | 0.004 | 0.073 | |
| y | 0.076 | 0.000 | 0.077 | |