| Back to Multiple platform build/check report for BioC 3.9 experimental data |
This page was generated on 2019-10-17 16:51:35 -0400 (Thu, 17 Oct 2019).
| Package 235/371 | Hostname | OS / Arch | INSTALL | BUILD | CHECK | BUILD BIN | ||||||
| MSstatsBioData 1.6.0 Meena Choi
| malbec2 | Linux (Ubuntu 18.04.2 LTS) / x86_64 | OK | OK | [ OK ] |
| Package: MSstatsBioData |
| Version: 1.6.0 |
| Command: /home/biocbuild/bbs-3.9-bioc/R/bin/R CMD check --install=check:MSstatsBioData.install-out.txt --library=/home/biocbuild/bbs-3.9-bioc/R/library --no-vignettes --timings MSstatsBioData_1.6.0.tar.gz |
| StartedAt: 2019-10-17 13:32:37 -0400 (Thu, 17 Oct 2019) |
| EndedAt: 2019-10-17 13:35:02 -0400 (Thu, 17 Oct 2019) |
| EllapsedTime: 145.0 seconds |
| RetCode: 0 |
| Status: OK |
| CheckDir: MSstatsBioData.Rcheck |
| Warnings: 0 |
##############################################################################
##############################################################################
###
### Running command:
###
### /home/biocbuild/bbs-3.9-bioc/R/bin/R CMD check --install=check:MSstatsBioData.install-out.txt --library=/home/biocbuild/bbs-3.9-bioc/R/library --no-vignettes --timings MSstatsBioData_1.6.0.tar.gz
###
##############################################################################
##############################################################################
* using log directory ‘/home/biocbuild/bbs-3.9-data-experiment/meat/MSstatsBioData.Rcheck’
* using R version 3.6.1 (2019-07-05)
* using platform: x86_64-pc-linux-gnu (64-bit)
* using session charset: UTF-8
* using option ‘--no-vignettes’
* checking for file ‘MSstatsBioData/DESCRIPTION’ ... OK
* checking extension type ... Package
* this is package ‘MSstatsBioData’ version ‘1.6.0’
* package encoding: UTF-8
* checking package namespace information ... OK
* checking package dependencies ... OK
* checking if this is a source package ... OK
* checking if there is a namespace ... OK
* checking for hidden files and directories ... OK
* checking for portable file names ... OK
* checking for sufficient/correct file permissions ... OK
* checking whether package ‘MSstatsBioData’ can be installed ... OK
* checking installed package size ... NOTE
installed size is 5.1Mb
sub-directories of 1Mb or more:
data 5.0Mb
* checking package directory ... OK
* checking ‘build’ directory ... OK
* checking DESCRIPTION meta-information ... OK
* checking top-level files ... OK
* checking for left-over files ... OK
* checking index information ... OK
* checking package subdirectories ... OK
* checking whether the package can be loaded ... OK
* checking whether the package can be loaded with stated dependencies ... OK
* checking whether the package can be unloaded cleanly ... OK
* checking whether the namespace can be loaded with stated dependencies ... OK
* checking whether the namespace can be unloaded cleanly ... OK
* checking Rd files ... OK
* checking Rd metadata ... OK
* checking Rd cross-references ... OK
* checking for missing documentation entries ... OK
* checking for code/documentation mismatches ... OK
* checking Rd \usage sections ... OK
* checking Rd contents ... OK
* checking for unstated dependencies in examples ... OK
* checking contents of ‘data’ directory ... OK
* checking data for non-ASCII characters ... OK
* checking data for ASCII and uncompressed saves ... OK
* checking files in ‘vignettes’ ... OK
* checking examples ... OK
Examples with CPU or elapsed time > 5s
user system elapsed
SRM_crc_validation 62.349 0.000 62.757
DDA_cardio 30.762 0.279 32.040
SRM_crc_training 17.932 0.005 17.913
SRM_mpm_validation 7.534 0.010 7.498
SRM_mpm_training 6.723 0.000 6.726
* checking for unstated dependencies in vignettes ... OK
* checking package vignettes in ‘inst/doc’ ... OK
* checking running R code from vignettes ... SKIPPED
* checking re-building of vignette outputs ... SKIPPED
* checking PDF version of manual ... OK
* DONE
Status: 1 NOTE
See
‘/home/biocbuild/bbs-3.9-data-experiment/meat/MSstatsBioData.Rcheck/00check.log’
for details.
MSstatsBioData.Rcheck/00install.out
############################################################################## ############################################################################## ### ### Running command: ### ### /home/biocbuild/bbs-3.9-bioc/R/bin/R CMD INSTALL MSstatsBioData ### ############################################################################## ############################################################################## * installing to library ‘/home/biocbuild/bbs-3.9-bioc/R/library’ * installing *source* package ‘MSstatsBioData’ ... ** using staged installation ** data *** moving datasets to lazyload DB ** inst ** help *** installing help indices ** building package indices ** installing vignettes ** testing if installed package can be loaded from temporary location ** testing if installed package can be loaded from final location ** testing if installed package keeps a record of temporary installation path * DONE (MSstatsBioData)
MSstatsBioData.Rcheck/MSstatsBioData-Ex.timings
| name | user | system | elapsed | |
| DDA_cardio | 30.762 | 0.279 | 32.040 | |
| SRM_crc_training | 17.932 | 0.005 | 17.913 | |
| SRM_crc_validation | 62.349 | 0.000 | 62.757 | |
| SRM_mpm_training | 6.723 | 0.000 | 6.726 | |
| SRM_mpm_validation | 7.534 | 0.010 | 7.498 | |
| SRM_ovarian | 3.523 | 0.012 | 3.511 | |
| SRM_yeast | 4.001 | 0.008 | 3.908 | |