| Back to Multiple platform build/check report for BioC 3.8 experimental data |
This page was generated on 2019-04-16 15:26:17 -0400 (Tue, 16 Apr 2019).
| Package 306/360 | Hostname | OS / Arch | INSTALL | BUILD | CHECK | BUILD BIN | ||||||
| scRNAseq 1.8.0 Davide Risso
| malbec1 | Linux (Ubuntu 16.04.6 LTS) / x86_64 | OK | [ OK ] | OK |
| Package: scRNAseq |
| Version: 1.8.0 |
| Command: /home/biocbuild/bbs-3.8-bioc/R/bin/R CMD build --keep-empty-dirs --no-resave-data scRNAseq |
| StartedAt: 2019-04-16 12:48:08 -0400 (Tue, 16 Apr 2019) |
| EndedAt: 2019-04-16 12:48:31 -0400 (Tue, 16 Apr 2019) |
| EllapsedTime: 23.2 seconds |
| RetCode: 0 |
| Status: OK |
| PackageFile: scRNAseq_1.8.0.tar.gz |
| PackageFileSize: 50.84 MiB |
############################################################################## ############################################################################## ### ### Running command: ### ### /home/biocbuild/bbs-3.8-bioc/R/bin/R CMD build --keep-empty-dirs --no-resave-data scRNAseq ### ############################################################################## ############################################################################## * checking for file ‘scRNAseq/DESCRIPTION’ ... OK * preparing ‘scRNAseq’: * checking DESCRIPTION meta-information ... OK * installing the package to process help pages * saving partial Rd database * creating vignettes ... OK * checking for LF line-endings in source and make files and shell scripts * checking for empty or unneeded directories * looking to see if a ‘data/datalist’ file should be added * building ‘scRNAseq_1.8.0.tar.gz’