| Back to Multiple platform build/check report for BioC 3.8 experimental data | 
This page was generated on 2019-04-16 15:26:08 -0400 (Tue, 16 Apr 2019).
| Package 255/360 | Hostname | OS / Arch | INSTALL | BUILD | CHECK | BUILD BIN | ||||||
| prebsdata 1.18.0 Karolis Uziela 
  | malbec1 | Linux (Ubuntu 16.04.6 LTS) / x86_64 | OK | [ OK ] | OK | 
| Package: prebsdata | 
| Version: 1.18.0 | 
| Command: /home/biocbuild/bbs-3.8-bioc/R/bin/R CMD build --keep-empty-dirs --no-resave-data prebsdata | 
| StartedAt: 2019-04-16 12:27:03 -0400 (Tue, 16 Apr 2019) | 
| EndedAt: 2019-04-16 12:27:38 -0400 (Tue, 16 Apr 2019) | 
| EllapsedTime: 34.9 seconds | 
| RetCode: 0 | 
| Status: OK | 
| PackageFile: prebsdata_1.18.0.tar.gz | 
| PackageFileSize: 23.53 MiB | 
############################################################################## ############################################################################## ### ### Running command: ### ### /home/biocbuild/bbs-3.8-bioc/R/bin/R CMD build --keep-empty-dirs --no-resave-data prebsdata ### ############################################################################## ############################################################################## * checking for file ‘prebsdata/DESCRIPTION’ ... OK * preparing ‘prebsdata’: * checking DESCRIPTION meta-information ... OK * installing the package to build vignettes * creating vignettes ... OK * checking for LF line-endings in source and make files and shell scripts * checking for empty or unneeded directories * building ‘prebsdata_1.18.0.tar.gz’