| Back to Multiple platform build/check report for BioC 3.8 experimental data |
This page was generated on 2019-04-16 15:26:16 -0400 (Tue, 16 Apr 2019).
| Package 225/360 | Hostname | OS / Arch | INSTALL | BUILD | CHECK | BUILD BIN | ||||||
| msPurityData 1.10.0 Thomas N. Lawson
| malbec1 | Linux (Ubuntu 16.04.6 LTS) / x86_64 | OK | [ OK ] | OK |
| Package: msPurityData |
| Version: 1.10.0 |
| Command: /home/biocbuild/bbs-3.8-bioc/R/bin/R CMD build --keep-empty-dirs --no-resave-data msPurityData |
| StartedAt: 2019-04-16 12:46:28 -0400 (Tue, 16 Apr 2019) |
| EndedAt: 2019-04-16 12:48:26 -0400 (Tue, 16 Apr 2019) |
| EllapsedTime: 118.3 seconds |
| RetCode: 0 |
| Status: OK |
| PackageFile: msPurityData_1.10.0.tar.gz |
| PackageFileSize: 184.3 MiB |
############################################################################## ############################################################################## ### ### Running command: ### ### /home/biocbuild/bbs-3.8-bioc/R/bin/R CMD build --keep-empty-dirs --no-resave-data msPurityData ### ############################################################################## ############################################################################## * checking for file ‘msPurityData/DESCRIPTION’ ... OK * preparing ‘msPurityData’: * checking DESCRIPTION meta-information ... OK * checking for LF line-endings in source and make files and shell scripts * checking for empty or unneeded directories * building ‘msPurityData_1.10.0.tar.gz’