| Back to Multiple platform build/check report for BioC 3.8 experimental data |
This page was generated on 2019-04-16 15:26:00 -0400 (Tue, 16 Apr 2019).
| Package 191/360 | Hostname | OS / Arch | INSTALL | BUILD | CHECK | BUILD BIN | ||||||
| lungExpression 0.20.0 Robert Scharpf
| malbec1 | Linux (Ubuntu 16.04.6 LTS) / x86_64 | OK | OK | [ OK ] |
| Package: lungExpression |
| Version: 0.20.0 |
| Command: /home/biocbuild/bbs-3.8-bioc/R/bin/R CMD check --install=check:lungExpression.install-out.txt --library=/home/biocbuild/bbs-3.8-bioc/R/library --no-vignettes --timings lungExpression_0.20.0.tar.gz |
| StartedAt: 2019-04-16 13:50:55 -0400 (Tue, 16 Apr 2019) |
| EndedAt: 2019-04-16 13:51:10 -0400 (Tue, 16 Apr 2019) |
| EllapsedTime: 14.5 seconds |
| RetCode: 0 |
| Status: OK |
| CheckDir: lungExpression.Rcheck |
| Warnings: 0 |
##############################################################################
##############################################################################
###
### Running command:
###
### /home/biocbuild/bbs-3.8-bioc/R/bin/R CMD check --install=check:lungExpression.install-out.txt --library=/home/biocbuild/bbs-3.8-bioc/R/library --no-vignettes --timings lungExpression_0.20.0.tar.gz
###
##############################################################################
##############################################################################
* using log directory ‘/home/biocbuild/bbs-3.8-data-experiment/meat/lungExpression.Rcheck’
* using R version 3.5.3 (2019-03-11)
* using platform: x86_64-pc-linux-gnu (64-bit)
* using session charset: UTF-8
* using option ‘--no-vignettes’
* checking for file ‘lungExpression/DESCRIPTION’ ... OK
* this is package ‘lungExpression’ version ‘0.20.0’
* checking package namespace information ... OK
* checking package dependencies ... OK
* checking if this is a source package ... OK
* checking if there is a namespace ... OK
* checking for hidden files and directories ... OK
* checking for portable file names ... OK
* checking for sufficient/correct file permissions ... OK
* checking whether package ‘lungExpression’ can be installed ... OK
* checking installed package size ... NOTE
installed size is 5.8Mb
sub-directories of 1Mb or more:
data 5.7Mb
* checking package directory ... OK
* checking DESCRIPTION meta-information ... NOTE
Malformed Description field: should contain one or more complete sentences.
* checking top-level files ... OK
* checking for left-over files ... OK
* checking index information ... OK
* checking package subdirectories ... OK
* checking whether the package can be loaded ... OK
* checking whether the package can be loaded with stated dependencies ... OK
* checking whether the package can be unloaded cleanly ... OK
* checking whether the namespace can be loaded with stated dependencies ... OK
* checking whether the namespace can be unloaded cleanly ... OK
* checking Rd files ... NOTE
prepare_Rd: harvard.Rd:10-11: Dropping empty section \format
prepare_Rd: harvard.Rd:17-18: Dropping empty section \source
prepare_Rd: michigan.Rd:10-11: Dropping empty section \format
prepare_Rd: michigan.Rd:17-18: Dropping empty section \source
prepare_Rd: stanford.Rd:9-10: Dropping empty section \format
prepare_Rd: stanford.Rd:16-18: Dropping empty section \source
* checking Rd metadata ... OK
* checking Rd cross-references ... OK
* checking for missing documentation entries ... OK
* checking for code/documentation mismatches ... OK
* checking Rd \usage sections ... OK
* checking Rd contents ... OK
* checking for unstated dependencies in examples ... OK
* checking contents of ‘data’ directory ... OK
* checking data for non-ASCII characters ... OK
* checking data for ASCII and uncompressed saves ... OK
* checking examples ... OK
* checking PDF version of manual ... OK
* DONE
Status: 3 NOTEs
See
‘/home/biocbuild/bbs-3.8-data-experiment/meat/lungExpression.Rcheck/00check.log’
for details.
lungExpression.Rcheck/00install.out
############################################################################## ############################################################################## ### ### Running command: ### ### /home/biocbuild/bbs-3.8-bioc/R/bin/R CMD INSTALL lungExpression ### ############################################################################## ############################################################################## * installing to library ‘/home/biocbuild/bbs-3.8-bioc/R/library’ * installing *source* package ‘lungExpression’ ... ** data ** help *** installing help indices ** building package indices ** testing if installed package can be loaded * DONE (lungExpression)
lungExpression.Rcheck/lungExpression-Ex.timings
| name | user | system | elapsed | |
| harvard | 0.044 | 0.008 | 0.051 | |
| michigan | 0.028 | 0.000 | 0.027 | |
| stanford | 0.012 | 0.004 | 0.017 | |