| Back to Multiple platform build/check report for BioC 3.8 experimental data |
This page was generated on 2019-04-16 15:26:04 -0400 (Tue, 16 Apr 2019).
| Package 27/360 | Hostname | OS / Arch | INSTALL | BUILD | CHECK | BUILD BIN | ||||||
| bladderbatch 1.20.0 Jeffrey T. Leek
| malbec1 | Linux (Ubuntu 16.04.6 LTS) / x86_64 | OK | [ OK ] | WARNINGS |
| Package: bladderbatch |
| Version: 1.20.0 |
| Command: /home/biocbuild/bbs-3.8-bioc/R/bin/R CMD build --keep-empty-dirs --no-resave-data bladderbatch |
| StartedAt: 2019-04-16 12:22:59 -0400 (Tue, 16 Apr 2019) |
| EndedAt: 2019-04-16 12:23:03 -0400 (Tue, 16 Apr 2019) |
| EllapsedTime: 4.0 seconds |
| RetCode: 0 |
| Status: OK |
| PackageFile: bladderbatch_1.20.0.tar.gz |
| PackageFileSize: 9.208 MiB |
############################################################################## ############################################################################## ### ### Running command: ### ### /home/biocbuild/bbs-3.8-bioc/R/bin/R CMD build --keep-empty-dirs --no-resave-data bladderbatch ### ############################################################################## ############################################################################## * checking for file ‘bladderbatch/DESCRIPTION’ ... OK * preparing ‘bladderbatch’: * checking DESCRIPTION meta-information ... OK * checking whether ‘INDEX’ is up-to-date ... NO * use ‘--force’ to remove the existing ‘INDEX’ * installing the package to build vignettes * creating vignettes ... OK * checking for LF line-endings in source and make files and shell scripts * checking for empty or unneeded directories * looking to see if a ‘data/datalist’ file should be added * building ‘bladderbatch_1.20.0.tar.gz’