| Back to Multiple platform build/check report for BioC 3.8 experimental data |
This page was generated on 2019-04-16 15:26:18 -0400 (Tue, 16 Apr 2019).
| Package 337/360 | Hostname | OS / Arch | INSTALL | BUILD | CHECK | BUILD BIN | ||||||
| TCGAWorkflowData 1.6.0 Tiago Chedraoui Silva
| malbec1 | Linux (Ubuntu 16.04.6 LTS) / x86_64 | OK | OK | [ OK ] |
| Package: TCGAWorkflowData |
| Version: 1.6.0 |
| Command: /home/biocbuild/bbs-3.8-bioc/R/bin/R CMD check --install=check:TCGAWorkflowData.install-out.txt --library=/home/biocbuild/bbs-3.8-bioc/R/library --no-vignettes --timings TCGAWorkflowData_1.6.0.tar.gz |
| StartedAt: 2019-04-16 14:08:27 -0400 (Tue, 16 Apr 2019) |
| EndedAt: 2019-04-16 14:14:36 -0400 (Tue, 16 Apr 2019) |
| EllapsedTime: 368.9 seconds |
| RetCode: 0 |
| Status: OK |
| CheckDir: TCGAWorkflowData.Rcheck |
| Warnings: 0 |
##############################################################################
##############################################################################
###
### Running command:
###
### /home/biocbuild/bbs-3.8-bioc/R/bin/R CMD check --install=check:TCGAWorkflowData.install-out.txt --library=/home/biocbuild/bbs-3.8-bioc/R/library --no-vignettes --timings TCGAWorkflowData_1.6.0.tar.gz
###
##############################################################################
##############################################################################
* using log directory ‘/home/biocbuild/bbs-3.8-data-experiment/meat/TCGAWorkflowData.Rcheck’
* using R version 3.5.3 (2019-03-11)
* using platform: x86_64-pc-linux-gnu (64-bit)
* using session charset: UTF-8
* using option ‘--no-vignettes’
* checking for file ‘TCGAWorkflowData/DESCRIPTION’ ... OK
* this is package ‘TCGAWorkflowData’ version ‘1.6.0’
* checking package namespace information ... OK
* checking package dependencies ... OK
* checking if this is a source package ... OK
* checking if there is a namespace ... OK
* checking for hidden files and directories ... OK
* checking for portable file names ... OK
* checking for sufficient/correct file permissions ... OK
* checking whether package ‘TCGAWorkflowData’ can be installed ... OK
* checking installed package size ... NOTE
installed size is 76.2Mb
sub-directories of 1Mb or more:
data 76.1Mb
* checking package directory ... OK
* checking ‘build’ directory ... OK
* checking DESCRIPTION meta-information ... OK
* checking top-level files ... OK
* checking for left-over files ... OK
* checking index information ... OK
* checking package subdirectories ... OK
* checking R files for non-ASCII characters ... OK
* checking R files for syntax errors ... OK
* checking whether the package can be loaded ... OK
* checking whether the package can be loaded with stated dependencies ... OK
* checking whether the package can be unloaded cleanly ... OK
* checking whether the namespace can be loaded with stated dependencies ... OK
* checking whether the namespace can be unloaded cleanly ... OK
* checking dependencies in R code ... OK
* checking S3 generic/method consistency ... OK
* checking replacement functions ... OK
* checking foreign function calls ... OK
* checking R code for possible problems ... OK
* checking Rd files ... OK
* checking Rd metadata ... OK
* checking Rd cross-references ... OK
* checking for missing documentation entries ... OK
* checking for code/documentation mismatches ... OK
* checking Rd \usage sections ... OK
* checking Rd contents ... OK
* checking for unstated dependencies in examples ... OK
* checking contents of ‘data’ directory ... OK
* checking data for non-ASCII characters ... OK
* checking data for ASCII and uncompressed saves ... OK
* checking files in ‘vignettes’ ... OK
* checking examples ... OK
Examples with CPU or elapsed time > 5s
user system elapsed
TCGAWorkflowData 38.168 0.264 38.470
tmp.biogrid 12.940 0.060 13.006
GBMmut 12.788 0.088 12.882
LGGmut 12.128 0.048 12.184
mut 11.900 0.052 11.960
* checking for unstated dependencies in ‘tests’ ... OK
* checking tests ...
Running ‘testthat.R’
OK
* checking for unstated dependencies in vignettes ... OK
* checking package vignettes in ‘inst/doc’ ... OK
* checking running R code from vignettes ... SKIPPED
* checking re-building of vignette outputs ... SKIPPED
* checking PDF version of manual ... OK
* DONE
Status: 1 NOTE
See
‘/home/biocbuild/bbs-3.8-data-experiment/meat/TCGAWorkflowData.Rcheck/00check.log’
for details.
TCGAWorkflowData.Rcheck/00install.out
############################################################################## ############################################################################## ### ### Running command: ### ### /home/biocbuild/bbs-3.8-bioc/R/bin/R CMD INSTALL TCGAWorkflowData ### ############################################################################## ############################################################################## * installing to library ‘/home/biocbuild/bbs-3.8-bioc/R/library’ * installing *source* package ‘TCGAWorkflowData’ ... ** R ** data ** byte-compile and prepare package for lazy loading ** help *** installing help indices ** building package indices ** installing vignettes ** testing if installed package can be loaded * DONE (TCGAWorkflowData)
TCGAWorkflowData.Rcheck/tests/testthat.Rout
R version 3.5.3 (2019-03-11) -- "Great Truth"
Copyright (C) 2019 The R Foundation for Statistical Computing
Platform: x86_64-pc-linux-gnu (64-bit)
R is free software and comes with ABSOLUTELY NO WARRANTY.
You are welcome to redistribute it under certain conditions.
Type 'license()' or 'licence()' for distribution details.
R is a collaborative project with many contributors.
Type 'contributors()' for more information and
'citation()' on how to cite R or R packages in publications.
Type 'demo()' for some demos, 'help()' for on-line help, or
'help.start()' for an HTML browser interface to help.
Type 'q()' to quit R.
> library(testthat)
> library(TCGAWorkflowData)
>
> test_check("TCGAWorkflowData")
══ testthat results ═══════════════════════════════════════════════════════════
OK: 1 SKIPPED: 0 FAILED: 0
>
> proc.time()
user system elapsed
42.776 0.708 43.540
TCGAWorkflowData.Rcheck/TCGAWorkflowData-Ex.timings
| name | user | system | elapsed | |
| GBMmut | 12.788 | 0.088 | 12.882 | |
| LGGmut | 12.128 | 0.048 | 12.184 | |
| TCGAWorkflowData | 38.168 | 0.264 | 38.470 | |
| cnvMatrix | 0.008 | 0.000 | 0.007 | |
| exp | 0.508 | 0.008 | 0.517 | |
| gbm.exp | 0.396 | 0.004 | 0.400 | |
| gbm.samples | 0.584 | 0.024 | 0.607 | |
| genes | 0.180 | 0.008 | 0.190 | |
| genes_GR | 0.172 | 0.000 | 0.169 | |
| gistic.allbygene | 0.004 | 0.000 | 0.006 | |
| gistic.thresholedbygene | 0.008 | 0.000 | 0.006 | |
| histone.marks | 1.212 | 0.052 | 1.267 | |
| lgg.exp | 0.580 | 0.004 | 0.582 | |
| lgg.samples | 0.488 | 0.008 | 0.495 | |
| markersMatrix | 2.840 | 0.056 | 2.896 | |
| met | 0.540 | 0.016 | 0.556 | |
| mut | 11.900 | 0.052 | 11.960 | |
| tmp.biogrid | 12.940 | 0.060 | 13.006 | |